BEGIN:VCALENDAR
VERSION:2.0
PRODID:-//El Arc - ECPv6.15.20//NONSGML v1.0//EN
CALSCALE:GREGORIAN
METHOD:PUBLISH
X-WR-CALNAME:El Arc
X-ORIGINAL-URL:https://elarcdecalifornia.org
X-WR-CALDESC:Eventos para El Arc
REFRESH-INTERVAL;VALUE=DURATION:PT1H
X-Robots-Tag:noindex
X-PUBLISHED-TTL:PT1H
BEGIN:VTIMEZONE
TZID:America/Los_Angeles
BEGIN:DAYLIGHT
TZOFFSETFROM:-0800
TZOFFSETTO:-0700
TZNAME:PDT
DTSTART:20220313T100000
END:DAYLIGHT
BEGIN:STANDARD
TZOFFSETFROM:-0700
TZOFFSETTO:-0800
TZNAME:PST
DTSTART:20221106T090000
END:STANDARD
BEGIN:DAYLIGHT
TZOFFSETFROM:-0800
TZOFFSETTO:-0700
TZNAME:PDT
DTSTART:20230312T100000
END:DAYLIGHT
BEGIN:STANDARD
TZOFFSETFROM:-0700
TZOFFSETTO:-0800
TZNAME:PST
DTSTART:20231105T090000
END:STANDARD
BEGIN:DAYLIGHT
TZOFFSETFROM:-0800
TZOFFSETTO:-0700
TZNAME:PDT
DTSTART:20240310T100000
END:DAYLIGHT
BEGIN:STANDARD
TZOFFSETFROM:-0700
TZOFFSETTO:-0800
TZNAME:PST
DTSTART:20241103T090000
END:STANDARD
END:VTIMEZONE
BEGIN:VEVENT
DTSTART;TZID=America/Los_Angeles:20230927T100000
DTEND;TZID=America/Los_Angeles:20230927T113000
DTSTAMP:20260421T155911
CREATED:20230913T154137Z
LAST-MODIFIED:20230913T154137Z
UID:10000926-1695808800-1695814200@elarcdecalifornia.org
SUMMARY:¡DATOS HACE QUE EL MUNDO DE SERVICIOS GIRE!
DESCRIPTION:Únete a María y Martha\, madres de niños con necesidades especiales\, cofundadoras de GANAS\, y profesionales en el campo \nABA (CAMPO BASADO EN DATOS). \nVenga a aprender cómo puede usar los datos como una herramienta \n¡FUERTE para conectar a su ser querido con servicios apropiados! \n\n\n\n\nNúmero de junta de Zoom/Zoom ID: 871 5922 2714
URL:https://elarcdecalifornia.org/evento/datos-hace-que-el-mundo-de-servicios-gire/
ATTACH;FMTTYPE=image/jpeg:https://elarcdecalifornia.org/wp-content/uploads/2023/09/2.jpg
END:VEVENT
BEGIN:VEVENT
DTSTART;TZID=America/Los_Angeles:20230926T183000
DTEND;TZID=America/Los_Angeles:20230926T193000
DTSTAMP:20260421T155911
CREATED:20230830T222339Z
LAST-MODIFIED:20230831T154820Z
UID:10000893-1695753000-1695756600@elarcdecalifornia.org
SUMMARY:Comprendiendo el proceso de IEP: Un Guía para padres sobre la colaboración y éxito.
DESCRIPTION:La serie se llevará a cabo en varios días: ¡Por favor lea el volante para los múltiples temas que presentaremos!. PRESENTADO POR: DESCRIPCIÓN GENERAL DE LA EDUCACIÓN ESPECIAL Y EL IEP. Lauren Black\, Ed. S. COMPRENSIÓN DE LAS EVALUACIONES. PROCESO DEL IEP: ¿CÓMO ME PREPARO PARA LA REUNIÓN DE IEP? \n12 de septiembre\, 26 de septiembre.\n6:30 PM (Hora de pacifico). \nDetalles\nRegistrarse
URL:https://elarcdecalifornia.org/evento/comprendiendo-el-proceso-de-iep-un-guia-para-padres-sobre-la-colaboracion-y-exito/2023-09-26/
END:VEVENT
BEGIN:VEVENT
DTSTART;TZID=America/Los_Angeles:20230926T100000
DTEND;TZID=America/Los_Angeles:20230926T233000
DTSTAMP:20260421T155911
CREATED:20230920T162508Z
LAST-MODIFIED:20230920T162508Z
UID:10000934-1695722400-1695771000@elarcdecalifornia.org
SUMMARY:Diferentes maneras de pensar\, Diferentes maneras de aprender
DESCRIPTION:Clases para padres de niños con discapacidades \nEN COLABORACIÓN CON LEARNING RIGHTS LAW CENTER \nCADA CUARTO MARTES DEL MES DE 10:00 AM A 11:30 AM \nLAS CLASES SE PRESENTARÁN EN ESPAÑOL CON INTERPRETACIÓN AL INGLÉS \nPRESENTADO POR MARIANA LEÑERO SOLAR \nhttps://us06web.zoom.us/j/85787125297 \nTeléfono: 669-900-6833 \nID de la reunión: 857 8712 5297 \nContraseña: 499047
URL:https://elarcdecalifornia.org/evento/diferentes-maneras-de-pensar-diferentes-maneras-de-aprender/2023-09-26/
CATEGORIES:Entrenamientos por zoom
ATTACH;FMTTYPE=image/jpeg:https://elarcdecalifornia.org/wp-content/uploads/2023/09/Unknown-1.jpeg
END:VEVENT
BEGIN:VEVENT
DTSTART;TZID=America/Los_Angeles:20230925T100000
DTEND;TZID=America/Los_Angeles:20230925T110000
DTSTAMP:20260421T155911
CREATED:20230907T214108Z
LAST-MODIFIED:20230907T214109Z
UID:10000249-1695636000-1695639600@elarcdecalifornia.org
SUMMARY:Entrenamientos Estatales de SCDD del año 2023
DESCRIPTION:¡Nos Vemos en ZOOM!! ¡Todos los entrenamientos usarán el mismo número de juntas y contraseña todo el año! Los entrenamientos se darán en series de temas y serán ofrecidos en español. Vea las fechas y temas correspondientes en el volante. Número de Junta: 829-8230-7774 Contraseña: 123456. Para participar por teléfono\, llame al (888) 475-4499 e ingrese el número de juntas y contraseña. Para más información: (818) 543-4636 o Sofia.Cervantes@scdd.ca.gov \nLos lunes\n10:00 AM (Hora del pacífico) \nDetalles\nRegistrarse
URL:https://elarcdecalifornia.org/evento/test-event-2/2023-09-25/
CATEGORIES:Entrenamientos por zoom
END:VEVENT
BEGIN:VEVENT
DTSTART;TZID=America/Los_Angeles:20230923T100000
DTEND;TZID=America/Los_Angeles:20230923T120000
DTSTAMP:20260421T155911
CREATED:20230830T214832Z
LAST-MODIFIED:20230906T184652Z
UID:10000122-1695463200-1695470400@elarcdecalifornia.org
SUMMARY:EL ROL DE SCDD Y CON ES EL PLAN CENTRADO EN LA PERSONA (PCP)
DESCRIPTION:Acompáñenos para aprender el rol del Concilio Estatal de Discapacidades de Desarrollo\, (SCDD\, por las siglas en inglés) y como ellos pueden ayudarle a usted en su abogacía. También\, hablaremos sobre qué es un plan centrado en la persona (PCP\, por sus siglas en inglés y español) y cómo desarrollarlo. Discutiremos que responsabilidad hay al tomar decisiones con apoyo y como afectan el PCP\, y cómo se puede usar para desarrollar otros planes como el IPP\, IEP\, etc. Regístrese en: www.congresofamiliar.org \n23 de septiembre\n10:00 AM – 12:00 PM (Hora del pacífico) \nDetalles\nRegistrarse
URL:https://elarcdecalifornia.org/evento/el-rol-de-scdd-y-con-es-el-plan-centrado-en-la-persona-pcp/
CATEGORIES:Eventos y entrenamientos en persona
END:VEVENT
BEGIN:VEVENT
DTSTART;TZID=America/Los_Angeles:20230923T090000
DTEND;TZID=America/Los_Angeles:20230923T140000
DTSTAMP:20260421T155911
CREATED:20230907T164343Z
LAST-MODIFIED:20230907T164343Z
UID:10000921-1695459600-1695477600@elarcdecalifornia.org
SUMMARY:Encuentro de Promotores
DESCRIPTION:Floreciendo en Comunidad \nEvento Gratuito en Español \nTalleres de: \nInmigración y Salud Mental \nAlmuerzo\, Rifas\, y Recursos \nComunitarios \nRegistrese antes del 20 de septiembre \n\n\n\n\n9 AM-2 PM \n9/23/23 \n625 COURT ST. \nWOODLAND CA
URL:https://elarcdecalifornia.org/evento/encuentro-de-promotores/
ATTACH;FMTTYPE=image/png:https://elarcdecalifornia.org/wp-content/uploads/2023/09/Screenshot-2023-09-07-at-9.35.38-AM.png
END:VEVENT
BEGIN:VEVENT
DTSTART;TZID=America/Los_Angeles:20230919T170000
DTEND;TZID=America/Los_Angeles:20230919T193000
DTSTAMP:20260421T155911
CREATED:20230830T222704Z
LAST-MODIFIED:20230831T155042Z
UID:10000894-1695142800-1695151800@elarcdecalifornia.org
SUMMARY:Grupo de Apoyo Ángeles Sin Límites
DESCRIPTION:Cordial Invitación a las Reuniones Mensuales. Temas: 1- Como Escribir Cartas al Distrito Escolar – 7/18/23. 2. Apelaciones y Audiencias del Centro Regional – 9/19/23. Presenta: Mary Ríos\, Senior Advocate Disability Rights California (DRC). Id de Reunión: 868 5505 2837. Clave: 585704. Después de registrarse\, recibirá un correo electrónico de confirmación con información sobre cómo unirse a la reunión. Esperamos nos acompañe \n19 de septiembre\n5:00 PM- 7:30 PM. (Hora del pacifico). \nDetalles\nRegistrarse
URL:https://elarcdecalifornia.org/evento/grupo-de-apoyo-angeles-sin-limites/
END:VEVENT
BEGIN:VEVENT
DTSTART;TZID=America/Los_Angeles:20230918T100000
DTEND;TZID=America/Los_Angeles:20230918T110000
DTSTAMP:20260421T155911
CREATED:20230907T214108Z
LAST-MODIFIED:20230907T214109Z
UID:10000248-1695031200-1695034800@elarcdecalifornia.org
SUMMARY:Entrenamientos Estatales de SCDD del año 2023
DESCRIPTION:¡Nos Vemos en ZOOM!! ¡Todos los entrenamientos usarán el mismo número de juntas y contraseña todo el año! Los entrenamientos se darán en series de temas y serán ofrecidos en español. Vea las fechas y temas correspondientes en el volante. Número de Junta: 829-8230-7774 Contraseña: 123456. Para participar por teléfono\, llame al (888) 475-4499 e ingrese el número de juntas y contraseña. Para más información: (818) 543-4636 o Sofia.Cervantes@scdd.ca.gov \nLos lunes\n10:00 AM (Hora del pacífico) \nDetalles\nRegistrarse
URL:https://elarcdecalifornia.org/evento/test-event-2/2023-09-18/
CATEGORIES:Entrenamientos por zoom
END:VEVENT
BEGIN:VEVENT
DTSTART;TZID=America/Los_Angeles:20230918T100000
DTEND;TZID=America/Los_Angeles:20230918T110000
DTSTAMP:20260421T155911
CREATED:20230830T220932Z
LAST-MODIFIED:20230830T224205Z
UID:10000626-1695031200-1695034800@elarcdecalifornia.org
SUMMARY:Entrenamientos Estatales de SCDD SEPTIEMBRE y OCTUBRE 2023
DESCRIPTION:El Proceso de Leyes Y presupuesto de California y Como Tomar Acción.  Acompáñenos para comprender como los proyectos de ley se convierten en leyes\, como se desarrolla el presupuesto estatal y oportunidades de abogacía para mejorarlos.  18 de septiembre\, alas 10 AM.  Como Dar Testimonio Público.  Venga y aprenda cómo dar testimonio público a las personas que hacen las leyes\, a las mesas directivas\, los comités\, y como influir en las políticas públicas. 2 de octubre\, alas 10 AM. Como Ser Un Miembro Efectivo de una Mesa Directiva. ¿Tiene curiosidad sobre que hace un miembro de la mesa directiva? ¿Está interesado en convertirse en miembro?! ¡Únase a nosotros para aprender más! 16 de octubre\, alas 10 AM.  \n18 de septiembre\, 2 de octubre\, 16 de octubre.\n10:00 AM (Hora del pacifico) \nDetalles\nRegistrarse
URL:https://elarcdecalifornia.org/evento/entrenamientos-estatales-de-scdd-septiembre-y-octubre-2023/2023-09-18/
END:VEVENT
BEGIN:VEVENT
DTSTART;TZID=America/Los_Angeles:20230916T070000
DTEND;TZID=America/Los_Angeles:20230916T160000
DTSTAMP:20260421T155911
CREATED:20230830T223606Z
LAST-MODIFIED:20230831T154941Z
UID:10000905-1694847600-1694880000@elarcdecalifornia.org
SUMMARY:Exceptional Family Center Early Start Resource Center
DESCRIPTION:Exceptional Family Center Early Start Resource Center Presenta la 14a. Conferencia Anual en español de discapacidades del desarrollo. Desarrollando el potencial en personas con discapacidades del desarrollo. Para registrarse\, por favor\, Abra el folleto y escanee el código QR. El evento será en Bakersfield Marriott en el Centro de Convenciones 801 Truxtun Ave. Bakersfield\, CA 93301. El Costo para atender es $120 por asistente. Consumidores del Centro Regional de Kern: KRC patrocinará a 2 asistentes. La cuota de inscripción no es reembolsable. Para más información o para registrarse por favor llame a Manuel Flores al (661) 873-4973 o por correo electrónico a m.flores@kernefc.org. Registraciones no serán aceptadas después de septiembre 1\, 2023. \n16 de septiembre\n7:00 AM – 4:00 PM \nDetalles\nRegistrarse
URL:https://elarcdecalifornia.org/evento/exceptional-family-center-early-start-resource-center/
END:VEVENT
BEGIN:VEVENT
DTSTART;VALUE=DATE:20230916
DTEND;VALUE=DATE:20230917
DTSTAMP:20260421T155911
CREATED:20230830T220232Z
LAST-MODIFIED:20230830T224057Z
UID:10000565-1694822400-1694908799@elarcdecalifornia.org
SUMMARY:“Entendiendo los desordenes de comportamiento"
DESCRIPTION:Exceptional Family Center. Presenta 14a conferencia anual de discapacidades del Desarrollo en Español “desarrollando el potencial en personas con discapacidades del Desarrollo.” Sábado 16 de Septiembre\, 2023 Bakersfield Marriott at the Convention Center 801 Truxtun Ave\, Bakersfield\, CA 93301 ORADORA: Mariana Leñero Neuropsicologa. ¡Mesas de información\, almuerzo\, talleres\, entretenimiento\, Premios\, rifas y más! Para más información\, favor de llamar a Exceptional Family Center al 661-873-4973 www.kernefc.org. \n16 de septiembre  \nDetalles\nRegistrarse
URL:https://elarcdecalifornia.org/evento/entendiendo-los-desordenes-de-comportamiento/
END:VEVENT
BEGIN:VEVENT
DTSTART;TZID=America/Los_Angeles:20230914T180000
DTEND;TZID=America/Los_Angeles:20230914T200000
DTSTAMP:20260421T155912
CREATED:20230913T161537Z
LAST-MODIFIED:20230913T161537Z
UID:10000931-1694714400-1694721600@elarcdecalifornia.org
SUMMARY:Charlas de Café Herramientas para sus IEPs
DESCRIPTION:¡No es demasiado tarde para registrarse y unirse a nosotros en Zoom para el próximo Taller de herramientas del IEP para padres del RCOC!
URL:https://elarcdecalifornia.org/evento/charlas-de-cafe-herramientas-para-sus-ieps/
CATEGORIES:Entrenamientos por zoom
ATTACH;FMTTYPE=image/png:https://elarcdecalifornia.org/wp-content/uploads/2023/09/Unknown-4.png
END:VEVENT
BEGIN:VEVENT
DTSTART;TZID=America/Los_Angeles:20230914T170000
DTEND;TZID=America/Los_Angeles:20230914T190000
DTSTAMP:20260421T155912
CREATED:20230830T221600Z
LAST-MODIFIED:20230831T153558Z
UID:10000889-1694710800-1694718000@elarcdecalifornia.org
SUMMARY:SERVICIOS SOCIALES Y RECREATIVOS
DESCRIPTION:PRIMERA SESIÓN: MARTES\, 29 DE AGOSTO\, 2:00 PM- 4:00  PM Lo último sobre estos servicios disponibles para clientes del centro regional. El centro regional del este de la bahía responderá a sus inquietudes sobre como acceder estos servicios y hablaremos sobre los retos y posibilidades existentes. SEGUNDA SESIÓN: JUEVES\, 14 DE SEPTIEMBRE 5:00 PM- 7:00 PM En esta presentación se hablará de como funciona el servicio de recreación social con la organización de 24 Hour Home Care. Estaremos hablando sobre qué actividades se pueden hacer en el programa\, los requerimientos para los que quieren ayudar a sus seres queridos con el programa\, y ejemplos de familias que ya están utilizando el servicio. \n14 de septiembre\n5:00 PM- 7:00 PM (Hora del pacífico) \nDetalles\nRegistrarse
URL:https://elarcdecalifornia.org/evento/servicios-sociales-y-recreativos/2023-09-14/
END:VEVENT
BEGIN:VEVENT
DTSTART;TZID=America/Los_Angeles:20230914T090000
DTEND;TZID=America/Los_Angeles:20230914T110000
DTSTAMP:20260421T155912
CREATED:20230830T215338Z
LAST-MODIFIED:20230907T212116Z
UID:10000186-1694682000-1694689200@elarcdecalifornia.org
SUMMARY:Tele ECHO Autismo
DESCRIPTION:¡Nuevo formato híbrido que conecta familias\, ! profesionales al cuidado del autismo con un grupo de expertos localizados en nuestro centro académico de excelencia del cuidado del autismo Todos colaboran\, todos aprenden y mejoran el cuidado de personas con autismo! ¡ECHO Autismo mueve el conocimiento\, no a los pacientes! Sin ningún costo. \nSegundo Jueves de cada mes\n9:00 AM- 11:00 AM (Hora del pacifico) \nDetalles\nRegistrarse
URL:https://elarcdecalifornia.org/evento/tele-echo-autismo/2023-09-14/
CATEGORIES:Entrenamientos por zoom
END:VEVENT
BEGIN:VEVENT
DTSTART;TZID=America/Los_Angeles:20230914T090000
DTEND;TZID=America/Los_Angeles:20230914T103000
DTSTAMP:20260421T155912
CREATED:20230913T161155Z
LAST-MODIFIED:20230913T161216Z
UID:10000930-1694682000-1694687400@elarcdecalifornia.org
SUMMARY:AUTISMO Y ANSIEDAD  PRESENTADO POR:  DR. JOSEPH ARMENDAREZ
DESCRIPTION:¿Es usted un proveedor o familiar de una persona con autismo que está interesado en unirse a una comunidad de aprendizaje interactivo que promueve el desarrollo profesional a través de la discusión de casos? El programa ECHO Autismo y nuestro grupo de expertos del UC Davis Instituto MIND ofrece seis nuevas sesiones de junio a diciembre\, cada segundo jueves de cada mes de 9 a.m. 11 a. m. (Pacífico). Las nuevas sesiones\, que se ofrecen de forma gratuita y se centrarán en los tópicos que previos participantes querían escuchar más. \nECHO Autismo \nPara más información o para registrarse\, contáctenos en \nhs-echoautism@ucdavis.edu \nLas sesiones se llevarán a cabo el segundo jueves \nde cada mes de 9:00 a 10:30 a.m. hora del pacífico (PST) \nRegístrese en línea
URL:https://elarcdecalifornia.org/evento/autismo-y-ansiedad-presentado-por-dr-joseph-armendarez/
CATEGORIES:Entrenamientos por zoom
ATTACH;FMTTYPE=image/png:https://elarcdecalifornia.org/wp-content/uploads/2023/09/Unknown-3-1.png
END:VEVENT
BEGIN:VEVENT
DTSTART;TZID=America/Los_Angeles:20230913T190000
DTEND;TZID=America/Los_Angeles:20230913T200000
DTSTAMP:20260421T155912
CREATED:20230830T212845Z
LAST-MODIFIED:20230907T223659Z
UID:10000059-1694631600-1694635200@elarcdecalifornia.org
SUMMARY:Hermanos Apoyando Hermanos
DESCRIPTION:Hermanos mayores de 18 años. Favor de registrarse par recibir el enlace de Zoom con Lorena o Javier 501-937-0208 \nSegundo Miércoles de cada mes\n7:00 PM (Hora del Pacífico) \nDetalles\nRegistrarse
URL:https://elarcdecalifornia.org/evento/hermanos-apoyando-hermanos/2023-09-13/
CATEGORIES:Grupo de apoyos
END:VEVENT
BEGIN:VEVENT
DTSTART;TZID=America/Los_Angeles:20230913T160000
DTEND;TZID=America/Los_Angeles:20230913T170000
DTSTAMP:20260421T155912
CREATED:20230913T160856Z
LAST-MODIFIED:20230913T160856Z
UID:10000929-1694620800-1694624400@elarcdecalifornia.org
SUMMARY:Trazando sueños: La transición a la vida independiente
DESCRIPTION:¿Se ha preguntado qué pueden hacer los padres para ayudar a planificar la transición de su hijo de la escuela secundaria a una vida independiente? \nÚnase a nosotros para conocer los recursos y la información que lo ayudarán a trabajar con su hijo para tomar decisiones sobre la planificación de la vida después de la escuela secundaria.
URL:https://elarcdecalifornia.org/evento/trazando-suenos-la-transicion-a-la-vida-independiente/
CATEGORIES:Entrenamientos por zoom
ATTACH;FMTTYPE=image/png:https://elarcdecalifornia.org/wp-content/uploads/2023/09/Unknown-2.png
END:VEVENT
BEGIN:VEVENT
DTSTART;TZID=America/Los_Angeles:20230913T120000
DTEND;TZID=America/Los_Angeles:20230913T130000
DTSTAMP:20260421T155912
CREATED:20230913T160649Z
LAST-MODIFIED:20230913T160649Z
UID:10000928-1694606400-1694610000@elarcdecalifornia.org
SUMMARY:Grupo de Apoyo Sobre Autismo (Septiembre)
DESCRIPTION:Únase a nosotros para conectarse con otras familias como la suya. \nEsta es una reunión de grupo de apoyo\, tú propones el tema. Es un buen momento para reunirse y aprender unos de otros mientras las familias navegan por nuestra vida diaria. ¿Necesita nuevas ideas de personas que entienden las complicaciones de su vida? De todos modos\, esta reunión será buena para compartir y cuidarse unos a otros. ¡Las nuevas familias y cuidadores siempre son bienvenidos!
URL:https://elarcdecalifornia.org/evento/grupo-de-apoyo-sobre-autismo-septiembre/
CATEGORIES:Grupo de apoyos
ATTACH;FMTTYPE=image/png:https://elarcdecalifornia.org/wp-content/uploads/2023/09/Unknown-2.png
END:VEVENT
BEGIN:VEVENT
DTSTART;TZID=America/Los_Angeles:20230913T100000
DTEND;TZID=America/Los_Angeles:20230913T110000
DTSTAMP:20260421T155912
CREATED:20230907T235036Z
LAST-MODIFIED:20230907T235036Z
UID:10000923-1694599200-1694602800@elarcdecalifornia.org
SUMMARY:Reunión del Comité Asesor Regional (RA)
DESCRIPTION:Reunión del RAC que se llevará a cabo en Taft\, CA en el Programa de Transición a la Vida Independiente (TIL) de Taft College. ¡Organizaremos la primera hora con la opción de Zoom en línea para aquellos que no puedan realizar el viaje! Luego se nos dará un recorrido por el programa. Regístrese si planea asistir en persona o en línea\, ya que hay información adicional que tendremos que proporcionar a quienes asistan en persona. También tenemos que proporcionar un recuento de personas al programa. Comuníquese con cualquier pregunta que pueda tener.\n\nHORA: 10:00 am – MEDIODÍA – En línea o en persona de 10:00 am a 11:00 pm Tour en persona 11:00 am – 12:00 pm \n         LUGAR DE LA REUNIÓN: Taft College/ \nCentro para la Vida Independiente 29 Cougar Ct. Taft Ca. 93268 CORAZONES. \nConnection\, 4500 California Ave.\, Bakersfield\, CA 93309 \nReedley College\, 995 N Reed Avenue\, Reedley\, CA \n93654 RICV\, 425 E Oak Ave\, Visalia CA\, Suite 101 \n30733 E. Kings Canyon Rd. Valle de Squaw\, California. 93675 \n5100 Calle Lingotes. Mariposa\, CA 95338 \n*Opción en línea* Debe tener la dirección publicada arriba para ser contado como presente si es miembro de RAC. Los miembros de la comunidad pueden unirse en línea desde cualquier ubicación\, pero deben ser una de las direcciones publicadas si desean que se documenten los comentarios públicos. Si planea asistir en persona\, debe notificar al personal de la oficina con anticipación. \n\n\nSi desea recorrer el programa TIL en Taft\, regístrese y luego asegúrese de enviar un correo electrónico a Heather.Kroencke@scdd.ca.gov para que podamos brindarle información pertinente para la parte en persona de la reunión. ¡Espero que veas a algunos de ustedes allí! Compártalo con cualquier persona que sea padre/cuidador de un defensor en el grupo de edad de transición o cualquier persona que trabaje dentro de ese rango de edad. ¡Es un gran programa!\n\n\n\nGracias\, Oficina Regional de Secuoyas
URL:https://elarcdecalifornia.org/evento/reunion-del-comite-asesor-regional-ra/
ATTACH;FMTTYPE=image/png:https://elarcdecalifornia.org/wp-content/uploads/2023/09/Screenshot-2023-09-07-at-4.31.09-PM.png
END:VEVENT
BEGIN:VEVENT
DTSTART;TZID=America/Los_Angeles:20230912T183000
DTEND;TZID=America/Los_Angeles:20230912T193000
DTSTAMP:20260421T155912
CREATED:20230830T222339Z
LAST-MODIFIED:20230831T154820Z
UID:10000892-1694543400-1694547000@elarcdecalifornia.org
SUMMARY:Comprendiendo el proceso de IEP: Un Guía para padres sobre la colaboración y éxito.
DESCRIPTION:La serie se llevará a cabo en varios días: ¡Por favor lea el volante para los múltiples temas que presentaremos!. PRESENTADO POR: DESCRIPCIÓN GENERAL DE LA EDUCACIÓN ESPECIAL Y EL IEP. Lauren Black\, Ed. S. COMPRENSIÓN DE LAS EVALUACIONES. PROCESO DEL IEP: ¿CÓMO ME PREPARO PARA LA REUNIÓN DE IEP? \n12 de septiembre\, 26 de septiembre.\n6:30 PM (Hora de pacifico). \nDetalles\nRegistrarse
URL:https://elarcdecalifornia.org/evento/comprendiendo-el-proceso-de-iep-un-guia-para-padres-sobre-la-colaboracion-y-exito/2023-09-12/
END:VEVENT
BEGIN:VEVENT
DTSTART;TZID=America/Los_Angeles:20230912T173000
DTEND;TZID=America/Los_Angeles:20230912T193000
DTSTAMP:20260421T155912
CREATED:20230830T223238Z
LAST-MODIFIED:20230831T154855Z
UID:10000897-1694539800-1694547000@elarcdecalifornia.org
SUMMARY:Autodeterminación
DESCRIPTION:El programa de Autodeterminación le ha cambiado la vida a muchos clientes del centro regional porque les brinda más independencia\, libertad y control sobro sus servicios y vidas. Habrá series de orientaciones. Id de la reunión: 843 9196 3507 contraseña: SDP2023 Para más información por favor comuníquese con Martha Álvarez 530-332-1481 \n12 de septiembre\, 10 de octubre\, 14 de noviembre\, 12 de diciembre.\n5:30 PM – 7:30 PM\, 10:00 AM- 12:00 PM\, 3:00 PM – 5:00 PM\, 10:00 AM- 12:00 PM. \nDetalles\nRegistrarse
URL:https://elarcdecalifornia.org/evento/autodeterminacion/2023-09-12/
END:VEVENT
BEGIN:VEVENT
DTSTART;TZID=America/Los_Angeles:20230911T100000
DTEND;TZID=America/Los_Angeles:20230911T110000
DTSTAMP:20260421T155912
CREATED:20230907T214108Z
LAST-MODIFIED:20230907T214109Z
UID:10000247-1694426400-1694430000@elarcdecalifornia.org
SUMMARY:Entrenamientos Estatales de SCDD del año 2023
DESCRIPTION:¡Nos Vemos en ZOOM!! ¡Todos los entrenamientos usarán el mismo número de juntas y contraseña todo el año! Los entrenamientos se darán en series de temas y serán ofrecidos en español. Vea las fechas y temas correspondientes en el volante. Número de Junta: 829-8230-7774 Contraseña: 123456. Para participar por teléfono\, llame al (888) 475-4499 e ingrese el número de juntas y contraseña. Para más información: (818) 543-4636 o Sofia.Cervantes@scdd.ca.gov \nLos lunes\n10:00 AM (Hora del pacífico) \nDetalles\nRegistrarse
URL:https://elarcdecalifornia.org/evento/test-event-2/2023-09-11/
CATEGORIES:Entrenamientos por zoom
END:VEVENT
BEGIN:VEVENT
DTSTART;TZID=America/Los_Angeles:20230907T160000
DTEND;TZID=America/Los_Angeles:20230907T170000
DTSTAMP:20260421T155912
CREATED:20230905T162749Z
LAST-MODIFIED:20230905T162749Z
UID:10000909-1694102400-1694106000@elarcdecalifornia.org
SUMMARY:Parents Helping Parents
DESCRIPTION:Únase a nosotros para aprender sobre la importancia de la educación y la planificación financiera. \nEn este seminario se revisará: \nLa importancia de la educación financiera y la planificación financiera \nUn ejemplo de conceptos financieros y las herramientas y recursos que pueden ayudarles. \nEste es un evento de Connections California. Connections California es un proyecto de Parents Helping Parents-Silicon Valley.
URL:https://elarcdecalifornia.org/evento/parents-helping-parents/
END:VEVENT
BEGIN:VEVENT
DTSTART;TZID=America/Los_Angeles:20230907T100000
DTEND;TZID=America/Los_Angeles:20230907T110000
DTSTAMP:20260421T155912
CREATED:20230905T174349Z
LAST-MODIFIED:20230905T174349Z
UID:10000914-1694080800-1694084400@elarcdecalifornia.org
SUMMARY:La Importancia de la Interpretación de Calidad para Recibir Servicios
DESCRIPTION:La calidad de la interpretación se ve impactada por diferentes razones\, lo invitamos a revisar los retos que enfrentan las familias\, los intérpretes y las agencias al usar los servicios de interpretación. Revisaremos como la interpretación puede influir en los servicios que reciben las personas con discapacidades y cómo podemos colaborar para garantizar la equidad en el acceso a servicios para la comunidad de habla hispana. \n\nEnlace directo a la presentación https://tinyurl.com/3sc33rd2 2020 \nCódigo de acceso: 2020
URL:https://elarcdecalifornia.org/evento/la-importancia-de-la-interpretacion-de-calidad-para-recibir-servicios/
END:VEVENT
BEGIN:VEVENT
DTSTART;TZID=America/Los_Angeles:20230907T100000
DTEND;TZID=America/Los_Angeles:20230907T110000
DTSTAMP:20260421T155912
CREATED:20230830T223440Z
LAST-MODIFIED:20230831T154852Z
UID:10000901-1694080800-1694084400@elarcdecalifornia.org
SUMMARY:Colaboración Latina lo invita a su presentación anual a la comunidad
DESCRIPTION:La Importancia de la Interpretación de Calidad para Recibir Servicios. La calidad de la interpretación se ve impactada por diferentes razones\, lo invitamos a revisar los retos que enfrentan las familias\, los interpretes y las agencias al usar los servicios de interpretación. Revisaremos como la interpretación puede influir en los servicios que reciben las personas con discapacidades y cómo podemos colaborar para garantizar la equidad en el acceso a servicios para la comunidad de habla hispana. Contraseña de la junta 2020. \n7 de septiembre\n10:00 AM (Hora del pacifico) \nDetalles\nRegistrarse
URL:https://elarcdecalifornia.org/evento/colaboracion-latina-lo-invita-a-su-presentacion-anual-a-la-comunidad/
END:VEVENT
BEGIN:VEVENT
DTSTART;TZID=America/Los_Angeles:20230905T170000
DTEND;TZID=America/Los_Angeles:20230905T190000
DTSTAMP:20260421T155912
CREATED:20230905T164045Z
LAST-MODIFIED:20230905T165202Z
UID:10000910-1693933200-1693940400@elarcdecalifornia.org
SUMMARY:Mes nacional de la preparación: Cómo elaborar su plan de emergencia
DESCRIPTION:Presentado por: Francisca Huezo y Jorge Savala \nEsta plática se llevará a cabo en español.
URL:https://elarcdecalifornia.org/evento/mes-nacional-de-la-preparacion-como-elaborar-su-plan-de-emergencia/
END:VEVENT
BEGIN:VEVENT
DTSTART;TZID=America/Los_Angeles:20230904T100000
DTEND;TZID=America/Los_Angeles:20230904T110000
DTSTAMP:20260421T155912
CREATED:20230809T034541Z
LAST-MODIFIED:20230831T154244Z
UID:10000246-1693821600-1693825200@elarcdecalifornia.org
SUMMARY:Entrenamientos Estatales de SCDD del año 2023
DESCRIPTION:¡Nos Vemos en ZOOM!! ¡Todos los entrenamientos usarán el mismo número de juntas y contraseña todo el año! Los entrenamientos se darán en series de temas y serán ofrecidos en español. Vea las fechas y temas correspondientes en el volante. Número de Junta: 829-8230-7774 Contraseña: 123456. Para participar por teléfono\, llame al (888) 475-4499 e ingrese el número de juntas y contraseña. Para más información: (818) 543-4636 o Sofia.Cervantes@scdd.ca.gov \nLos lunes\n10:00 AM (Hora del pacífico) \nDetalles\nRegistrarse
URL:https://elarcdecalifornia.org/evento/test-event/
END:VEVENT
BEGIN:VEVENT
DTSTART;TZID=America/Los_Angeles:20230831T140000
DTEND;TZID=America/Los_Angeles:20230831T160000
DTSTAMP:20260421T155912
CREATED:20230830T221600Z
LAST-MODIFIED:20230831T153558Z
UID:10000888-1693490400-1693497600@elarcdecalifornia.org
SUMMARY:SERVICIOS SOCIALES Y RECREATIVOS
DESCRIPTION:PRIMERA SESIÓN: MARTES\, 29 DE AGOSTO\, 2:00 PM- 4:00  PM Lo último sobre estos servicios disponibles para clientes del centro regional. El centro regional del este de la bahía responderá a sus inquietudes sobre como acceder estos servicios y hablaremos sobre los retos y posibilidades existentes. SEGUNDA SESIÓN: JUEVES\, 14 DE SEPTIEMBRE 5:00 PM- 7:00 PM En esta presentación se hablará de como funciona el servicio de recreación social con la organización de 24 Hour Home Care. Estaremos hablando sobre qué actividades se pueden hacer en el programa\, los requerimientos para los que quieren ayudar a sus seres queridos con el programa\, y ejemplos de familias que ya están utilizando el servicio. \n14 de septiembre\n5:00 PM- 7:00 PM (Hora del pacífico) \nDetalles\nRegistrarse
URL:https://elarcdecalifornia.org/evento/servicios-sociales-y-recreativos/2023-08-31/
END:VEVENT
END:VCALENDAR