BEGIN:VCALENDAR
VERSION:2.0
PRODID:-//El Arc - ECPv6.15.20//NONSGML v1.0//EN
CALSCALE:GREGORIAN
METHOD:PUBLISH
X-ORIGINAL-URL:https://elarcdecalifornia.org
X-WR-CALDESC:Eventos para El Arc
REFRESH-INTERVAL;VALUE=DURATION:PT1H
X-Robots-Tag:noindex
X-PUBLISHED-TTL:PT1H
BEGIN:VTIMEZONE
TZID:America/Los_Angeles
BEGIN:DAYLIGHT
TZOFFSETFROM:-0800
TZOFFSETTO:-0700
TZNAME:PDT
DTSTART:20230312T100000
END:DAYLIGHT
BEGIN:STANDARD
TZOFFSETFROM:-0700
TZOFFSETTO:-0800
TZNAME:PST
DTSTART:20231105T090000
END:STANDARD
BEGIN:DAYLIGHT
TZOFFSETFROM:-0800
TZOFFSETTO:-0700
TZNAME:PDT
DTSTART:20240310T100000
END:DAYLIGHT
BEGIN:STANDARD
TZOFFSETFROM:-0700
TZOFFSETTO:-0800
TZNAME:PST
DTSTART:20241103T090000
END:STANDARD
BEGIN:DAYLIGHT
TZOFFSETFROM:-0800
TZOFFSETTO:-0700
TZNAME:PDT
DTSTART:20250309T100000
END:DAYLIGHT
BEGIN:STANDARD
TZOFFSETFROM:-0700
TZOFFSETTO:-0800
TZNAME:PST
DTSTART:20251102T090000
END:STANDARD
END:VTIMEZONE
BEGIN:VEVENT
DTSTART;TZID=America/Los_Angeles:20241024T100000
DTEND;TZID=America/Los_Angeles:20241024T120000
DTSTAMP:20260420T080107
CREATED:20241021T161605Z
LAST-MODIFIED:20241021T161605Z
UID:10003156-1729764000-1729771200@elarcdecalifornia.org
SUMMARY:Hablemos de CAA: Padres y Profesionales Trabajando Juntos WEBINAR
DESCRIPTION:Presentará ideas\, ejemplos prácticos e indicaciones para implementar CAA en múltiples ambientes. Destacaremos la importancia de la colaboración para ayudar mejor a cada usuario de CAA trabajando juntos por el objetivo común de una CAA individualizada y centrada en la persona. \nEste taller se llevará a cabo utilizando Zoom. Después de registrarse\, recibirá una invitación para unirse a la reunión de Zoom.
URL:https://elarcdecalifornia.org/evento/hablemos-de-caa-padres-y-profesionales-trabajando-juntos-webinar/
CATEGORIES:Entrenamientos por zoom
ATTACH;FMTTYPE=image/png:https://elarcdecalifornia.org/wp-content/uploads/2024/10/Unknown-5-1.png
END:VEVENT
BEGIN:VEVENT
DTSTART;TZID=America/Los_Angeles:20241024T183000
DTEND;TZID=America/Los_Angeles:20241024T200000
DTSTAMP:20260420T080107
CREATED:20241021T161859Z
LAST-MODIFIED:20241021T161859Z
UID:10003157-1729794600-1729800000@elarcdecalifornia.org
SUMMARY:Entorno Laboral: Adaptaciones y Acomodaciones
DESCRIPTION:Una acomodación o adaptación razonable (AR) es cualquier adecuación o ajuste a un puesto o entorno de trabajo que permita a una persona calificada con una discapacidad tener igualdad de oportunidades laborales. Esta igualdad aplica tanto en los procesos de solicitud de empleo\, examen y contratación\, así como durante el desempeño de la actividad laboral. \nComo padre o cuidador de un joven/adulto con discapacidad es de vital importancia identificar cuáles son estas adaptaciones o modificaciones a las que puede acceder\, y es por ello que lo invitamos a participar en esta presentación web a cargo de Lisa Navarro\, Abogado Senior en Disability Rights California\, donde podrá despejar sus dudas e inquietudes sobre los diferentes criterios que rodean la Acomodación Razonable (AR)\, entre ellos:\n– Concepto general de AR\n– Reestructuración laboral\n– Horarios de trabajo modificados\n– Adaptaciones al ambiente físico\n– Puesto de trabajo a la medida\n– Ejemplos de Acomodaciones \nNote que cada solicitud de adaptación es única y debe evaluarse individualmente a través de un proceso interactivo y oportuno entre el empleador y el empleado o solicitante con una discapacidad\, a fin de explorar las opciones sobre las diferentes adaptaciones\, considerando el beneficio mutuo. Pero hay mucho más por aprender sobre el tema\, así que no pierda más tiempo\, ¡regístrese aquí! \nEste es un evento de Connections California\, un proyecto de Parents Helping Parents – Silicon Valley. Connections California está patrocinado en parte por el Centro Regional de San Andreas y el Departamento de Servicios de Desarrollo de California.
URL:https://elarcdecalifornia.org/evento/entorno-laboral-adaptaciones-y-acomodaciones/
CATEGORIES:Entrenamientos por zoom
ATTACH;FMTTYPE=image/png:https://elarcdecalifornia.org/wp-content/uploads/2024/10/Unknown-6-1.png
END:VEVENT
END:VCALENDAR