BEGIN:VCALENDAR
VERSION:2.0
PRODID:-//El Arc - ECPv6.15.20//NONSGML v1.0//EN
CALSCALE:GREGORIAN
METHOD:PUBLISH
X-ORIGINAL-URL:https://elarcdecalifornia.org
X-WR-CALDESC:Eventos para El Arc
REFRESH-INTERVAL;VALUE=DURATION:PT1H
X-Robots-Tag:noindex
X-PUBLISHED-TTL:PT1H
BEGIN:VTIMEZONE
TZID:America/Los_Angeles
BEGIN:DAYLIGHT
TZOFFSETFROM:-0800
TZOFFSETTO:-0700
TZNAME:PDT
DTSTART:20230312T100000
END:DAYLIGHT
BEGIN:STANDARD
TZOFFSETFROM:-0700
TZOFFSETTO:-0800
TZNAME:PST
DTSTART:20231105T090000
END:STANDARD
BEGIN:DAYLIGHT
TZOFFSETFROM:-0800
TZOFFSETTO:-0700
TZNAME:PDT
DTSTART:20240310T100000
END:DAYLIGHT
BEGIN:STANDARD
TZOFFSETFROM:-0700
TZOFFSETTO:-0800
TZNAME:PST
DTSTART:20241103T090000
END:STANDARD
BEGIN:DAYLIGHT
TZOFFSETFROM:-0800
TZOFFSETTO:-0700
TZNAME:PDT
DTSTART:20250309T100000
END:DAYLIGHT
BEGIN:STANDARD
TZOFFSETFROM:-0700
TZOFFSETTO:-0800
TZNAME:PST
DTSTART:20251102T090000
END:STANDARD
END:VTIMEZONE
BEGIN:VEVENT
DTSTART;TZID=America/Los_Angeles:20241015T100000
DTEND;TZID=America/Los_Angeles:20241015T110000
DTSTAMP:20260420T075223
CREATED:20241014T233140Z
LAST-MODIFIED:20241014T233140Z
UID:10003146-1728986400-1728990000@elarcdecalifornia.org
SUMMARY:Orientación Mensual
DESCRIPTION:¿Tu hijo(a) o familiar tiene una discapacidad intelectual y/o del desarrollo? \n¿Conoces los servicios que están disponibles para tu hijo(a) o familiar? \nAprenderás cuáles son los servicios del Centro Regional del Este de la Bahía (RCEB) y recursos genéricos
URL:https://elarcdecalifornia.org/evento/orientacion-mensual-3/
CATEGORIES:Entrenamientos por zoom
ATTACH;FMTTYPE=image/png:https://elarcdecalifornia.org/wp-content/uploads/2024/10/Unknown-10.png
END:VEVENT
BEGIN:VEVENT
DTSTART;TZID=America/Los_Angeles:20241015T110000
DTEND;TZID=America/Los_Angeles:20241015T120000
DTSTAMP:20260420T075223
CREATED:20240413T171848Z
LAST-MODIFIED:20240413T171848Z
UID:10002426-1728990000-1728993600@elarcdecalifornia.org
SUMMARY:Grupo de Apoyo (en Español)
DESCRIPTION:Este es un grupo mensual donde compartiremos nuestras inquietudes\, experiencias y un nuevo tema cada mes. \nNo hay compromiso de asistir a cada sesión\, \npero aquí encontrará una comunidad cálida y segura de familias que están en el mismo viaje.
URL:https://elarcdecalifornia.org/evento/grupo-de-apoyo-en-espanol/2024-10-15/
CATEGORIES:Entrenamientos por zoom,Grupo de apoyos
ATTACH;FMTTYPE=image/png:https://elarcdecalifornia.org/wp-content/uploads/2023/03/image011.png
END:VEVENT
BEGIN:VEVENT
DTSTART;TZID=America/Los_Angeles:20241015T110000
DTEND;TZID=America/Los_Angeles:20241015T120000
DTSTAMP:20260420T075223
CREATED:20241014T233416Z
LAST-MODIFIED:20241014T233416Z
UID:10003147-1728990000-1728993600@elarcdecalifornia.org
SUMMARY:Grupo de Apovo Familiar
DESCRIPTION:En esta dinámica charla exploraremos nuestro rol actual y compartiremos diferentes estrategias de cuidado \npersonal\, las cuales nos ayudarán a tener mejor calidad de vida\, entre otros temas hablaremos sobre el estrés\, apoyo emocional y social\, salud y bienestar y \nmucho más!
URL:https://elarcdecalifornia.org/evento/grupo-de-apovo-familiar/
CATEGORIES:Entrenamientos por zoom
ATTACH;FMTTYPE=image/jpeg:https://elarcdecalifornia.org/wp-content/uploads/2024/10/Unknown-3.jpeg
END:VEVENT
BEGIN:VEVENT
DTSTART;TZID=America/Los_Angeles:20241015T140000
DTEND;TZID=America/Los_Angeles:20241015T150000
DTSTAMP:20260420T075223
CREATED:20241014T234005Z
LAST-MODIFIED:20241014T234005Z
UID:10003148-1729000800-1729004400@elarcdecalifornia.org
SUMMARY:CalABLE and Employment (empleo)
DESCRIPTION:(PRESENTADO EN INGLÉS CON INTERPRETACIÓN SIMULTANEA AL ESPAÑOL)\nCalABLE es un programa de ahorro e inversión ofrecido por el estado de California para personas con discapacidades que comenzaron antes de cumplir los 26 años. \nEn este webinar\, exploraremos: \n\nConceptos básicos de CalABLE\nPlan para lograr la autosuficiencia (Programa PASS)\nServicios de planificación de incentivos laborales\nCalABLE y HUD\n\nPresentadores invitados de SSA\, DOR y HUD \n  \nEste programa es gratuito y está abierto al público en general. \nMarque para participar llamando al:\n1-669-900-6833 \nID del webinar:\n878 7060 5834
URL:https://elarcdecalifornia.org/evento/calable-and-employment-empleo/
CATEGORIES:Entrenamientos por zoom
ATTACH;FMTTYPE=image/jpeg:https://elarcdecalifornia.org/wp-content/uploads/2024/10/Unknown-2-1.jpeg
END:VEVENT
BEGIN:VEVENT
DTSTART;TZID=America/Los_Angeles:20241015T183000
DTEND;TZID=America/Los_Angeles:20241015T193000
DTSTAMP:20260420T075223
CREATED:20241014T234138Z
LAST-MODIFIED:20241014T234138Z
UID:10003149-1729017000-1729020600@elarcdecalifornia.org
SUMMARY:Pros y Contras de la Conservaduría: Conceptos Básicos
DESCRIPTION:Cuando una persona no puede cuidar de sí misma\, ya sea debido a la edad\, discapacidad\, un impedimento o incapacitación\, el tribunal puede nombrar un tutor o conservador. Los tutores y conservadores son personas que tienen autoridad legal para hacerse cargo de las necesidades físicas y/o financieras de otra persona. \nNo pierda esta oportunidad de conocer a detalle los aspectos importantes de la conservaduría presentados por el Abogado Antonio M. Rodriguez. El señor Rodriguez se recibió de University of California Santa Barbara enfoque de leyes & la sociedad y Chicano Studies\, maestría en Póliza y Administración Pública de California Lutheran University\, y doctorado de jurisprudencia de Ventura College of Law. \nEn esta presentación web usted aprenderá más sobre:\n– Concepto de conservaduría/tutela\n– Proceso de conservaduría y alternativas\n– Aspectos médicos y financieros\n– Toma de decisiones informada\n– Fideicomisos con provisiones para beneficiarios con necesidades especiales. \n“El tema de Conservaduría es complejo y puede tener un serio impacto en su familia. Es importante conocer de antemano las diferentes opciones a su alcance antes de tomar una decisión sobre el cuidado de su ser querido.” Antonio Rodriguez\, abogado. \nEste es un evento de Connections California\, un proyecto de Parents Helping Parents – Silicon Valley. Connections California está patrocinado en parte por el Centro Regional de San Andreas y el Departamento de Servicios de Desarrollo de California.
URL:https://elarcdecalifornia.org/evento/pros-y-contras-de-la-conservaduria-conceptos-basicos/
CATEGORIES:Entrenamientos por zoom
ATTACH;FMTTYPE=image/png:https://elarcdecalifornia.org/wp-content/uploads/2024/10/Unknown-4-1.png
END:VEVENT
END:VCALENDAR