BEGIN:VCALENDAR
VERSION:2.0
PRODID:-//El Arc - ECPv6.15.20//NONSGML v1.0//EN
CALSCALE:GREGORIAN
METHOD:PUBLISH
X-ORIGINAL-URL:https://elarcdecalifornia.org
X-WR-CALDESC:Eventos para El Arc
REFRESH-INTERVAL;VALUE=DURATION:PT1H
X-Robots-Tag:noindex
X-PUBLISHED-TTL:PT1H
BEGIN:VTIMEZONE
TZID:America/Los_Angeles
BEGIN:DAYLIGHT
TZOFFSETFROM:-0800
TZOFFSETTO:-0700
TZNAME:PDT
DTSTART:20230312T100000
END:DAYLIGHT
BEGIN:STANDARD
TZOFFSETFROM:-0700
TZOFFSETTO:-0800
TZNAME:PST
DTSTART:20231105T090000
END:STANDARD
BEGIN:DAYLIGHT
TZOFFSETFROM:-0800
TZOFFSETTO:-0700
TZNAME:PDT
DTSTART:20240310T100000
END:DAYLIGHT
BEGIN:STANDARD
TZOFFSETFROM:-0700
TZOFFSETTO:-0800
TZNAME:PST
DTSTART:20241103T090000
END:STANDARD
BEGIN:DAYLIGHT
TZOFFSETFROM:-0800
TZOFFSETTO:-0700
TZNAME:PDT
DTSTART:20250309T100000
END:DAYLIGHT
BEGIN:STANDARD
TZOFFSETFROM:-0700
TZOFFSETTO:-0800
TZNAME:PST
DTSTART:20251102T090000
END:STANDARD
END:VTIMEZONE
BEGIN:VEVENT
DTSTART;TZID=America/Los_Angeles:20241014T100000
DTEND;TZID=America/Los_Angeles:20241014T110000
DTSTAMP:20260420T080106
CREATED:20230907T214108Z
LAST-MODIFIED:20230907T214109Z
UID:10000302-1728900000-1728903600@elarcdecalifornia.org
SUMMARY:Entrenamientos Estatales de SCDD del año 2023
DESCRIPTION:¡Nos Vemos en ZOOM!! ¡Todos los entrenamientos usarán el mismo número de juntas y contraseña todo el año! Los entrenamientos se darán en series de temas y serán ofrecidos en español. Vea las fechas y temas correspondientes en el volante. Número de Junta: 829-8230-7774 Contraseña: 123456. Para participar por teléfono\, llame al (888) 475-4499 e ingrese el número de juntas y contraseña. Para más información: (818) 543-4636 o Sofia.Cervantes@scdd.ca.gov \nLos lunes\n10:00 AM (Hora del pacífico) \nDetalles\nRegistrarse
URL:https://elarcdecalifornia.org/evento/test-event-2/2024-10-14/
CATEGORIES:Entrenamientos por zoom
END:VEVENT
BEGIN:VEVENT
DTSTART;TZID=America/Los_Angeles:20241014T100000
DTEND;TZID=America/Los_Angeles:20241014T113000
DTSTAMP:20260420T080106
CREATED:20241009T171703Z
LAST-MODIFIED:20241009T171703Z
UID:10003143-1728900000-1728905400@elarcdecalifornia.org
SUMMARY:PLÁTICAS AMISTOSAS
DESCRIPTION:Vivienda Independiente:¿qué opciones de vivienda tiene mi hijo adulto con discapacidad?\nCuando quiera vivir solo?\nÚnase a la educadora de padres Ángela Gattis y al invitado especial\nJairo Guiza.\nEn esta charla GRATUITA\, aprenderá más sobre:\n\n\nDiferentes tipos de opciones de vivienda como: vivienda asistida\, independiente y muchos mas\n\n\nComo prepararnos para empezar la planeación de las preferencias de vivienda de nuestro adulto con discapacidades\n\n\nRecursos relacionados con vivienda
URL:https://elarcdecalifornia.org/evento/platicas-amistosas-2/
CATEGORIES:Entrenamientos por zoom
ATTACH;FMTTYPE=image/png:https://elarcdecalifornia.org/wp-content/uploads/2024/10/Jairo-Platicas-Amistosas-Template_Facebook-Event-and-Email-Graphics-1.png
END:VEVENT
END:VCALENDAR