BEGIN:VCALENDAR
VERSION:2.0
PRODID:-//El Arc - ECPv6.15.20//NONSGML v1.0//EN
CALSCALE:GREGORIAN
METHOD:PUBLISH
X-WR-CALNAME:El Arc
X-ORIGINAL-URL:https://elarcdecalifornia.org
X-WR-CALDESC:Eventos para El Arc
REFRESH-INTERVAL;VALUE=DURATION:PT1H
X-Robots-Tag:noindex
X-PUBLISHED-TTL:PT1H
BEGIN:VTIMEZONE
TZID:America/Los_Angeles
BEGIN:DAYLIGHT
TZOFFSETFROM:-0800
TZOFFSETTO:-0700
TZNAME:PDT
DTSTART:20230312T100000
END:DAYLIGHT
BEGIN:STANDARD
TZOFFSETFROM:-0700
TZOFFSETTO:-0800
TZNAME:PST
DTSTART:20231105T090000
END:STANDARD
BEGIN:DAYLIGHT
TZOFFSETFROM:-0800
TZOFFSETTO:-0700
TZNAME:PDT
DTSTART:20240310T100000
END:DAYLIGHT
BEGIN:STANDARD
TZOFFSETFROM:-0700
TZOFFSETTO:-0800
TZNAME:PST
DTSTART:20241103T090000
END:STANDARD
BEGIN:DAYLIGHT
TZOFFSETFROM:-0800
TZOFFSETTO:-0700
TZNAME:PDT
DTSTART:20250309T100000
END:DAYLIGHT
BEGIN:STANDARD
TZOFFSETFROM:-0700
TZOFFSETTO:-0800
TZNAME:PST
DTSTART:20251102T090000
END:STANDARD
END:VTIMEZONE
BEGIN:VEVENT
DTSTART;TZID=America/Los_Angeles:20241009T100000
DTEND;TZID=America/Los_Angeles:20241009T110000
DTSTAMP:20260420T081348
CREATED:20241005T175355Z
LAST-MODIFIED:20241005T175355Z
UID:10003133-1728468000-1728471600@elarcdecalifornia.org
SUMMARY:Actúe Temprano\, los Años de Comienzo Temprano (0-3) / Act Early\, the Early Start Years (0-3)
DESCRIPTION:Usted es un padre primerizo y observa el desarrollo de su hijo. Pero no está seguro de lo que su hijo debería estar haciendo en cada etapa del desarrollo. ¿Qué hitos debe cumplir su hijo en cada etapa? \nAcompáñenos para explorar los hitos de un niño y aprenda sobre: \nQuién está involucrado si su hijo no está alcanzando esos hitos \nCómo acceder a los servicios de inicio temprano a través de la Ley de Individuos con Discapacidades (IDEA) \nQué tan pronto se inician los servicios
URL:https://elarcdecalifornia.org/evento/actue-temprano-los-anos-de-comienzo-temprano-0-3-act-early-the-early-start-years-0-3/
CATEGORIES:Entrenamientos por zoom
ATTACH;FMTTYPE=image/png:https://elarcdecalifornia.org/wp-content/uploads/2024/10/Unknown-3-1.png
END:VEVENT
BEGIN:VEVENT
DTSTART;TZID=America/Los_Angeles:20241009T100000
DTEND;TZID=America/Los_Angeles:20241009T110000
DTSTAMP:20260420T081348
CREATED:20241005T175721Z
LAST-MODIFIED:20241005T175721Z
UID:10003134-1728468000-1728471600@elarcdecalifornia.org
SUMMARY:Series de Entrenamientos de Educación Especial Educación Especial
DESCRIPTION:Abuso y Bullying: ¿Qué hacer?
URL:https://elarcdecalifornia.org/evento/series-de-entrenamientos-de-educacion-especial-educacion-especial/
CATEGORIES:Entrenamientos por zoom
ATTACH;FMTTYPE=image/png:https://elarcdecalifornia.org/wp-content/uploads/2024/10/Unknown-4.png
END:VEVENT
BEGIN:VEVENT
DTSTART;TZID=America/Los_Angeles:20241009T103000
DTEND;TZID=America/Los_Angeles:20241009T123000
DTSTAMP:20260420T081348
CREATED:20241005T180034Z
LAST-MODIFIED:20241005T180034Z
UID:10003135-1728469800-1728477000@elarcdecalifornia.org
SUMMARY:Grupo de Apoyo sobre AUTISMO
DESCRIPTION:Les invitamos a unirse este espacio que está dedicado a brindarles apoyo\, compartir experiencias y ofrecer recursos valiosos que le ayudarán en su camino junto a sus seres queridos con autismo. Queremos crear una comunidad donde todos puedan sentirse \ncomprendidos y acompanados\, fomentando \nun ambiente de solidaridad y aprendizaje mutuo. Su participación es fundamental para construir juntos un entorno más inclusivo y esperanzador. ¡Esperamos contar con su Presencia!
URL:https://elarcdecalifornia.org/evento/grupo-de-apoyo-sobre-autismo-6/
CATEGORIES:Entrenamientos por zoom
ATTACH;FMTTYPE=image/png:https://elarcdecalifornia.org/wp-content/uploads/2024/10/Unknown-5.png
END:VEVENT
BEGIN:VEVENT
DTSTART;TZID=America/Los_Angeles:20241009T170000
DTEND;TZID=America/Los_Angeles:20241009T180000
DTSTAMP:20260420T081348
CREATED:20240322T202801Z
LAST-MODIFIED:20240605T181502Z
UID:10002081-1728493200-1728496800@elarcdecalifornia.org
SUMMARY:CREO ofrece platicas en español cada miércoles y abiertas para toda la comunidad.
DESCRIPTION:Saludos a todos\, \nÚnase a nuestras pláticas cada miércoles a las 5:00 pm. En español y abiertas para toda la comunidad. Abordamos temas relevantes cada semana. \n¡No se pierda la oportunidad\, los esperamos! \n  \nReuniones recurrentes– Las Pláticas se llevan a cabo cada miércoles (el 1o miércoles del mes será en persona y las demás son virtuales). \n  \nEl miércoles 27 de marzo\, a las 5:00 pm\, se llevará a cabo la plática educativa/informativa de CREO en español\, por zoom \nBienestar mental de los adolescentes. Excelente oportunidad para conocer a una consejera experta y platicar con ella. \n  \n  \n  Identificación de la reunión: 872 6117 5961 \n Contraseña:   creo
URL:https://elarcdecalifornia.org/evento/creo-ofrece-platicas-en-espanol-cada-miercoles-y-abiertas-para-toda-la-comunidad/2024-10-09/
CATEGORIES:Entrenamientos por zoom
ATTACH;FMTTYPE=image/jpeg:https://elarcdecalifornia.org/wp-content/uploads/2024/03/Screenshot-2024-03-22-at-1.05.09-PM.jpg
END:VEVENT
BEGIN:VEVENT
DTSTART;TZID=America/Los_Angeles:20241009T170000
DTEND;TZID=America/Los_Angeles:20241009T180000
DTSTAMP:20260420T081348
CREATED:20240625T211340Z
LAST-MODIFIED:20240625T211340Z
UID:10002972-1728493200-1728496800@elarcdecalifornia.org
SUMMARY:Servicios de Bienestar Infantil (CWS)
DESCRIPTION:Reuniones recurrentes— Las Pláticas se llevan a cabo cada miércoles (el 1.º miércoles del mes será en persona y las demás son virtuales. \n3 de julio – Información general En persona— en la clínica Hansen \n10 de julio— Definiciones de Abuso \n17 de julio— ¿Qué es el proceso de prevención e investigación? \n24 de julio— Cuidado de crianza y tutela \n31 de julio— Vamos a platicar con una trabajadora social experta en este tema.
URL:https://elarcdecalifornia.org/evento/servicios-de-bienestar-infantil-cws/2024-10-09/
CATEGORIES:Entrenamientos por zoom
ATTACH;FMTTYPE=image/png:https://elarcdecalifornia.org/wp-content/uploads/2024/06/Unknown.png
END:VEVENT
BEGIN:VEVENT
DTSTART;TZID=America/Los_Angeles:20241009T170000
DTEND;TZID=America/Los_Angeles:20241009T180000
DTSTAMP:20260420T081348
CREATED:20241009T171406Z
LAST-MODIFIED:20241009T171436Z
UID:10003142-1728493200-1728496800@elarcdecalifornia.org
SUMMARY:Únase a nosotros para reconocer el: Mes Nacional de Concientización sobre el SIDA en la Comunidad Latinx este octubre
DESCRIPTION:PLÁTICA INFORMATIVA EN ESPAÑOL \nEste mes está dedicado a aumentar la conciencia sobre el impacto del \nVIH/SIDA en la comunidad \npromover la prevención y apoyar a quienes viven con el virus. Juntos\, podemos \ntrabajar hacia un futuro libre de VIH/SIDA a través de la educación\, la defensa y \nel apoyo comunitario. \nZoom ID: 872 6117 5961\nPassword: creo\nMiércoles 9 de Octubre \n5:00 pm. por zoom
URL:https://elarcdecalifornia.org/evento/unase-a-nosotros-para-reconocer-el-mes-nacional-de-concientizacion-sobre-el-sida-en-la-comunidad-latinx-este-octubre/
CATEGORIES:Entrenamientos por zoom
ATTACH;FMTTYPE=application/pdf:https://elarcdecalifornia.org/wp-content/uploads/2024/10/Platica-1009-2.pdf
END:VEVENT
BEGIN:VEVENT
DTSTART;TZID=America/Los_Angeles:20241009T170000
DTEND;TZID=America/Los_Angeles:20241009T183000
DTSTAMP:20260420T081348
CREATED:20240412T202824Z
LAST-MODIFIED:20240605T181809Z
UID:10002183-1728493200-1728498600@elarcdecalifornia.org
SUMMARY:IMPORTANCIA DE LAS RELACIONES SOCIALES
DESCRIPTION:Únase a nuestra plática CREO el miércoles 17 de abril a las 5:00 pm. \nTema: La importancia de las relaciones sociales y cómo estás fortalecen la resiliencia personal\, contribuyendo así al bienestar familiar. \n  \nReuniones recurrentes— Las Pláticas se llevan a cabo cada miércoles (el 1.º miércoles del mes será en persona y las demás son virtuales). \nMeeting ID:  872 6117 5961 \nPassword:   creo
URL:https://elarcdecalifornia.org/evento/importancia-de-las-relaciones-sociales/2024-10-09/
CATEGORIES:Entrenamientos por zoom
ATTACH;FMTTYPE=image/jpeg:https://elarcdecalifornia.org/wp-content/uploads/2024/04/Screenshot-2024-04-12-at-1.24.25-PM.jpg
END:VEVENT
END:VCALENDAR