BEGIN:VCALENDAR
VERSION:2.0
PRODID:-//El Arc - ECPv6.15.20//NONSGML v1.0//EN
CALSCALE:GREGORIAN
METHOD:PUBLISH
X-ORIGINAL-URL:https://elarcdecalifornia.org
X-WR-CALDESC:Eventos para El Arc
REFRESH-INTERVAL;VALUE=DURATION:PT1H
X-Robots-Tag:noindex
X-PUBLISHED-TTL:PT1H
BEGIN:VTIMEZONE
TZID:America/Los_Angeles
BEGIN:DAYLIGHT
TZOFFSETFROM:-0800
TZOFFSETTO:-0700
TZNAME:PDT
DTSTART:20230312T100000
END:DAYLIGHT
BEGIN:STANDARD
TZOFFSETFROM:-0700
TZOFFSETTO:-0800
TZNAME:PST
DTSTART:20231105T090000
END:STANDARD
BEGIN:DAYLIGHT
TZOFFSETFROM:-0800
TZOFFSETTO:-0700
TZNAME:PDT
DTSTART:20240310T100000
END:DAYLIGHT
BEGIN:STANDARD
TZOFFSETFROM:-0700
TZOFFSETTO:-0800
TZNAME:PST
DTSTART:20241103T090000
END:STANDARD
BEGIN:DAYLIGHT
TZOFFSETFROM:-0800
TZOFFSETTO:-0700
TZNAME:PDT
DTSTART:20250309T100000
END:DAYLIGHT
BEGIN:STANDARD
TZOFFSETFROM:-0700
TZOFFSETTO:-0800
TZNAME:PST
DTSTART:20251102T090000
END:STANDARD
END:VTIMEZONE
BEGIN:VEVENT
DTSTART;TZID=America/Los_Angeles:20241008T103000
DTEND;TZID=America/Los_Angeles:20241008T113000
DTSTAMP:20260420T075926
CREATED:20241005T174553Z
LAST-MODIFIED:20241005T174615Z
UID:10003131-1728383400-1728387000@elarcdecalifornia.org
SUMMARY:Una guía para el IEP y el proceso de educación especial
DESCRIPTION:La participación es crucial en el proceso del IEP\, y esta capacitación en línea lo guiará a través del proceso de Educación Especial\, centrándose en el IEP (Programa de Educación Individualizado). Nuestro objetivo es ayudarle a comprender sus derechos\, reconocer el valor de su experiencia y mejorar sus habilidades de comunicación y resolución de problemas.
URL:https://elarcdecalifornia.org/evento/una-guia-para-el-iep-y-el-proceso-de-educacion-especial-2/
CATEGORIES:Entrenamientos por zoom
ATTACH;FMTTYPE=image/png:https://elarcdecalifornia.org/wp-content/uploads/2024/10/Unknown-1.png
END:VEVENT
BEGIN:VEVENT
DTSTART;TZID=America/Los_Angeles:20241008T183000
DTEND;TZID=America/Los_Angeles:20241008T203000
DTSTAMP:20260420T075926
CREATED:20241005T174816Z
LAST-MODIFIED:20241005T174816Z
UID:10003132-1728412200-1728419400@elarcdecalifornia.org
SUMMARY:Entendiendo Comportamientos Desafiantes en Niños con Discapacidades
DESCRIPTION:“Lo que los expertos denominan ‘manejo de la conducta’ no tiene nada que ver con castigar o desmoralizar a su hijo. Al contrario\, se trata de una manera de establecer límites y comunicar las expectativas con amor y con la intención de educar. Disciplina – corrigiendo los actos de los niños\, mostrándoles qué está bien y qué está mal\, qué es aceptable y qué no – es una de las maneras más importantes en las que todos los padres pueden mostrarles a sus hijos cuánto los aman y se preocupan por ellos.\nkidshealth.org \nSi su niño o adolescente exhibe comportamientos desafiantes debido a una discapacidad del desarrollo\, esta clase puede ser para usted. Para participar\, su hijo debe tener entre 0 y 17 años y vivir en el condado de Santa Clara. La asistencia está limitada a 8 familias para permitir el intercambio y la discusión confidencial. \nPara obtener todo el beneficio de este programa maravilloso y útil\, tendrá que asistir a todas las sesiones. \nAlgunos de los temas que se trataran: \n¿Qué es comportamiento y cuáles son las cuatro funciones del comportamiento?\nAnalizando patrones de comportamiento usando la técnica A-B-C\nIntervenciones\nValores familiares y creación de un entorno positivo.\nDisciplina asertiva\nAutocuidado para cuidadores\nPráctica la creación de un plan de intervención usando ejemplos de su vida \nEntendiendo Comportamientos Desafiantes en Niños con Discapacidades se ofrece en inglés\, español y vietnamita. Consulte nuestro calendario para unirse a las clases. Llámenos si quiere más información. \nPatrocinado en parte por el Programa de Prevención de Abuso Infantil del Condado de Santa Clara.
URL:https://elarcdecalifornia.org/evento/entendiendo-comportamientos-desafiantes-en-ninos-con-discapacidades/
CATEGORIES:Entrenamientos por zoom
ATTACH;FMTTYPE=image/png:https://elarcdecalifornia.org/wp-content/uploads/2024/10/Unknown-2.png
END:VEVENT
END:VCALENDAR