BEGIN:VCALENDAR
VERSION:2.0
PRODID:-//El Arc - ECPv6.15.20//NONSGML v1.0//EN
CALSCALE:GREGORIAN
METHOD:PUBLISH
X-ORIGINAL-URL:https://elarcdecalifornia.org
X-WR-CALDESC:Eventos para El Arc
REFRESH-INTERVAL;VALUE=DURATION:PT1H
X-Robots-Tag:noindex
X-PUBLISHED-TTL:PT1H
BEGIN:VTIMEZONE
TZID:America/Los_Angeles
BEGIN:DAYLIGHT
TZOFFSETFROM:-0800
TZOFFSETTO:-0700
TZNAME:PDT
DTSTART:20230312T100000
END:DAYLIGHT
BEGIN:STANDARD
TZOFFSETFROM:-0700
TZOFFSETTO:-0800
TZNAME:PST
DTSTART:20231105T090000
END:STANDARD
BEGIN:DAYLIGHT
TZOFFSETFROM:-0800
TZOFFSETTO:-0700
TZNAME:PDT
DTSTART:20240310T100000
END:DAYLIGHT
BEGIN:STANDARD
TZOFFSETFROM:-0700
TZOFFSETTO:-0800
TZNAME:PST
DTSTART:20241103T090000
END:STANDARD
BEGIN:DAYLIGHT
TZOFFSETFROM:-0800
TZOFFSETTO:-0700
TZNAME:PDT
DTSTART:20250309T100000
END:DAYLIGHT
BEGIN:STANDARD
TZOFFSETFROM:-0700
TZOFFSETTO:-0800
TZNAME:PST
DTSTART:20251102T090000
END:STANDARD
END:VTIMEZONE
BEGIN:VEVENT
DTSTART;TZID=America/Los_Angeles:20241002T100000
DTEND;TZID=America/Los_Angeles:20241002T110000
DTSTAMP:20260420T062349
CREATED:20240529T212220Z
LAST-MODIFIED:20240605T181106Z
UID:10002884-1727863200-1727866800@elarcdecalifornia.org
SUMMARY:¿Le podemos Ayudar?
DESCRIPTION:* Ayuda técnica para usar su iPad y aplicaciones \n* Preguntas sobre IEPs \n* Dudas sobre los servicios del Centro Regional \n* Información o recursos \nNo es necesario registrarse \n1.er miércoles de cada mes \n10am – 11am \n(Hora del Pacífico) \n¡Acompáñenos por Zoom para ayudarle!
URL:https://elarcdecalifornia.org/evento/le-podemos-ayudar/2024-10-02/
CATEGORIES:Entrenamientos por zoom
ATTACH;FMTTYPE=image/jpeg:https://elarcdecalifornia.org/wp-content/uploads/2024/05/Drop-In-Hours.jpg
END:VEVENT
BEGIN:VEVENT
DTSTART;TZID=America/Los_Angeles:20241002T110000
DTEND;TZID=America/Los_Angeles:20241002T120000
DTSTAMP:20260420T062349
CREATED:20240930T154614Z
LAST-MODIFIED:20240930T154614Z
UID:10003126-1727866800-1727870400@elarcdecalifornia.org
SUMMARY:Cómo prepararse para solicitar SSI – Seguro de Ingreso Suplementario
DESCRIPTION:El SSI o Seguridad de Ingreso Suplementario es un programa federal diseñado para ayudar a personas mayores de 65 años\, a personas con ceguera o a personas con discapacidad (incluyendo niños) proporcionándoles asistencia financiera para cubrir sus necesidades básicas como comida\, ropa y vivienda. \nEn este seminario web usted aprenderá sobre:\n-La elegibilidad para el SSI\n-El proceso de solicitud\n-Los registros médicos\n-El listado de Información de Deterioro\n-SSI y el Trabajo\n-Otros Beneficios Públicos\n-¿Que es el SSDI (Social Security Disability Insurance)? \nLa solicitud de los servicios de SSI puede ser confusa y sin el cuidado necesario puede dar como resultado la negación de este. \nVenga\, y aprenda que hacer para aumentar la posibilidad de obtener un resultado positivo. \nEvento patrocinado en parte por el Condado de Santa Clara. \nEl proyecto cuenta con el apoyo de los programas de beneficios comunitarios del norte de California de Kaiser Permanente. \nEste es un evento de Connections California\, un proyecto de Parents Helping Parents – Silicon Valley. Connections California está patrocinado en parte por el Centro Regional de San Andreas y el Departamento de Servicios de Desarrollo de California. \n 
URL:https://elarcdecalifornia.org/evento/como-prepararse-para-solicitar-ssi-seguro-de-ingreso-suplementario-2/
CATEGORIES:Entrenamientos por zoom
ATTACH;FMTTYPE=image/png:https://elarcdecalifornia.org/wp-content/uploads/2024/09/Unknown-2-4.png
END:VEVENT
BEGIN:VEVENT
DTSTART;TZID=America/Los_Angeles:20241002T170000
DTEND;TZID=America/Los_Angeles:20241002T180000
DTSTAMP:20260420T062349
CREATED:20240322T202801Z
LAST-MODIFIED:20240605T181502Z
UID:10002080-1727888400-1727892000@elarcdecalifornia.org
SUMMARY:CREO ofrece platicas en español cada miércoles y abiertas para toda la comunidad.
DESCRIPTION:Saludos a todos\, \nÚnase a nuestras pláticas cada miércoles a las 5:00 pm. En español y abiertas para toda la comunidad. Abordamos temas relevantes cada semana. \n¡No se pierda la oportunidad\, los esperamos! \n  \nReuniones recurrentes– Las Pláticas se llevan a cabo cada miércoles (el 1o miércoles del mes será en persona y las demás son virtuales). \n  \nEl miércoles 27 de marzo\, a las 5:00 pm\, se llevará a cabo la plática educativa/informativa de CREO en español\, por zoom \nBienestar mental de los adolescentes. Excelente oportunidad para conocer a una consejera experta y platicar con ella. \n  \n  \n  Identificación de la reunión: 872 6117 5961 \n Contraseña:   creo
URL:https://elarcdecalifornia.org/evento/creo-ofrece-platicas-en-espanol-cada-miercoles-y-abiertas-para-toda-la-comunidad/2024-10-02/
CATEGORIES:Entrenamientos por zoom
ATTACH;FMTTYPE=image/jpeg:https://elarcdecalifornia.org/wp-content/uploads/2024/03/Screenshot-2024-03-22-at-1.05.09-PM.jpg
END:VEVENT
BEGIN:VEVENT
DTSTART;TZID=America/Los_Angeles:20241002T170000
DTEND;TZID=America/Los_Angeles:20241002T180000
DTSTAMP:20260420T062349
CREATED:20240625T211340Z
LAST-MODIFIED:20240625T211340Z
UID:10002971-1727888400-1727892000@elarcdecalifornia.org
SUMMARY:Servicios de Bienestar Infantil (CWS)
DESCRIPTION:Reuniones recurrentes— Las Pláticas se llevan a cabo cada miércoles (el 1.º miércoles del mes será en persona y las demás son virtuales. \n3 de julio – Información general En persona— en la clínica Hansen \n10 de julio— Definiciones de Abuso \n17 de julio— ¿Qué es el proceso de prevención e investigación? \n24 de julio— Cuidado de crianza y tutela \n31 de julio— Vamos a platicar con una trabajadora social experta en este tema.
URL:https://elarcdecalifornia.org/evento/servicios-de-bienestar-infantil-cws/2024-10-02/
CATEGORIES:Entrenamientos por zoom
ATTACH;FMTTYPE=image/png:https://elarcdecalifornia.org/wp-content/uploads/2024/06/Unknown.png
END:VEVENT
BEGIN:VEVENT
DTSTART;TZID=America/Los_Angeles:20241002T170000
DTEND;TZID=America/Los_Angeles:20241002T183000
DTSTAMP:20260420T062349
CREATED:20240412T202824Z
LAST-MODIFIED:20240605T181809Z
UID:10002182-1727888400-1727893800@elarcdecalifornia.org
SUMMARY:IMPORTANCIA DE LAS RELACIONES SOCIALES
DESCRIPTION:Únase a nuestra plática CREO el miércoles 17 de abril a las 5:00 pm. \nTema: La importancia de las relaciones sociales y cómo estás fortalecen la resiliencia personal\, contribuyendo así al bienestar familiar. \n  \nReuniones recurrentes— Las Pláticas se llevan a cabo cada miércoles (el 1.º miércoles del mes será en persona y las demás son virtuales). \nMeeting ID:  872 6117 5961 \nPassword:   creo
URL:https://elarcdecalifornia.org/evento/importancia-de-las-relaciones-sociales/2024-10-02/
CATEGORIES:Entrenamientos por zoom
ATTACH;FMTTYPE=image/jpeg:https://elarcdecalifornia.org/wp-content/uploads/2024/04/Screenshot-2024-04-12-at-1.24.25-PM.jpg
END:VEVENT
END:VCALENDAR