BEGIN:VCALENDAR
VERSION:2.0
PRODID:-//El Arc - ECPv6.15.20//NONSGML v1.0//EN
CALSCALE:GREGORIAN
METHOD:PUBLISH
X-ORIGINAL-URL:https://elarcdecalifornia.org
X-WR-CALDESC:Eventos para El Arc
REFRESH-INTERVAL;VALUE=DURATION:PT1H
X-Robots-Tag:noindex
X-PUBLISHED-TTL:PT1H
BEGIN:VTIMEZONE
TZID:America/Los_Angeles
BEGIN:DAYLIGHT
TZOFFSETFROM:-0800
TZOFFSETTO:-0700
TZNAME:PDT
DTSTART:20230312T100000
END:DAYLIGHT
BEGIN:STANDARD
TZOFFSETFROM:-0700
TZOFFSETTO:-0800
TZNAME:PST
DTSTART:20231105T090000
END:STANDARD
BEGIN:DAYLIGHT
TZOFFSETFROM:-0800
TZOFFSETTO:-0700
TZNAME:PDT
DTSTART:20240310T100000
END:DAYLIGHT
BEGIN:STANDARD
TZOFFSETFROM:-0700
TZOFFSETTO:-0800
TZNAME:PST
DTSTART:20241103T090000
END:STANDARD
BEGIN:DAYLIGHT
TZOFFSETFROM:-0800
TZOFFSETTO:-0700
TZNAME:PDT
DTSTART:20250309T100000
END:DAYLIGHT
BEGIN:STANDARD
TZOFFSETFROM:-0700
TZOFFSETTO:-0800
TZNAME:PST
DTSTART:20251102T090000
END:STANDARD
END:VTIMEZONE
BEGIN:VEVENT
DTSTART;TZID=America/Los_Angeles:20240925T100000
DTEND;TZID=America/Los_Angeles:20240925T110000
DTSTAMP:20260420T062629
CREATED:20240920T232517Z
LAST-MODIFIED:20240920T232517Z
UID:10003120-1727258400-1727262000@elarcdecalifornia.org
SUMMARY:Prevención de Problemas de Comportamiento Mediante la Crianza Positiva
DESCRIPTION:Esta presentación: \n\nBrindará información sobre el desarrollo socioemocional y el comportamiento de los niños.\nDescribirá consejos útiles para la crianza positiva que ayudarán a apoyar un desarrollo socioemocional saludable y a prevenir comportamientos desafiantes.\nCompartirá recursos que puedan ser útiles para ustedes como miembros de la familia.
URL:https://elarcdecalifornia.org/evento/prevencion-de-problemas-de-comportamiento-mediante-la-crianza-positiva/
CATEGORIES:Entrenamientos por zoom
ATTACH;FMTTYPE=image/png:https://elarcdecalifornia.org/wp-content/uploads/2024/09/Unknown-4.png
END:VEVENT
BEGIN:VEVENT
DTSTART;TZID=America/Los_Angeles:20240925T100000
DTEND;TZID=America/Los_Angeles:20240925T113000
DTSTAMP:20260420T062629
CREATED:20240413T175533Z
LAST-MODIFIED:20240413T175533Z
UID:10002438-1727258400-1727263800@elarcdecalifornia.org
SUMMARY:Pregúntale a Mariana
DESCRIPTION:¿Tienes alguna duda sobre el diagnóstico de tu hijo/a? \n¿Necesitas estrategias sociales\, de lenguaje o de aprendizaje? \nInfórmate también sobre el programa de TIGER \nAcompáñanos esta tarde a platicar con el grupo de Pregúntale a \nMariana \nMariana Leñero Solar es la instructora de la serie. La Sra. Leñero Solar es consultora psicoeducativa e instructora del programa de autodefensa \nTIGER de LRLC diseñado y enseñado por Learning Rights para fomentar las herramientas de las familias que necesitan abogar con éxito dentro de la educación especial.
URL:https://elarcdecalifornia.org/evento/preguntale-a-mariana-2/2024-09-25/
CATEGORIES:Entrenamientos por zoom
ATTACH;FMTTYPE=image/jpeg:https://elarcdecalifornia.org/wp-content/uploads/2024/04/437082046_869446008556412_2822583209303054156_n.jpg
END:VEVENT
BEGIN:VEVENT
DTSTART;TZID=America/Los_Angeles:20240925T100000
DTEND;TZID=America/Los_Angeles:20240925T113000
DTSTAMP:20260420T062629
CREATED:20240909T202841Z
LAST-MODIFIED:20240909T202841Z
UID:10003108-1727258400-1727263800@elarcdecalifornia.org
SUMMARY:Padres con GANAS Academy Serie de Talleres Esenciales
DESCRIPTION:¡Únete a nosotros! \nDos madres de hijos con necesidades especiales y profesionales en el área\, presentaremos una serie de temas esenciales para asegurarnos de que nuestros hijos e hijas estén conectados con los servicios que se ajusten a sus necesidades. Lo hemos comprobado al practicar lo que predicamos. El camino no es fácil\, pero ofrecemos los pasos necesarios para hacerlo manejable.
URL:https://elarcdecalifornia.org/evento/padres-con-ganas-academy-serie-de-talleres-esenciales/2024-09-25/
CATEGORIES:Entrenamientos por zoom
ATTACH;FMTTYPE=image/png:https://elarcdecalifornia.org/wp-content/uploads/2024/09/SPAN_PCG-Academy-Series.png
END:VEVENT
BEGIN:VEVENT
DTSTART;TZID=America/Los_Angeles:20240925T160000
DTEND;TZID=America/Los_Angeles:20240925T170000
DTSTAMP:20260420T062629
CREATED:20240920T232844Z
LAST-MODIFIED:20240920T232844Z
UID:10003121-1727280000-1727283600@elarcdecalifornia.org
SUMMARY:Conciencia Sobre la Discapacidad y Autodefensa en el Lugar de Trabajo WEBINAR
DESCRIPTION:¡Jóvenes\, este seminario web es para ustedes! Los invitamos a unirse a nosotros para aprender cómo abogar por sí mismos y solicitar acomodaciones en el lugar de trabajo. Cubriremos la importancia de generar conciencia sobre las discapacidades\, la auto-abogacía\, la divulgación de discapacidades y cómo solicitar acomodaciones laborales. Este taller se llevará a cabo utilizando Zoom. Después de registrarse\, recibirá una invitación para unirse a la reunión de Zoom.
URL:https://elarcdecalifornia.org/evento/conciencia-sobre-la-discapacidad-y-autodefensa-en-el-lugar-de-trabajo-webinar/
CATEGORIES:Entrenamientos por zoom
ATTACH;FMTTYPE=image/png:https://elarcdecalifornia.org/wp-content/uploads/2024/09/Unknown-5.png
END:VEVENT
BEGIN:VEVENT
DTSTART;TZID=America/Los_Angeles:20240925T170000
DTEND;TZID=America/Los_Angeles:20240925T180000
DTSTAMP:20260420T062629
CREATED:20240322T202801Z
LAST-MODIFIED:20240605T181502Z
UID:10002079-1727283600-1727287200@elarcdecalifornia.org
SUMMARY:CREO ofrece platicas en español cada miércoles y abiertas para toda la comunidad.
DESCRIPTION:Saludos a todos\, \nÚnase a nuestras pláticas cada miércoles a las 5:00 pm. En español y abiertas para toda la comunidad. Abordamos temas relevantes cada semana. \n¡No se pierda la oportunidad\, los esperamos! \n  \nReuniones recurrentes– Las Pláticas se llevan a cabo cada miércoles (el 1o miércoles del mes será en persona y las demás son virtuales). \n  \nEl miércoles 27 de marzo\, a las 5:00 pm\, se llevará a cabo la plática educativa/informativa de CREO en español\, por zoom \nBienestar mental de los adolescentes. Excelente oportunidad para conocer a una consejera experta y platicar con ella. \n  \n  \n  Identificación de la reunión: 872 6117 5961 \n Contraseña:   creo
URL:https://elarcdecalifornia.org/evento/creo-ofrece-platicas-en-espanol-cada-miercoles-y-abiertas-para-toda-la-comunidad/2024-09-25/
CATEGORIES:Entrenamientos por zoom
ATTACH;FMTTYPE=image/jpeg:https://elarcdecalifornia.org/wp-content/uploads/2024/03/Screenshot-2024-03-22-at-1.05.09-PM.jpg
END:VEVENT
BEGIN:VEVENT
DTSTART;TZID=America/Los_Angeles:20240925T170000
DTEND;TZID=America/Los_Angeles:20240925T180000
DTSTAMP:20260420T062630
CREATED:20240625T211340Z
LAST-MODIFIED:20240625T211340Z
UID:10002970-1727283600-1727287200@elarcdecalifornia.org
SUMMARY:Servicios de Bienestar Infantil (CWS)
DESCRIPTION:Reuniones recurrentes— Las Pláticas se llevan a cabo cada miércoles (el 1.º miércoles del mes será en persona y las demás son virtuales. \n3 de julio – Información general En persona— en la clínica Hansen \n10 de julio— Definiciones de Abuso \n17 de julio— ¿Qué es el proceso de prevención e investigación? \n24 de julio— Cuidado de crianza y tutela \n31 de julio— Vamos a platicar con una trabajadora social experta en este tema.
URL:https://elarcdecalifornia.org/evento/servicios-de-bienestar-infantil-cws/2024-09-25/
CATEGORIES:Entrenamientos por zoom
ATTACH;FMTTYPE=image/png:https://elarcdecalifornia.org/wp-content/uploads/2024/06/Unknown.png
END:VEVENT
BEGIN:VEVENT
DTSTART;TZID=America/Los_Angeles:20240925T170000
DTEND;TZID=America/Los_Angeles:20240925T183000
DTSTAMP:20260420T062630
CREATED:20240412T202824Z
LAST-MODIFIED:20240605T181809Z
UID:10002181-1727283600-1727289000@elarcdecalifornia.org
SUMMARY:IMPORTANCIA DE LAS RELACIONES SOCIALES
DESCRIPTION:Únase a nuestra plática CREO el miércoles 17 de abril a las 5:00 pm. \nTema: La importancia de las relaciones sociales y cómo estás fortalecen la resiliencia personal\, contribuyendo así al bienestar familiar. \n  \nReuniones recurrentes— Las Pláticas se llevan a cabo cada miércoles (el 1.º miércoles del mes será en persona y las demás son virtuales). \nMeeting ID:  872 6117 5961 \nPassword:   creo
URL:https://elarcdecalifornia.org/evento/importancia-de-las-relaciones-sociales/2024-09-25/
CATEGORIES:Entrenamientos por zoom
ATTACH;FMTTYPE=image/jpeg:https://elarcdecalifornia.org/wp-content/uploads/2024/04/Screenshot-2024-04-12-at-1.24.25-PM.jpg
END:VEVENT
END:VCALENDAR