BEGIN:VCALENDAR
VERSION:2.0
PRODID:-//El Arc - ECPv6.15.20//NONSGML v1.0//EN
CALSCALE:GREGORIAN
METHOD:PUBLISH
X-ORIGINAL-URL:https://elarcdecalifornia.org
X-WR-CALDESC:Eventos para El Arc
REFRESH-INTERVAL;VALUE=DURATION:PT1H
X-Robots-Tag:noindex
X-PUBLISHED-TTL:PT1H
BEGIN:VTIMEZONE
TZID:America/Los_Angeles
BEGIN:DAYLIGHT
TZOFFSETFROM:-0800
TZOFFSETTO:-0700
TZNAME:PDT
DTSTART:20230312T100000
END:DAYLIGHT
BEGIN:STANDARD
TZOFFSETFROM:-0700
TZOFFSETTO:-0800
TZNAME:PST
DTSTART:20231105T090000
END:STANDARD
BEGIN:DAYLIGHT
TZOFFSETFROM:-0800
TZOFFSETTO:-0700
TZNAME:PDT
DTSTART:20240310T100000
END:DAYLIGHT
BEGIN:STANDARD
TZOFFSETFROM:-0700
TZOFFSETTO:-0800
TZNAME:PST
DTSTART:20241103T090000
END:STANDARD
BEGIN:DAYLIGHT
TZOFFSETFROM:-0800
TZOFFSETTO:-0700
TZNAME:PDT
DTSTART:20250309T100000
END:DAYLIGHT
BEGIN:STANDARD
TZOFFSETFROM:-0700
TZOFFSETTO:-0800
TZNAME:PST
DTSTART:20251102T090000
END:STANDARD
END:VTIMEZONE
BEGIN:VEVENT
DTSTART;TZID=America/Los_Angeles:20240924T100000
DTEND;TZID=America/Los_Angeles:20240924T110000
DTSTAMP:20260420T062632
CREATED:20240920T231505Z
LAST-MODIFIED:20240920T231505Z
UID:10003117-1727172000-1727175600@elarcdecalifornia.org
SUMMARY:Tecnología de Asistencia para el Aprendizaje Temprano
DESCRIPTION:Este seminario web incluye diferentes tipos de tecnología de asistencia que se utilizan para niños pequeños\, desde el nacimiento hasta los cinco años. Los temas incluyen aplicaciones y sitios web que facilitan el aprendizaje temprano\, adaptaciones de juguetes / libros\, artículos de baja tecnología\, CAA temprana y mucho más. Venga a ver cómo sus pequeños pueden beneficiarse de la tecnología de asistencia.
URL:https://elarcdecalifornia.org/evento/tecnologia-de-asistencia-para-el-aprendizaje-temprano/
CATEGORIES:Entrenamientos por zoom
ATTACH;FMTTYPE=image/png:https://elarcdecalifornia.org/wp-content/uploads/2024/09/Unknown-1-1.png
END:VEVENT
BEGIN:VEVENT
DTSTART;TZID=America/Los_Angeles:20240924T100000
DTEND;TZID=America/Los_Angeles:20240924T120000
DTSTAMP:20260420T062632
CREATED:20240920T231948Z
LAST-MODIFIED:20240920T231948Z
UID:10003118-1727172000-1727179200@elarcdecalifornia.org
SUMMARY:Ingreso Suplementario del Seguro Social (SSI)
DESCRIPTION:¿Quién es elegible para SSI?\n¿Cuál es el proceso de apelación?\nConsejos para las personas que reciben SSI
URL:https://elarcdecalifornia.org/evento/ingreso-suplementario-del-seguro-social-ssi/
CATEGORIES:Entrenamientos por zoom
ATTACH;FMTTYPE=image/png:https://elarcdecalifornia.org/wp-content/uploads/2024/09/Unknown-2-3.png
END:VEVENT
END:VCALENDAR