BEGIN:VCALENDAR
VERSION:2.0
PRODID:-//El Arc - ECPv6.15.20//NONSGML v1.0//EN
CALSCALE:GREGORIAN
METHOD:PUBLISH
X-WR-CALNAME:El Arc
X-ORIGINAL-URL:https://elarcdecalifornia.org
X-WR-CALDESC:Eventos para El Arc
REFRESH-INTERVAL;VALUE=DURATION:PT1H
X-Robots-Tag:noindex
X-PUBLISHED-TTL:PT1H
BEGIN:VTIMEZONE
TZID:America/Los_Angeles
BEGIN:DAYLIGHT
TZOFFSETFROM:-0800
TZOFFSETTO:-0700
TZNAME:PDT
DTSTART:20230312T100000
END:DAYLIGHT
BEGIN:STANDARD
TZOFFSETFROM:-0700
TZOFFSETTO:-0800
TZNAME:PST
DTSTART:20231105T090000
END:STANDARD
BEGIN:DAYLIGHT
TZOFFSETFROM:-0800
TZOFFSETTO:-0700
TZNAME:PDT
DTSTART:20240310T100000
END:DAYLIGHT
BEGIN:STANDARD
TZOFFSETFROM:-0700
TZOFFSETTO:-0800
TZNAME:PST
DTSTART:20241103T090000
END:STANDARD
BEGIN:DAYLIGHT
TZOFFSETFROM:-0800
TZOFFSETTO:-0700
TZNAME:PDT
DTSTART:20250309T100000
END:DAYLIGHT
BEGIN:STANDARD
TZOFFSETFROM:-0700
TZOFFSETTO:-0800
TZNAME:PST
DTSTART:20251102T090000
END:STANDARD
END:VTIMEZONE
BEGIN:VEVENT
DTSTART;TZID=America/Los_Angeles:20240916T100000
DTEND;TZID=America/Los_Angeles:20240916T110000
DTSTAMP:20260420T062334
CREATED:20230907T214108Z
LAST-MODIFIED:20230907T214109Z
UID:10000298-1726480800-1726484400@elarcdecalifornia.org
SUMMARY:Entrenamientos Estatales de SCDD del año 2023
DESCRIPTION:¡Nos Vemos en ZOOM!! ¡Todos los entrenamientos usarán el mismo número de juntas y contraseña todo el año! Los entrenamientos se darán en series de temas y serán ofrecidos en español. Vea las fechas y temas correspondientes en el volante. Número de Junta: 829-8230-7774 Contraseña: 123456. Para participar por teléfono\, llame al (888) 475-4499 e ingrese el número de juntas y contraseña. Para más información: (818) 543-4636 o Sofia.Cervantes@scdd.ca.gov \nLos lunes\n10:00 AM (Hora del pacífico) \nDetalles\nRegistrarse
URL:https://elarcdecalifornia.org/evento/test-event-2/2024-09-16/
CATEGORIES:Entrenamientos por zoom
END:VEVENT
BEGIN:VEVENT
DTSTART;TZID=America/Los_Angeles:20240916T100000
DTEND;TZID=America/Los_Angeles:20240916T110000
DTSTAMP:20260420T062334
CREATED:20240628T184530Z
LAST-MODIFIED:20240628T184530Z
UID:10003004-1726480800-1726484400@elarcdecalifornia.org
SUMMARY:Conexiones entre pares apoyo para padres (Español) *VIRTUAL*
DESCRIPTION:Conexiones entre pares y grupos de apoyo: ya sea que busque apoyo o desee compartir lo que ha aprendido para ayudar a otros\, los grupos de apoyo en persona y en línea están diseñados para ayudar. Las familias que asisten a grupos de apoyo pueden obtener recursos que desarrollen habilidades de autodefensa y se empoderen para tomar decisiones informadas para sus familias. \n\nLa crianza de los hijos puede ser un desafío a veces… y cuando su familia incluye a alguien con alguna discapacidad\, puede ser aún más complejo y abrumador. Esperamos conocerlo y darle la bienvenida a nuestra comunidad. Si hay un tema que le interesa discutir\, no dude en enviarle un correo electrónico a Catalina para hacérselo saber. \nNota: El grupo de apoyo es para padres de niños y adultos jóvenes con discapacidades/necesidades especiales. Este es un espacio seguro solo para padres \n***SOLICITUD: Si se registra\, pero ya no puede asistir\, envíe un correo electrónico a Patricia para informarle. Esto ayuda a nuestro personal a tiempo parcial a saber que pueden programar citas con familias\, etc. Puede comunicarse con Catalina en: PGomez@carescprc.org \n  \n\n* El Grupo de Apoyo en inglés se ofrece virtualmente el 4° sábado de la mayoría de los meses. Envíe un correo electrónico a cpartida@carescprc.org para obtener más detalles.
URL:https://elarcdecalifornia.org/evento/conexiones-entre-pares-apoyo-para-padres-espanol-virtual/2024-09-16/
CATEGORIES:Entrenamientos por zoom
ATTACH;FMTTYPE=image/png:https://elarcdecalifornia.org/wp-content/uploads/2024/06/Untitled-design-1-2048x1024-1.png
END:VEVENT
BEGIN:VEVENT
DTSTART;TZID=America/Los_Angeles:20240916T100000
DTEND;TZID=America/Los_Angeles:20240916T110000
DTSTAMP:20260420T062334
CREATED:20240722T221026Z
LAST-MODIFIED:20240722T221026Z
UID:10003018-1726480800-1726484400@elarcdecalifornia.org
SUMMARY:Entrenamientos Estatales de SCDD Agosto y Septiembre
DESCRIPTION:Estrategias de IEP – Parte 1 \n12 de agosto @10am – español \nEstrategias de IEP – Parte 2 \n26 de agosto @10am – español \n* No entrenamiento el 2 de septiembre **\nEntendiendo Evaluaciones \n16 de septiembre @ 10 am – español
URL:https://elarcdecalifornia.org/evento/entrenamientos-estatales-de-scdd-agosto-y-septiembre/2024-09-16/
CATEGORIES:Entrenamientos estatales,Entrenamientos por zoom
ATTACH;FMTTYPE=application/pdf:https://elarcdecalifornia.org/wp-content/uploads/2024/07/Agosto-y-Sep-2024-Serie-de-SCDD-Vuelta-a-la-Escuela-de-Educacion-Especial.pdf
END:VEVENT
END:VCALENDAR