BEGIN:VCALENDAR
VERSION:2.0
PRODID:-//El Arc - ECPv6.15.20//NONSGML v1.0//EN
CALSCALE:GREGORIAN
METHOD:PUBLISH
X-ORIGINAL-URL:https://elarcdecalifornia.org
X-WR-CALDESC:Eventos para El Arc
REFRESH-INTERVAL;VALUE=DURATION:PT1H
X-Robots-Tag:noindex
X-PUBLISHED-TTL:PT1H
BEGIN:VTIMEZONE
TZID:America/Los_Angeles
BEGIN:DAYLIGHT
TZOFFSETFROM:-0800
TZOFFSETTO:-0700
TZNAME:PDT
DTSTART:20230312T100000
END:DAYLIGHT
BEGIN:STANDARD
TZOFFSETFROM:-0700
TZOFFSETTO:-0800
TZNAME:PST
DTSTART:20231105T090000
END:STANDARD
BEGIN:DAYLIGHT
TZOFFSETFROM:-0800
TZOFFSETTO:-0700
TZNAME:PDT
DTSTART:20240310T100000
END:DAYLIGHT
BEGIN:STANDARD
TZOFFSETFROM:-0700
TZOFFSETTO:-0800
TZNAME:PST
DTSTART:20241103T090000
END:STANDARD
BEGIN:DAYLIGHT
TZOFFSETFROM:-0800
TZOFFSETTO:-0700
TZNAME:PDT
DTSTART:20250309T100000
END:DAYLIGHT
BEGIN:STANDARD
TZOFFSETFROM:-0700
TZOFFSETTO:-0800
TZNAME:PST
DTSTART:20251102T090000
END:STANDARD
END:VTIMEZONE
BEGIN:VEVENT
DTSTART;TZID=America/Los_Angeles:20240909T100000
DTEND;TZID=America/Los_Angeles:20240909T110000
DTSTAMP:20260420T062628
CREATED:20230907T214108Z
LAST-MODIFIED:20230907T214109Z
UID:10000297-1725876000-1725879600@elarcdecalifornia.org
SUMMARY:Entrenamientos Estatales de SCDD del año 2023
DESCRIPTION:¡Nos Vemos en ZOOM!! ¡Todos los entrenamientos usarán el mismo número de juntas y contraseña todo el año! Los entrenamientos se darán en series de temas y serán ofrecidos en español. Vea las fechas y temas correspondientes en el volante. Número de Junta: 829-8230-7774 Contraseña: 123456. Para participar por teléfono\, llame al (888) 475-4499 e ingrese el número de juntas y contraseña. Para más información: (818) 543-4636 o Sofia.Cervantes@scdd.ca.gov \nLos lunes\n10:00 AM (Hora del pacífico) \nDetalles\nRegistrarse
URL:https://elarcdecalifornia.org/evento/test-event-2/2024-09-09/
CATEGORIES:Entrenamientos por zoom
END:VEVENT
BEGIN:VEVENT
DTSTART;TZID=America/Los_Angeles:20240909T183000
DTEND;TZID=America/Los_Angeles:20240909T193000
DTSTAMP:20260420T062628
CREATED:20240909T201559Z
LAST-MODIFIED:20240909T201619Z
UID:10003106-1725906600-1725910200@elarcdecalifornia.org
SUMMARY:Una guía para el IEP y el proceso de educación especial
DESCRIPTION:¿Es usted padre\, cuidador o proveedor de servicios de un niño de entre 2 y 21 años con discapacidades sospechadas o conocidas? Mejore sus habilidades y conocimientos para convertirse en un socio activo en el programa educativo del niño asistiendo a nuestra capacitación virtual sobre la comprensión del proceso del IEP. \nDescripción de la Capacitación:\nLa participación es crucial en el proceso del IEP\, y esta capacitación en línea lo guiará a través del proceso de Educación Especial\, centrándose en el IEP (Programa de Educación Individualizado). Nuestro objetivo es ayudarle a comprender sus derechos\, reconocer el valor de su experiencia y mejorar sus habilidades de comunicación y resolución de problemas. \nLo que aprenderá:\nEvaluación\, proceso y cronogramas de Educación Especial\nComponentes del IEP: Metas\, Servicios y Colocación\nParticipación en la reunión del IEP\, comunicación y resolución de desacuerdos \nPresentado por:\nUn Especialista en Recursos de Educación Especial de PHP en Español.\nEste seminario web fue desarrollado y es posible gracias a una subvención del Departamento de Educación de los EE. UU. Priorizamos su privacidad y confidencialidad\, y nuestra política de privacidad está disponible en nuestro sitio web. \nAcomodaciones:\nSi necesita adaptaciones para participar en la capacitación o asistencia con la inscripción\, por favor contáctenos lo antes posible al 408.727.5775 #184 o nicole@php.com. Generalmente requerimos 10 días para organizar las adaptaciones y asegurar su inclusión. \n 
URL:https://elarcdecalifornia.org/evento/una-guia-para-el-iep-y-el-proceso-de-educacion-especial/
CATEGORIES:Entrenamientos por zoom
ATTACH;FMTTYPE=image/png:https://elarcdecalifornia.org/wp-content/uploads/2024/09/Unknown.png
END:VEVENT
END:VCALENDAR