BEGIN:VCALENDAR
VERSION:2.0
PRODID:-//El Arc - ECPv6.15.20//NONSGML v1.0//EN
CALSCALE:GREGORIAN
METHOD:PUBLISH
X-ORIGINAL-URL:https://elarcdecalifornia.org
X-WR-CALDESC:Eventos para El Arc
REFRESH-INTERVAL;VALUE=DURATION:PT1H
X-Robots-Tag:noindex
X-PUBLISHED-TTL:PT1H
BEGIN:VTIMEZONE
TZID:America/Los_Angeles
BEGIN:DAYLIGHT
TZOFFSETFROM:-0800
TZOFFSETTO:-0700
TZNAME:PDT
DTSTART:20230312T100000
END:DAYLIGHT
BEGIN:STANDARD
TZOFFSETFROM:-0700
TZOFFSETTO:-0800
TZNAME:PST
DTSTART:20231105T090000
END:STANDARD
BEGIN:DAYLIGHT
TZOFFSETFROM:-0800
TZOFFSETTO:-0700
TZNAME:PDT
DTSTART:20240310T100000
END:DAYLIGHT
BEGIN:STANDARD
TZOFFSETFROM:-0700
TZOFFSETTO:-0800
TZNAME:PST
DTSTART:20241103T090000
END:STANDARD
BEGIN:DAYLIGHT
TZOFFSETFROM:-0800
TZOFFSETTO:-0700
TZNAME:PDT
DTSTART:20250309T100000
END:DAYLIGHT
BEGIN:STANDARD
TZOFFSETFROM:-0700
TZOFFSETTO:-0800
TZNAME:PST
DTSTART:20251102T090000
END:STANDARD
END:VTIMEZONE
BEGIN:VEVENT
DTSTART;TZID=America/Los_Angeles:20240905T110000
DTEND;TZID=America/Los_Angeles:20240905T130000
DTSTAMP:20260420T062631
CREATED:20240807T184149Z
LAST-MODIFIED:20240807T184149Z
UID:10003082-1725534000-1725541200@elarcdecalifornia.org
SUMMARY:Colaboración Latina California
DESCRIPTION:Presentación a la Comunidad \nHistoria\, Impacto y Uso Práctico de las Leyes de Protección para las Personas con Discapacidades del \nDesarrollo \n\nLas leyes que protegen a las personas con discapacidades han sido creadas para brindar apoyos a las familias.\nRevisaremos las leyes que apoyan el acceso a los servicios\, y los retos culturales que enfrentamos como familias inmigrantes y/o hispanohablantes.\nSe compartirán sugerencias y prácticas seguras para reducir las barreras que nos\nimpiden el acceso a estos servicios.
URL:https://elarcdecalifornia.org/evento/colaboracion-latina-california/
CATEGORIES:Entrenamientos por zoom
ATTACH;FMTTYPE=image/png:https://elarcdecalifornia.org/wp-content/uploads/2024/08/Unknown-1.png
END:VEVENT
BEGIN:VEVENT
DTSTART;TZID=America/Los_Angeles:20240905T110000
DTEND;TZID=America/Los_Angeles:20240905T130000
DTSTAMP:20260420T062631
CREATED:20240819T201556Z
LAST-MODIFIED:20240819T201556Z
UID:10003094-1725534000-1725541200@elarcdecalifornia.org
SUMMARY:Colaboración Latina California
DESCRIPTION:Presentación a la Comunidad \nHistoria\, Impacto y Uso Práctico de las Leyes de Protección para las Personas con Discapacidades del desarrollo \n\nLas leyes que protegen a las personas con discapacidades han sido creadas para brindar apoyos a las familias.\nRevisaremos las leyes que apoyan el acceso a los servicios\, y los retos culturales que enfrentamos como familias inmigrantes y/o hispanohablantes.\nSe compartirán sugerencias y prácticas seguras para reducir las barreras que nos\nimpiden el acceso a estos servicios.
URL:https://elarcdecalifornia.org/evento/colaboracion-latina-california-2/
CATEGORIES:Entrenamientos por zoom
ATTACH;FMTTYPE=image/png:https://elarcdecalifornia.org/wp-content/uploads/2024/08/Unknown-7.png
END:VEVENT
BEGIN:VEVENT
DTSTART;TZID=America/Los_Angeles:20240905T173000
DTEND;TZID=America/Los_Angeles:20240905T190000
DTSTAMP:20260420T062631
CREATED:20240819T192734Z
LAST-MODIFIED:20240819T192734Z
UID:10003085-1725557400-1725562800@elarcdecalifornia.org
SUMMARY:IVES TORRES FOUNDATION PROCESO DEL IPP (Plan de Programa Individualizado)
DESCRIPTION:Conozca el proceso y qué debe incluir el Plan de Programa Individualizado del Centro Regional.
URL:https://elarcdecalifornia.org/evento/ives-torres-foundation-proceso-del-ipp-plan-de-programa-individualizado/
CATEGORIES:Entrenamientos por zoom
ATTACH;FMTTYPE=image/png:https://elarcdecalifornia.org/wp-content/uploads/2024/08/PROCESO-DEL-IPP-Flyer-1.png
END:VEVENT
END:VCALENDAR