BEGIN:VCALENDAR
VERSION:2.0
PRODID:-//El Arc - ECPv6.15.20//NONSGML v1.0//EN
CALSCALE:GREGORIAN
METHOD:PUBLISH
X-WR-CALNAME:El Arc
X-ORIGINAL-URL:https://elarcdecalifornia.org
X-WR-CALDESC:Eventos para El Arc
REFRESH-INTERVAL;VALUE=DURATION:PT1H
X-Robots-Tag:noindex
X-PUBLISHED-TTL:PT1H
BEGIN:VTIMEZONE
TZID:America/Los_Angeles
BEGIN:DAYLIGHT
TZOFFSETFROM:-0800
TZOFFSETTO:-0700
TZNAME:PDT
DTSTART:20230312T100000
END:DAYLIGHT
BEGIN:STANDARD
TZOFFSETFROM:-0700
TZOFFSETTO:-0800
TZNAME:PST
DTSTART:20231105T090000
END:STANDARD
BEGIN:DAYLIGHT
TZOFFSETFROM:-0800
TZOFFSETTO:-0700
TZNAME:PDT
DTSTART:20240310T100000
END:DAYLIGHT
BEGIN:STANDARD
TZOFFSETFROM:-0700
TZOFFSETTO:-0800
TZNAME:PST
DTSTART:20241103T090000
END:STANDARD
BEGIN:DAYLIGHT
TZOFFSETFROM:-0800
TZOFFSETTO:-0700
TZNAME:PDT
DTSTART:20250309T100000
END:DAYLIGHT
BEGIN:STANDARD
TZOFFSETFROM:-0700
TZOFFSETTO:-0800
TZNAME:PST
DTSTART:20251102T090000
END:STANDARD
END:VTIMEZONE
BEGIN:VEVENT
DTSTART;TZID=America/Los_Angeles:20240827T100000
DTEND;TZID=America/Los_Angeles:20240827T113000
DTSTAMP:20260420T044943
CREATED:20240807T183937Z
LAST-MODIFIED:20240807T183937Z
UID:10003081-1724752800-1724758200@elarcdecalifornia.org
SUMMARY:¡Acompáñenos y aprenda todo sobre la educación especial!
DESCRIPTION:Learning Rights Law Center\, SCDD y \nPadres Unidos de Inland Empire están colaborando para brindar capacitación sobre la educación especial al \nInland Empire. \nFecha: martes\, 27 de agosto \nHora: 10:00 am a 11:30 am \nAcompáñenos en esta sesión virtual donde aprenderá sobre sus derechos como padre/madre y los derechos educativos de su hijo/a según la ley.
URL:https://elarcdecalifornia.org/evento/acompanenos-y-aprenda-todo-sobre-la-educacion-especial/
CATEGORIES:Entrenamientos por zoom
ATTACH;FMTTYPE=image/png:https://elarcdecalifornia.org/wp-content/uploads/2024/08/Screenshot-2024-08-05-at-1.32.05 PM.png
END:VEVENT
BEGIN:VEVENT
DTSTART;TZID=America/Los_Angeles:20240827T110000
DTEND;TZID=America/Los_Angeles:20240827T120000
DTSTAMP:20260420T044943
CREATED:20240826T160755Z
LAST-MODIFIED:20240826T160755Z
UID:10003099-1724756400-1724760000@elarcdecalifornia.org
SUMMARY:Proceso de Evaluación
DESCRIPTION:Este taller proporciona una descripción general de la participación de los padres y del distrito en el proceso de evaluación de educación especial. Los asistentes al taller aprenderán sobre las leyes federales que rigen la educación especial y la Sección 504\, los procesos de referencia y evaluación\, y las opciones para resolver desacuerdos.\nEste taller se llevará a cabo utilizando Zoom. Después de registrarse\, recibirá una invitación para unirse a la reunión de Zoom.
URL:https://elarcdecalifornia.org/evento/proceso-de-evaluacion/
CATEGORIES:Entrenamientos por zoom
ATTACH;FMTTYPE=image/png:https://elarcdecalifornia.org/wp-content/uploads/2024/08/Unknown-3-1.png
END:VEVENT
BEGIN:VEVENT
DTSTART;TZID=America/Los_Angeles:20240827T120000
DTEND;TZID=America/Los_Angeles:20240827T130000
DTSTAMP:20260420T044943
CREATED:20240826T162058Z
LAST-MODIFIED:20240826T162058Z
UID:10003100-1724760000-1724763600@elarcdecalifornia.org
SUMMARY:Café Escolar grupo de apoyo
DESCRIPTION:¿Tiene preocupaciones sobre el comportamiento\, habla\, socialización\, ansiedad\, atención\, o de cualquier otro tipo de su hijo? \n¿Está preocupado porque su hijo(a) va muy atrasado en la escuela\, sospecha de algún diagnóstico o está buscando una evaluación? \n¿Tiene dudas sobre el Programa de Educación Individualizado (IEP)? o ¿simplemente quiere compartir y conectar con otros padres? \nNos reunimos todos los MARTES al MEDIODÍA. El botón de registro se encuentra al final de esta página. Recibirá un link de Zoom en su correo electrónico para unirse al grupo\, si la aplicación le pide una contraseña es: “cafe”. \nSomos un grupo de padres para compartir sus dudas\, inquietudes y encontrar soluciones en temas escolares\, cómo solicitar evaluaciones o dudas sobre el Programa de Educación Individualizado (IEP) . \nNuestra especialista en recursos de PHP presentará un tema en Educación Especial durante los primeros 10-15 minutos de cada sesión y después platicaremos sobre las preguntas o comentarios que deseen compartir. \nNo importa la experiencia que tenga en este tema\, haremos un grupo amigable y de confianza para todos. Ojalá pueda acompañarnos de manera frecuente para crear unión en el grupo.
URL:https://elarcdecalifornia.org/evento/cafe-escolar-grupo-de-apoyo-2/
CATEGORIES:Entrenamientos por zoom,Grupo de apoyos
ATTACH;FMTTYPE=image/png:https://elarcdecalifornia.org/wp-content/uploads/2024/08/Unknown-2.png
END:VEVENT
END:VCALENDAR