BEGIN:VCALENDAR
VERSION:2.0
PRODID:-//El Arc - ECPv6.15.20//NONSGML v1.0//EN
CALSCALE:GREGORIAN
METHOD:PUBLISH
X-ORIGINAL-URL:https://elarcdecalifornia.org
X-WR-CALDESC:Eventos para El Arc
REFRESH-INTERVAL;VALUE=DURATION:PT1H
X-Robots-Tag:noindex
X-PUBLISHED-TTL:PT1H
BEGIN:VTIMEZONE
TZID:America/Los_Angeles
BEGIN:DAYLIGHT
TZOFFSETFROM:-0800
TZOFFSETTO:-0700
TZNAME:PDT
DTSTART:20230312T100000
END:DAYLIGHT
BEGIN:STANDARD
TZOFFSETFROM:-0700
TZOFFSETTO:-0800
TZNAME:PST
DTSTART:20231105T090000
END:STANDARD
BEGIN:DAYLIGHT
TZOFFSETFROM:-0800
TZOFFSETTO:-0700
TZNAME:PDT
DTSTART:20240310T100000
END:DAYLIGHT
BEGIN:STANDARD
TZOFFSETFROM:-0700
TZOFFSETTO:-0800
TZNAME:PST
DTSTART:20241103T090000
END:STANDARD
BEGIN:DAYLIGHT
TZOFFSETFROM:-0800
TZOFFSETTO:-0700
TZNAME:PDT
DTSTART:20250309T100000
END:DAYLIGHT
BEGIN:STANDARD
TZOFFSETFROM:-0700
TZOFFSETTO:-0800
TZNAME:PST
DTSTART:20251102T090000
END:STANDARD
END:VTIMEZONE
BEGIN:VEVENT
DTSTART;TZID=America/Los_Angeles:20240821T103000
DTEND;TZID=America/Los_Angeles:20240821T113000
DTSTAMP:20260420T045012
CREATED:20240819T200343Z
LAST-MODIFIED:20240819T200343Z
UID:10003092-1724236200-1724239800@elarcdecalifornia.org
SUMMARY:Alternativos a La Tutela
DESCRIPTION:Fiesta Familiar organiza eventos dirigidos por voluntarios que educan a las familias con discapacidades del desarrollo. Nos centramos en ofrecer apoyo\, información sobre discapacidades y entrenamiento a los padres para que apoyen sus hijos. \nLas familias pueden elegir las fechas\, invitar a otras \npersonas y compartir opiniones.
URL:https://elarcdecalifornia.org/evento/alternativos-a-la-tutela/
CATEGORIES:Entrenamientos por zoom
ATTACH;FMTTYPE=image/png:https://elarcdecalifornia.org/wp-content/uploads/2024/08/Unknown-3.png
END:VEVENT
BEGIN:VEVENT
DTSTART;TZID=America/Los_Angeles:20240821T160000
DTEND;TZID=America/Los_Angeles:20240821T173000
DTSTAMP:20260420T045012
CREATED:20240819T195751Z
LAST-MODIFIED:20240819T195751Z
UID:10003091-1724256000-1724261400@elarcdecalifornia.org
SUMMARY:El ABC del manejo de conductas desafiantes
DESCRIPTION:¿Necesita ayuda para controlar los comportamientos de su hijo? El ABC del manejo de conductas desafiantes\, y aprenda cómo comprender y prevenir mejor las conductas negativas.Para registrarte escanea el código QR o regístrese usando el enlace \n  \n  \nPresentado en inglés e incluye interpretación en vivo en español.
URL:https://elarcdecalifornia.org/evento/el-abc-del-manejo-de-conductas-desafiantes/
CATEGORIES:Entrenamientos por zoom
ATTACH;FMTTYPE=image/png:https://elarcdecalifornia.org/wp-content/uploads/2024/08/Unknown-4.png
END:VEVENT
BEGIN:VEVENT
DTSTART;TZID=America/Los_Angeles:20240821T170000
DTEND;TZID=America/Los_Angeles:20240821T180000
DTSTAMP:20260420T045012
CREATED:20240322T202801Z
LAST-MODIFIED:20240605T181502Z
UID:10002074-1724259600-1724263200@elarcdecalifornia.org
SUMMARY:CREO ofrece platicas en español cada miércoles y abiertas para toda la comunidad.
DESCRIPTION:Saludos a todos\, \nÚnase a nuestras pláticas cada miércoles a las 5:00 pm. En español y abiertas para toda la comunidad. Abordamos temas relevantes cada semana. \n¡No se pierda la oportunidad\, los esperamos! \n  \nReuniones recurrentes– Las Pláticas se llevan a cabo cada miércoles (el 1o miércoles del mes será en persona y las demás son virtuales). \n  \nEl miércoles 27 de marzo\, a las 5:00 pm\, se llevará a cabo la plática educativa/informativa de CREO en español\, por zoom \nBienestar mental de los adolescentes. Excelente oportunidad para conocer a una consejera experta y platicar con ella. \n  \n  \n  Identificación de la reunión: 872 6117 5961 \n Contraseña:   creo
URL:https://elarcdecalifornia.org/evento/creo-ofrece-platicas-en-espanol-cada-miercoles-y-abiertas-para-toda-la-comunidad/2024-08-21/
CATEGORIES:Entrenamientos por zoom
ATTACH;FMTTYPE=image/jpeg:https://elarcdecalifornia.org/wp-content/uploads/2024/03/Screenshot-2024-03-22-at-1.05.09-PM.jpg
END:VEVENT
BEGIN:VEVENT
DTSTART;TZID=America/Los_Angeles:20240821T170000
DTEND;TZID=America/Los_Angeles:20240821T180000
DTSTAMP:20260420T045012
CREATED:20240625T211340Z
LAST-MODIFIED:20240625T211340Z
UID:10002965-1724259600-1724263200@elarcdecalifornia.org
SUMMARY:Servicios de Bienestar Infantil (CWS)
DESCRIPTION:Reuniones recurrentes— Las Pláticas se llevan a cabo cada miércoles (el 1.º miércoles del mes será en persona y las demás son virtuales. \n3 de julio – Información general En persona— en la clínica Hansen \n10 de julio— Definiciones de Abuso \n17 de julio— ¿Qué es el proceso de prevención e investigación? \n24 de julio— Cuidado de crianza y tutela \n31 de julio— Vamos a platicar con una trabajadora social experta en este tema.
URL:https://elarcdecalifornia.org/evento/servicios-de-bienestar-infantil-cws/2024-08-21/
CATEGORIES:Entrenamientos por zoom
ATTACH;FMTTYPE=image/png:https://elarcdecalifornia.org/wp-content/uploads/2024/06/Unknown.png
END:VEVENT
BEGIN:VEVENT
DTSTART;TZID=America/Los_Angeles:20240821T170000
DTEND;TZID=America/Los_Angeles:20240821T180000
DTSTAMP:20260420T045012
CREATED:20240819T202137Z
LAST-MODIFIED:20240819T202137Z
UID:10003095-1724259600-1724263200@elarcdecalifornia.org
SUMMARY:CommuniCare+OLE Caring for Napa\, Solano & Yolo Counties
DESCRIPTION:NOS COMPLACE Invitarlos a nuestra \nPlatica Titulada \nFORTALECIENDO A LA MUJER LATINA: AUTOESTIMA\, PREVENCIÓN DE LA VIOLENCIA Y BIENESTAR MENTAL \nPresentado por: \nYolanda Mendoza \nCoordinadora General de Mujer\, salud y Liderazgo.
URL:https://elarcdecalifornia.org/evento/communicareole-caring-for-napa-solano-yolo-counties/
CATEGORIES:Entrenamientos por zoom
ATTACH;FMTTYPE=image/png:https://elarcdecalifornia.org/wp-content/uploads/2024/08/Unknown-5.png
END:VEVENT
BEGIN:VEVENT
DTSTART;TZID=America/Los_Angeles:20240821T170000
DTEND;TZID=America/Los_Angeles:20240821T183000
DTSTAMP:20260420T045012
CREATED:20240412T202824Z
LAST-MODIFIED:20240605T181809Z
UID:10002176-1724259600-1724265000@elarcdecalifornia.org
SUMMARY:IMPORTANCIA DE LAS RELACIONES SOCIALES
DESCRIPTION:Únase a nuestra plática CREO el miércoles 17 de abril a las 5:00 pm. \nTema: La importancia de las relaciones sociales y cómo estás fortalecen la resiliencia personal\, contribuyendo así al bienestar familiar. \n  \nReuniones recurrentes— Las Pláticas se llevan a cabo cada miércoles (el 1.º miércoles del mes será en persona y las demás son virtuales). \nMeeting ID:  872 6117 5961 \nPassword:   creo
URL:https://elarcdecalifornia.org/evento/importancia-de-las-relaciones-sociales/2024-08-21/
CATEGORIES:Entrenamientos por zoom
ATTACH;FMTTYPE=image/jpeg:https://elarcdecalifornia.org/wp-content/uploads/2024/04/Screenshot-2024-04-12-at-1.24.25-PM.jpg
END:VEVENT
END:VCALENDAR