BEGIN:VCALENDAR
VERSION:2.0
PRODID:-//El Arc - ECPv6.15.20//NONSGML v1.0//EN
CALSCALE:GREGORIAN
METHOD:PUBLISH
X-WR-CALNAME:El Arc
X-ORIGINAL-URL:https://elarcdecalifornia.org
X-WR-CALDESC:Eventos para El Arc
REFRESH-INTERVAL;VALUE=DURATION:PT1H
X-Robots-Tag:noindex
X-PUBLISHED-TTL:PT1H
BEGIN:VTIMEZONE
TZID:America/Los_Angeles
BEGIN:DAYLIGHT
TZOFFSETFROM:-0800
TZOFFSETTO:-0700
TZNAME:PDT
DTSTART:20230312T100000
END:DAYLIGHT
BEGIN:STANDARD
TZOFFSETFROM:-0700
TZOFFSETTO:-0800
TZNAME:PST
DTSTART:20231105T090000
END:STANDARD
BEGIN:DAYLIGHT
TZOFFSETFROM:-0800
TZOFFSETTO:-0700
TZNAME:PDT
DTSTART:20240310T100000
END:DAYLIGHT
BEGIN:STANDARD
TZOFFSETFROM:-0700
TZOFFSETTO:-0800
TZNAME:PST
DTSTART:20241103T090000
END:STANDARD
BEGIN:DAYLIGHT
TZOFFSETFROM:-0800
TZOFFSETTO:-0700
TZNAME:PDT
DTSTART:20250309T100000
END:DAYLIGHT
BEGIN:STANDARD
TZOFFSETFROM:-0700
TZOFFSETTO:-0800
TZNAME:PST
DTSTART:20251102T090000
END:STANDARD
END:VTIMEZONE
BEGIN:VEVENT
DTSTART;TZID=America/Los_Angeles:20240819T100000
DTEND;TZID=America/Los_Angeles:20240819T110000
DTSTAMP:20260420T044853
CREATED:20230907T214108Z
LAST-MODIFIED:20230907T214109Z
UID:10000294-1724061600-1724065200@elarcdecalifornia.org
SUMMARY:Entrenamientos Estatales de SCDD del año 2023
DESCRIPTION:¡Nos Vemos en ZOOM!! ¡Todos los entrenamientos usarán el mismo número de juntas y contraseña todo el año! Los entrenamientos se darán en series de temas y serán ofrecidos en español. Vea las fechas y temas correspondientes en el volante. Número de Junta: 829-8230-7774 Contraseña: 123456. Para participar por teléfono\, llame al (888) 475-4499 e ingrese el número de juntas y contraseña. Para más información: (818) 543-4636 o Sofia.Cervantes@scdd.ca.gov \nLos lunes\n10:00 AM (Hora del pacífico) \nDetalles\nRegistrarse
URL:https://elarcdecalifornia.org/evento/test-event-2/2024-08-19/
CATEGORIES:Entrenamientos por zoom
END:VEVENT
BEGIN:VEVENT
DTSTART;TZID=America/Los_Angeles:20240819T100000
DTEND;TZID=America/Los_Angeles:20240819T110000
DTSTAMP:20260420T044853
CREATED:20240628T184530Z
LAST-MODIFIED:20240628T184530Z
UID:10003003-1724061600-1724065200@elarcdecalifornia.org
SUMMARY:Conexiones entre pares apoyo para padres (Español) *VIRTUAL*
DESCRIPTION:Conexiones entre pares y grupos de apoyo: ya sea que busque apoyo o desee compartir lo que ha aprendido para ayudar a otros\, los grupos de apoyo en persona y en línea están diseñados para ayudar. Las familias que asisten a grupos de apoyo pueden obtener recursos que desarrollen habilidades de autodefensa y se empoderen para tomar decisiones informadas para sus familias. \n\nLa crianza de los hijos puede ser un desafío a veces… y cuando su familia incluye a alguien con alguna discapacidad\, puede ser aún más complejo y abrumador. Esperamos conocerlo y darle la bienvenida a nuestra comunidad. Si hay un tema que le interesa discutir\, no dude en enviarle un correo electrónico a Catalina para hacérselo saber. \nNota: El grupo de apoyo es para padres de niños y adultos jóvenes con discapacidades/necesidades especiales. Este es un espacio seguro solo para padres \n***SOLICITUD: Si se registra\, pero ya no puede asistir\, envíe un correo electrónico a Patricia para informarle. Esto ayuda a nuestro personal a tiempo parcial a saber que pueden programar citas con familias\, etc. Puede comunicarse con Catalina en: PGomez@carescprc.org \n  \n\n* El Grupo de Apoyo en inglés se ofrece virtualmente el 4° sábado de la mayoría de los meses. Envíe un correo electrónico a cpartida@carescprc.org para obtener más detalles.
URL:https://elarcdecalifornia.org/evento/conexiones-entre-pares-apoyo-para-padres-espanol-virtual/2024-08-19/
CATEGORIES:Entrenamientos por zoom
ATTACH;FMTTYPE=image/png:https://elarcdecalifornia.org/wp-content/uploads/2024/06/Untitled-design-1-2048x1024-1.png
END:VEVENT
BEGIN:VEVENT
DTSTART;TZID=America/Los_Angeles:20240819T183000
DTEND;TZID=America/Los_Angeles:20240819T193000
DTSTAMP:20260420T044854
CREATED:20240819T193108Z
LAST-MODIFIED:20240819T193108Z
UID:10003086-1724092200-1724095800@elarcdecalifornia.org
SUMMARY:Serie de Esenciales de Educación Especial: Creando un Historial Documentado
DESCRIPTION:¿Es usted padre\, cuidador o proveedor de servicios de un niño de entre 2 y 21 años con discapacidades sospechadas o conocidas? Únase a nosotros para una serie en línea que empodera a los padres y cuidadores con conocimientos esenciales sobre la educación especial. Al asistir a las siete sesiones de capacitación de la serie\, recibirá un regalo por su tiempo y compromiso para apoyar el viaje de educación especial de su hijo. Nota: Se requiere inscripción para cada sesión de capacitación individual. \nDescripción de la Capacitación:\nAprende la importancia de mantener registros precisos y documentación para apoyar el camino educativo de tu hijo/a. \nTaller Posterior a la Capacitación\, después de nuestra capacitación en línea\, únase a nosotros en persona la semana siguiente para una sesión práctica que le ayudará a aplicar lo que ha aprendido a través de actividades interactivas y colaboración entre pares. Este taller proporciona experiencia práctica para apoyar la educación de su hijo. Es necesario haber asistido a la capacitación en línea anterior\, y los detalles y el registro se proporcionarán solo a los asistentes. \nPróxima Capacitación en la Serie:\nDerechos de los Padres en la Educación Especial 21 de octubre de 6:30 a 8:30 pm. Obtenga información sobre los derechos de los padres en el proceso de educación especial\, asegurándose de estar bien informado y preparado para participar de manera efectiva. \nPresentado Por:\nUn Especialista en Recursos de Educación Especial de PHP en español. \nEste seminario web fue desarrollado y posible gracias a una subvención del Departamento de Educación de los EE. UU. Priorizamos su privacidad y confidencialidad\, y nuestra política de privacidad está disponible en nuestro sitio web.\nAcomodaciones: Si necesita acomodaciones para participar en la capacitación o asistencia con la inscripción\, comuníquese con nosotros lo antes posible al 408.727.5775 #184 o nicole@php.com. Normalmente\, requerimos 10 días para organizar acomodaciones y asegurar su inclusión. \n 
URL:https://elarcdecalifornia.org/evento/serie-de-esenciales-de-educacion-especial-creando-un-historial-documentado/
CATEGORIES:Entrenamientos por zoom
ATTACH;FMTTYPE=image/png:https://elarcdecalifornia.org/wp-content/uploads/2024/08/Unknown-8.png
END:VEVENT
END:VCALENDAR