BEGIN:VCALENDAR
VERSION:2.0
PRODID:-//El Arc - ECPv6.15.20//NONSGML v1.0//EN
CALSCALE:GREGORIAN
METHOD:PUBLISH
X-WR-CALNAME:El Arc
X-ORIGINAL-URL:https://elarcdecalifornia.org
X-WR-CALDESC:Eventos para El Arc
REFRESH-INTERVAL;VALUE=DURATION:PT1H
X-Robots-Tag:noindex
X-PUBLISHED-TTL:PT1H
BEGIN:VTIMEZONE
TZID:America/Los_Angeles
BEGIN:DAYLIGHT
TZOFFSETFROM:-0800
TZOFFSETTO:-0700
TZNAME:PDT
DTSTART:20230312T100000
END:DAYLIGHT
BEGIN:STANDARD
TZOFFSETFROM:-0700
TZOFFSETTO:-0800
TZNAME:PST
DTSTART:20231105T090000
END:STANDARD
BEGIN:DAYLIGHT
TZOFFSETFROM:-0800
TZOFFSETTO:-0700
TZNAME:PDT
DTSTART:20240310T100000
END:DAYLIGHT
BEGIN:STANDARD
TZOFFSETFROM:-0700
TZOFFSETTO:-0800
TZNAME:PST
DTSTART:20241103T090000
END:STANDARD
BEGIN:DAYLIGHT
TZOFFSETFROM:-0800
TZOFFSETTO:-0700
TZNAME:PDT
DTSTART:20250309T100000
END:DAYLIGHT
BEGIN:STANDARD
TZOFFSETFROM:-0700
TZOFFSETTO:-0800
TZNAME:PST
DTSTART:20251102T090000
END:STANDARD
END:VTIMEZONE
BEGIN:VEVENT
DTSTART;TZID=America/Los_Angeles:20240729T100000
DTEND;TZID=America/Los_Angeles:20240729T110000
DTSTAMP:20260420T031942
CREATED:20230907T214108Z
LAST-MODIFIED:20230907T214109Z
UID:10000291-1722247200-1722250800@elarcdecalifornia.org
SUMMARY:Entrenamientos Estatales de SCDD del año 2023
DESCRIPTION:¡Nos Vemos en ZOOM!! ¡Todos los entrenamientos usarán el mismo número de juntas y contraseña todo el año! Los entrenamientos se darán en series de temas y serán ofrecidos en español. Vea las fechas y temas correspondientes en el volante. Número de Junta: 829-8230-7774 Contraseña: 123456. Para participar por teléfono\, llame al (888) 475-4499 e ingrese el número de juntas y contraseña. Para más información: (818) 543-4636 o Sofia.Cervantes@scdd.ca.gov \nLos lunes\n10:00 AM (Hora del pacífico) \nDetalles\nRegistrarse
URL:https://elarcdecalifornia.org/evento/test-event-2/2024-07-29/
CATEGORIES:Entrenamientos por zoom
END:VEVENT
BEGIN:VEVENT
DTSTART;TZID=America/Los_Angeles:20240729T100000
DTEND;TZID=America/Los_Angeles:20240729T110000
DTSTAMP:20260420T031942
CREATED:20240627T202806Z
LAST-MODIFIED:20240627T202806Z
UID:10002997-1722247200-1722250800@elarcdecalifornia.org
SUMMARY:Entrenamientos Estatales de SCDD JULIO 2024
DESCRIPTION:Opciones de Vivienda Para Personas con Discapacidades Intelectuales y del Desarrollo \n8 de julio @10am – español \nEl Camino con Joaquin: \nLa jornada de Abogacía de una Hermana \nInvitada Especial: Diana Pastora Carson \nEscucha la poderosa historia de la jornada de abogacía de una hermana\, desde la segregación y la institucionalización hasta una vida de pertenencia en la comunidad para su hermano. \n15 de julio @10am – inglés con interpretación simultánea en español \n¡Amar\, Apoya\, y Dejar Ir! \nInvitados Especiales: Rigo & Julie Gaona \n22 de julio @10am – inglés con interpretación simultánea en español \nSesión de Preguntas y Respuestas 29 de julio @10am – inglés y español en salas separadas de Zoom \n¡Nos vemos en Zoom! \n¡Todos los entrenamientos usarán el mismo número de juntas y contraseña todo el año! \nPara más información: \n(818) 543-4631 o Sofia. Cervantes@scdd.ca.gov
URL:https://elarcdecalifornia.org/evento/entrenamientos-estatales-de-scdd-julio-2024/2024-07-29/
CATEGORIES:Entrenamientos por zoom
ATTACH;FMTTYPE=image/png:https://elarcdecalifornia.org/wp-content/uploads/2024/06/Screenshot-2024-06-27-at-1.20.31 PM.png
END:VEVENT
END:VCALENDAR