BEGIN:VCALENDAR
VERSION:2.0
PRODID:-//El Arc - ECPv6.15.20//NONSGML v1.0//EN
CALSCALE:GREGORIAN
METHOD:PUBLISH
X-ORIGINAL-URL:https://elarcdecalifornia.org
X-WR-CALDESC:Eventos para El Arc
REFRESH-INTERVAL;VALUE=DURATION:PT1H
X-Robots-Tag:noindex
X-PUBLISHED-TTL:PT1H
BEGIN:VTIMEZONE
TZID:America/Los_Angeles
BEGIN:DAYLIGHT
TZOFFSETFROM:-0800
TZOFFSETTO:-0700
TZNAME:PDT
DTSTART:20230312T100000
END:DAYLIGHT
BEGIN:STANDARD
TZOFFSETFROM:-0700
TZOFFSETTO:-0800
TZNAME:PST
DTSTART:20231105T090000
END:STANDARD
BEGIN:DAYLIGHT
TZOFFSETFROM:-0800
TZOFFSETTO:-0700
TZNAME:PDT
DTSTART:20240310T100000
END:DAYLIGHT
BEGIN:STANDARD
TZOFFSETFROM:-0700
TZOFFSETTO:-0800
TZNAME:PST
DTSTART:20241103T090000
END:STANDARD
BEGIN:DAYLIGHT
TZOFFSETFROM:-0800
TZOFFSETTO:-0700
TZNAME:PDT
DTSTART:20250309T100000
END:DAYLIGHT
BEGIN:STANDARD
TZOFFSETFROM:-0700
TZOFFSETTO:-0800
TZNAME:PST
DTSTART:20251102T090000
END:STANDARD
END:VTIMEZONE
BEGIN:VEVENT
DTSTART;TZID=America/Los_Angeles:20240725T100000
DTEND;TZID=America/Los_Angeles:20240725T110000
DTSTAMP:20260420T032301
CREATED:20240628T183543Z
LAST-MODIFIED:20240628T183543Z
UID:10003000-1721901600-1721905200@elarcdecalifornia.org
SUMMARY:PRÓXIMA CAPACITACIÓN CARES CPRC
DESCRIPTION:Para familias de bebés\, niños y jóvenes con discapacidades\, desde el nacimiento hasta los 26 años. \nPRÓXIMA CAPACITACIÓN CARES CPRC \nContacte a CARES CPRC \n858-432-3238 Correo de voz \ninfo@carescprc.org \nwww.carescprc.org \nRegistración (obligatorio) \n\nRequest Support \n \nPedir Soporte \npara familias de bebés\, niños y jóvenes con discapacidades\, \ndesde el nacimiento hasta los 26 años. \nA continuación: Tema de presentación\, idioma en el que se presentará la capacitación\, \nfecha\, hora y lugar. Las descripciones completas de las capacitaciones se pueden \nencontrar en nuestro sitio web en carescprc.org.
URL:https://elarcdecalifornia.org/evento/proxima-capacitacion-cares-cprc/2024-07-25/
CATEGORIES:Entrenamientos por zoom
ATTACH;FMTTYPE=application/pdf:https://elarcdecalifornia.org/wp-content/uploads/2024/06/Spanish-July-2024-1.pdf
END:VEVENT
BEGIN:VEVENT
DTSTART;TZID=America/Los_Angeles:20240725T100000
DTEND;TZID=America/Los_Angeles:20240725T110000
DTSTAMP:20260420T032301
CREATED:20240628T184643Z
LAST-MODIFIED:20240628T184643Z
UID:10003010-1721901600-1721905200@elarcdecalifornia.org
SUMMARY:La vida es un viaje… ¡Prepárate para el viaje! (Transición a la edad adulta) Spanish
DESCRIPTION:La vida es un viaje… ¡Prepárate para el viaje! (Transición a la edad adulta)\nJul 25\, 2024 10:00 AM\n \nEste taller ayudará a padres y estudiantes a prepararse para el futuro. A partir de los 14 años\, los estudiantes y las escuelas deben comenzar el camino de planificación para la vida después de la escuela secundaria. Aprenda cómo redactar un Plan de Transición Individualizado (ITP) y cómo incluir a su hijo en este importante proceso. Este taller incluirá información y estrategias para estudiantes que se preparan para trabajar después de la escuela secundaria y estudiantes que van a la universidad u otros entornos educativos.
URL:https://elarcdecalifornia.org/evento/la-vida-es-un-viaje-preparate-para-el-viaje-transicion-a-la-edad-adulta-spanish/
CATEGORIES:Entrenamientos por zoom
ATTACH;FMTTYPE=image/png:https://elarcdecalifornia.org/wp-content/uploads/2024/06/Untitled-design-1-2048x1024-1.png
END:VEVENT
END:VCALENDAR