BEGIN:VCALENDAR
VERSION:2.0
PRODID:-//El Arc - ECPv6.15.20//NONSGML v1.0//EN
CALSCALE:GREGORIAN
METHOD:PUBLISH
X-ORIGINAL-URL:https://elarcdecalifornia.org
X-WR-CALDESC:Eventos para El Arc
REFRESH-INTERVAL;VALUE=DURATION:PT1H
X-Robots-Tag:noindex
X-PUBLISHED-TTL:PT1H
BEGIN:VTIMEZONE
TZID:America/Los_Angeles
BEGIN:DAYLIGHT
TZOFFSETFROM:-0800
TZOFFSETTO:-0700
TZNAME:PDT
DTSTART:20230312T100000
END:DAYLIGHT
BEGIN:STANDARD
TZOFFSETFROM:-0700
TZOFFSETTO:-0800
TZNAME:PST
DTSTART:20231105T090000
END:STANDARD
BEGIN:DAYLIGHT
TZOFFSETFROM:-0800
TZOFFSETTO:-0700
TZNAME:PDT
DTSTART:20240310T100000
END:DAYLIGHT
BEGIN:STANDARD
TZOFFSETFROM:-0700
TZOFFSETTO:-0800
TZNAME:PST
DTSTART:20241103T090000
END:STANDARD
BEGIN:DAYLIGHT
TZOFFSETFROM:-0800
TZOFFSETTO:-0700
TZNAME:PDT
DTSTART:20250309T100000
END:DAYLIGHT
BEGIN:STANDARD
TZOFFSETFROM:-0700
TZOFFSETTO:-0800
TZNAME:PST
DTSTART:20251102T090000
END:STANDARD
END:VTIMEZONE
BEGIN:VEVENT
DTSTART;TZID=America/Los_Angeles:20240701T090000
DTEND;TZID=America/Los_Angeles:20240701T103000
DTSTAMP:20260420T032216
CREATED:20240627T181403Z
LAST-MODIFIED:20240627T181403Z
UID:10002993-1719824400-1719829800@elarcdecalifornia.org
SUMMARY:Orientación de Autodeterminación
DESCRIPTION:Se requieren reuniones de orientación para los consumidores que desean participar en el Programa de autodeterminación. \nSe requieren confirmaciones de asistencia\, ya que el horario está sujeto a cambios. Confirme su asistencia a selfdeterminationenlacrc.org o al (818) 756-6314. Asegúrese de dejar su número de teléfono y una dirección de correo electrónico\, si tiene una\, para que podamos proporcionarle la información de acceso a la reunión virtual o de acceso telefónico. \nVisite el enlace para obtener información sobre Zoom
URL:https://elarcdecalifornia.org/evento/orientacion-de-autodeterminacion/
CATEGORIES:Entrenamientos por zoom
ATTACH;FMTTYPE=image/jpeg:https://elarcdecalifornia.org/wp-content/uploads/2024/06/449090979_918532213647791_1433548277658874573_n.jpg
END:VEVENT
BEGIN:VEVENT
DTSTART;TZID=America/Los_Angeles:20240701T100000
DTEND;TZID=America/Los_Angeles:20240701T110000
DTSTAMP:20260420T032216
CREATED:20230907T214108Z
LAST-MODIFIED:20230907T214109Z
UID:10000287-1719828000-1719831600@elarcdecalifornia.org
SUMMARY:Entrenamientos Estatales de SCDD del año 2023
DESCRIPTION:¡Nos Vemos en ZOOM!! ¡Todos los entrenamientos usarán el mismo número de juntas y contraseña todo el año! Los entrenamientos se darán en series de temas y serán ofrecidos en español. Vea las fechas y temas correspondientes en el volante. Número de Junta: 829-8230-7774 Contraseña: 123456. Para participar por teléfono\, llame al (888) 475-4499 e ingrese el número de juntas y contraseña. Para más información: (818) 543-4636 o Sofia.Cervantes@scdd.ca.gov \nLos lunes\n10:00 AM (Hora del pacífico) \nDetalles\nRegistrarse
URL:https://elarcdecalifornia.org/evento/test-event-2/2024-07-01/
CATEGORIES:Entrenamientos por zoom
END:VEVENT
BEGIN:VEVENT
DTSTART;TZID=America/Los_Angeles:20240701T100000
DTEND;TZID=America/Los_Angeles:20240701T110000
DTSTAMP:20260420T032216
CREATED:20240628T183919Z
LAST-MODIFIED:20240628T183919Z
UID:10003001-1719828000-1719831600@elarcdecalifornia.org
SUMMARY:Serie de 6 semanas sobre manejo del estrés: estrategias para padres (Español) Virutal
DESCRIPTION:Serie de 6 semanas sobre manejo del estrés: estrategias para padres (Español) Virutal \nLa serie Adult Reduce Stress incorpora intervenciones basadas en evidencia del campo de la psicología positiva y enfatiza formas de moderar emociones como la culpa\, el conflicto\, la preocupación y el pesimismo mediante la identificación y el uso de las fortalezas y virtudes del carácter\, el uso de las fortalezas de nuevas maneras y la práctica de ejercicios que involucran gratitud\, perdón\, gracia y optimismo.[1\,2] El plan de estudios y los ejercicios también se derivan de lo que el campo de la discapacidad y nuestros supervisores de grupo de padres en el Vanderbilt Kennedy Center coinciden en que son “mejores prácticas”. \nLa serie incluirá los siguientes temas: \n\nDel control al abandono\nDel duelo a la aceptación\nDe la culpa al perdón\nDel conflicto a la colaboración\nDel miedo a la confianza\nDel pesimismo al optimismo\n\nExpectativas: \n\nLlegando a tiempo y consistentemente para la serie.\nEl grupo es un lugar seguro.\nSea respetuoso con los puntos de vista\, los dialectos y los acentos de los demás\, y que todos tengan la oportunidad de hablar.\nConfidencialidad: las experiencias de otros participantes no deben compartirse fuera del grupo.\nLa participación activa en discusiones grupales y práctica en casa generalmente resulta en mayores beneficios.\n\nRecomendación: Se recomienda venir con lápiz y papel para tomar notas a lo largo de la serie. \nLa información de esta serie está destinada a enseñar cómo reducir el estrés a grupos de padres/cuidadores. No pretende reemplazar los servicios o consultas de salud mental.
URL:https://elarcdecalifornia.org/evento/serie-de-6-semanas-sobre-manejo-del-estres-estrategias-para-padres-espanol-virutal/
CATEGORIES:Entrenamientos por zoom
ATTACH;FMTTYPE=image/png:https://elarcdecalifornia.org/wp-content/uploads/2024/06/Untitled-design-1-2048x1024-1.png
END:VEVENT
END:VCALENDAR