BEGIN:VCALENDAR
VERSION:2.0
PRODID:-//El Arc - ECPv6.15.20//NONSGML v1.0//EN
CALSCALE:GREGORIAN
METHOD:PUBLISH
X-WR-CALNAME:El Arc
X-ORIGINAL-URL:https://elarcdecalifornia.org
X-WR-CALDESC:Eventos para El Arc
REFRESH-INTERVAL;VALUE=DURATION:PT1H
X-Robots-Tag:noindex
X-PUBLISHED-TTL:PT1H
BEGIN:VTIMEZONE
TZID:America/Los_Angeles
BEGIN:DAYLIGHT
TZOFFSETFROM:-0800
TZOFFSETTO:-0700
TZNAME:PDT
DTSTART:20230312T100000
END:DAYLIGHT
BEGIN:STANDARD
TZOFFSETFROM:-0700
TZOFFSETTO:-0800
TZNAME:PST
DTSTART:20231105T090000
END:STANDARD
BEGIN:DAYLIGHT
TZOFFSETFROM:-0800
TZOFFSETTO:-0700
TZNAME:PDT
DTSTART:20240310T100000
END:DAYLIGHT
BEGIN:STANDARD
TZOFFSETFROM:-0700
TZOFFSETTO:-0800
TZNAME:PST
DTSTART:20241103T090000
END:STANDARD
BEGIN:DAYLIGHT
TZOFFSETFROM:-0800
TZOFFSETTO:-0700
TZNAME:PDT
DTSTART:20250309T100000
END:DAYLIGHT
BEGIN:STANDARD
TZOFFSETFROM:-0700
TZOFFSETTO:-0800
TZNAME:PST
DTSTART:20251102T090000
END:STANDARD
END:VTIMEZONE
BEGIN:VEVENT
DTSTART;TZID=America/Los_Angeles:20240626T100000
DTEND;TZID=America/Los_Angeles:20240626T113000
DTSTAMP:20260420T014738
CREATED:20240413T175533Z
LAST-MODIFIED:20240413T175533Z
UID:10002435-1719396000-1719401400@elarcdecalifornia.org
SUMMARY:Pregúntale a Mariana
DESCRIPTION:¿Tienes alguna duda sobre el diagnóstico de tu hijo/a? \n¿Necesitas estrategias sociales\, de lenguaje o de aprendizaje? \nInfórmate también sobre el programa de TIGER \nAcompáñanos esta tarde a platicar con el grupo de Pregúntale a \nMariana \nMariana Leñero Solar es la instructora de la serie. La Sra. Leñero Solar es consultora psicoeducativa e instructora del programa de autodefensa \nTIGER de LRLC diseñado y enseñado por Learning Rights para fomentar las herramientas de las familias que necesitan abogar con éxito dentro de la educación especial.
URL:https://elarcdecalifornia.org/evento/preguntale-a-mariana-2/2024-06-26/
CATEGORIES:Entrenamientos por zoom
ATTACH;FMTTYPE=image/jpeg:https://elarcdecalifornia.org/wp-content/uploads/2024/04/437082046_869446008556412_2822583209303054156_n.jpg
END:VEVENT
BEGIN:VEVENT
DTSTART;TZID=America/Los_Angeles:20240626T100000
DTEND;TZID=America/Los_Angeles:20240626T120000
DTSTAMP:20260420T014738
CREATED:20240322T203733Z
LAST-MODIFIED:20240605T183432Z
UID:10002142-1719396000-1719403200@elarcdecalifornia.org
SUMMARY:TIGRE HABLA con SCDD. “¡Cómo ser un Influencer!”
DESCRIPTION:Todas las clases son virtuales de \n10:00 AM a 12:00 PM \n22 de mayo \nProcesos legislativos y presupuestarios de California: comprender cómo los \nproyectos de ley se convierten en leyes\, cómo se desarrolla el presupuesto \nestatal y las oportunidades de abogacía para hacer un impacto \n12 de junio \nDar testimonio público: cómo dar opinión pública a los diseñadores de \npolíticas\, juntas y comités e influir en las políticas públicas \n26 de junio \nCómo ser un Miembro Eficaz de una Junta Directiva \n 
URL:https://elarcdecalifornia.org/evento/tigre-habla-con-scdd-como-ser-un-influencer/2024-06-26/
CATEGORIES:Entrenamientos por zoom
ATTACH;FMTTYPE=image/jpeg:https://elarcdecalifornia.org/wp-content/uploads/2024/03/Screenshot-2024-03-22-at-1.10.28-PM.jpg
END:VEVENT
BEGIN:VEVENT
DTSTART;TZID=America/Los_Angeles:20240626T100000
DTEND;TZID=America/Los_Angeles:20240626T120000
DTSTAMP:20260420T014738
CREATED:20240508T160112Z
LAST-MODIFIED:20240605T181423Z
UID:10002471-1719396000-1719403200@elarcdecalifornia.org
SUMMARY:Serie de Talleres de Servicios Genéricos 2024 Presentado por Maria Iriarte\, Abogada Principal
DESCRIPTION:Únase a Disability Rights California mientras presentan su serie de capacitación 2024 sobre servicios genéricos. Presentado por la abogada principal María Iriarte y la defensora principal Mary Ríos. Todos los talleres se presentarán virtualmente de 10:00 am a 12:00 pm miércoles 20 de marzo: Alternativas a las tutelas miércoles 24 de abril: SSI MEDI-CAL (serie de 2 partes) lunes 6 de mayo: Información básica sobre Medi-Cal lunes 13 de mayo: Exención de Medi-Cal IHSS (serie de 4 partes) miércoles 5 de junio: Información básica sobre IHSS miércoles 12 de junio: Evaluación y reevaluación de IHSS viernes 21 de junio: Cómo calcular tus horas miércoles 26 de junio: Apelaciones de IHSS
URL:https://elarcdecalifornia.org/evento/serie-de-talleres-de-servicios-genericos-2024-presentado-por-maria-iriarte-abogada-principal/2024-06-26/
CATEGORIES:Entrenamientos por zoom
ATTACH;FMTTYPE=image/jpeg:https://elarcdecalifornia.org/wp-content/uploads/2024/05/Unknown.jpg
END:VEVENT
BEGIN:VEVENT
DTSTART;TZID=America/Los_Angeles:20240626T170000
DTEND;TZID=America/Los_Angeles:20240626T180000
DTSTAMP:20260420T014738
CREATED:20240322T202801Z
LAST-MODIFIED:20240605T181502Z
UID:10002066-1719421200-1719424800@elarcdecalifornia.org
SUMMARY:CREO ofrece platicas en español cada miércoles y abiertas para toda la comunidad.
DESCRIPTION:Saludos a todos\, \nÚnase a nuestras pláticas cada miércoles a las 5:00 pm. En español y abiertas para toda la comunidad. Abordamos temas relevantes cada semana. \n¡No se pierda la oportunidad\, los esperamos! \n  \nReuniones recurrentes– Las Pláticas se llevan a cabo cada miércoles (el 1o miércoles del mes será en persona y las demás son virtuales). \n  \nEl miércoles 27 de marzo\, a las 5:00 pm\, se llevará a cabo la plática educativa/informativa de CREO en español\, por zoom \nBienestar mental de los adolescentes. Excelente oportunidad para conocer a una consejera experta y platicar con ella. \n  \n  \n  Identificación de la reunión: 872 6117 5961 \n Contraseña:   creo
URL:https://elarcdecalifornia.org/evento/creo-ofrece-platicas-en-espanol-cada-miercoles-y-abiertas-para-toda-la-comunidad/2024-06-26/
CATEGORIES:Entrenamientos por zoom
ATTACH;FMTTYPE=image/jpeg:https://elarcdecalifornia.org/wp-content/uploads/2024/03/Screenshot-2024-03-22-at-1.05.09-PM.jpg
END:VEVENT
BEGIN:VEVENT
DTSTART;TZID=America/Los_Angeles:20240626T170000
DTEND;TZID=America/Los_Angeles:20240626T180000
DTSTAMP:20260420T014738
CREATED:20240625T210007Z
LAST-MODIFIED:20240625T210007Z
UID:10002956-1719421200-1719424800@elarcdecalifornia.org
SUMMARY:PLATICA INFORMATIVA SOBRE MEDI-CAL
DESCRIPTION:Requisitos de elegibilidad\nCobertura y beneficios\nDocumentos necesarios\npara aplicar\nServicios disponibles\n\nMeeting ID:  872 6117 5961 \nContraseña:   creo
URL:https://elarcdecalifornia.org/evento/platica-informativa-sobre-medi-cal/
CATEGORIES:Entrenamientos por zoom
ATTACH;FMTTYPE=application/pdf:https://elarcdecalifornia.org/wp-content/uploads/2024/06/CREO-Platica-06262024.pdf
END:VEVENT
BEGIN:VEVENT
DTSTART;TZID=America/Los_Angeles:20240626T170000
DTEND;TZID=America/Los_Angeles:20240626T183000
DTSTAMP:20260420T014738
CREATED:20240412T202824Z
LAST-MODIFIED:20240605T181809Z
UID:10002168-1719421200-1719426600@elarcdecalifornia.org
SUMMARY:IMPORTANCIA DE LAS RELACIONES SOCIALES
DESCRIPTION:Únase a nuestra plática CREO el miércoles 17 de abril a las 5:00 pm. \nTema: La importancia de las relaciones sociales y cómo estás fortalecen la resiliencia personal\, contribuyendo así al bienestar familiar. \n  \nReuniones recurrentes— Las Pláticas se llevan a cabo cada miércoles (el 1.º miércoles del mes será en persona y las demás son virtuales). \nMeeting ID:  872 6117 5961 \nPassword:   creo
URL:https://elarcdecalifornia.org/evento/importancia-de-las-relaciones-sociales/2024-06-26/
CATEGORIES:Entrenamientos por zoom
ATTACH;FMTTYPE=image/jpeg:https://elarcdecalifornia.org/wp-content/uploads/2024/04/Screenshot-2024-04-12-at-1.24.25-PM.jpg
END:VEVENT
END:VCALENDAR