BEGIN:VCALENDAR
VERSION:2.0
PRODID:-//El Arc - ECPv6.15.20//NONSGML v1.0//EN
CALSCALE:GREGORIAN
METHOD:PUBLISH
X-ORIGINAL-URL:https://elarcdecalifornia.org
X-WR-CALDESC:Eventos para El Arc
REFRESH-INTERVAL;VALUE=DURATION:PT1H
X-Robots-Tag:noindex
X-PUBLISHED-TTL:PT1H
BEGIN:VTIMEZONE
TZID:America/Los_Angeles
BEGIN:DAYLIGHT
TZOFFSETFROM:-0800
TZOFFSETTO:-0700
TZNAME:PDT
DTSTART:20230312T100000
END:DAYLIGHT
BEGIN:STANDARD
TZOFFSETFROM:-0700
TZOFFSETTO:-0800
TZNAME:PST
DTSTART:20231105T090000
END:STANDARD
BEGIN:DAYLIGHT
TZOFFSETFROM:-0800
TZOFFSETTO:-0700
TZNAME:PDT
DTSTART:20240310T100000
END:DAYLIGHT
BEGIN:STANDARD
TZOFFSETFROM:-0700
TZOFFSETTO:-0800
TZNAME:PST
DTSTART:20241103T090000
END:STANDARD
BEGIN:DAYLIGHT
TZOFFSETFROM:-0800
TZOFFSETTO:-0700
TZNAME:PDT
DTSTART:20250309T100000
END:DAYLIGHT
BEGIN:STANDARD
TZOFFSETFROM:-0700
TZOFFSETTO:-0800
TZNAME:PST
DTSTART:20251102T090000
END:STANDARD
END:VTIMEZONE
BEGIN:VEVENT
DTSTART;TZID=America/Los_Angeles:20240620T100000
DTEND;TZID=America/Los_Angeles:20240620T113000
DTSTAMP:20260420T015014
CREATED:20240601T194429Z
LAST-MODIFIED:20240601T194429Z
UID:10002945-1718877600-1718883000@elarcdecalifornia.org
SUMMARY:IVES TORRES FOUNDATION - ESTÁ INVITADO A ATENDER NUESTRO TALLER MENSUAL
DESCRIPTION:SERVICIOS DEL DEPARTAMENTO DE REHABILITACIÓN \nSe proveerá \ninformación sobre los servicios vocacionales y pre-vocacionales \ndisponibles por medio del Departamento de \nRehabilitación (DOR) \npara personas con discapacidad. \nPRESENTADO POR: \nLisa Navarro \nDisability Rights \nCalifornia \n  \nRegístrate con anticipación \nSI NECESITA AYUDA LLAME/TEXTO: \n951 283 6446
URL:https://elarcdecalifornia.org/evento/ives-torres-foundation-esta-invitado-a-atender-nuestro-taller-mensual/
CATEGORIES:Entrenamientos por zoom
ATTACH;FMTTYPE=image/jpeg:https://elarcdecalifornia.org/wp-content/uploads/2024/06/441927376_426173466845213_2303946191386011988_n-1.jpg
END:VEVENT
END:VCALENDAR