BEGIN:VCALENDAR
VERSION:2.0
PRODID:-//El Arc - ECPv6.15.20//NONSGML v1.0//EN
CALSCALE:GREGORIAN
METHOD:PUBLISH
X-ORIGINAL-URL:https://elarcdecalifornia.org
X-WR-CALDESC:Eventos para El Arc
REFRESH-INTERVAL;VALUE=DURATION:PT1H
X-Robots-Tag:noindex
X-PUBLISHED-TTL:PT1H
BEGIN:VTIMEZONE
TZID:America/Los_Angeles
BEGIN:DAYLIGHT
TZOFFSETFROM:-0800
TZOFFSETTO:-0700
TZNAME:PDT
DTSTART:20230312T100000
END:DAYLIGHT
BEGIN:STANDARD
TZOFFSETFROM:-0700
TZOFFSETTO:-0800
TZNAME:PST
DTSTART:20231105T090000
END:STANDARD
BEGIN:DAYLIGHT
TZOFFSETFROM:-0800
TZOFFSETTO:-0700
TZNAME:PDT
DTSTART:20240310T100000
END:DAYLIGHT
BEGIN:STANDARD
TZOFFSETFROM:-0700
TZOFFSETTO:-0800
TZNAME:PST
DTSTART:20241103T090000
END:STANDARD
BEGIN:DAYLIGHT
TZOFFSETFROM:-0800
TZOFFSETTO:-0700
TZNAME:PDT
DTSTART:20250309T100000
END:DAYLIGHT
BEGIN:STANDARD
TZOFFSETFROM:-0700
TZOFFSETTO:-0800
TZNAME:PST
DTSTART:20251102T090000
END:STANDARD
END:VTIMEZONE
BEGIN:VEVENT
DTSTART;TZID=America/Los_Angeles:20240606T140000
DTEND;TZID=America/Los_Angeles:20240606T160000
DTSTAMP:20260420T032208
CREATED:20240601T195059Z
LAST-MODIFIED:20240605T182003Z
UID:10002947-1717682400-1717689600@elarcdecalifornia.org
SUMMARY:LA FAMILIA APRENDE\, PROMUEVE Y ACTÚA (APA) Te invita a un taller virtual sobre:
DESCRIPTION:SALUD MENTAL Y \nAUTOCUIDADO\, COMBINADO CON ESTRATEGIAS PARA MANEJAR TIEMPOS DE CAMBIOS O ESTRÉS. \n  \nPresentado por \nSofia Cervantez \nDefensora del Concilio \nEstatal de Discapacidades del Desarrollo (SCDD)
URL:https://elarcdecalifornia.org/evento/la-familia-aprende-promueve-y-actua-apa-te-invita-a-un-taller-virtual-sobre/
CATEGORIES:Entrenamientos por zoom
ATTACH;FMTTYPE=image/jpeg:https://elarcdecalifornia.org/wp-content/uploads/2024/06/445360913_426177843511442_1118590069912311139_n-1.jpg
END:VEVENT
END:VCALENDAR