BEGIN:VCALENDAR
VERSION:2.0
PRODID:-//El Arc - ECPv6.15.20//NONSGML v1.0//EN
CALSCALE:GREGORIAN
METHOD:PUBLISH
X-WR-CALNAME:El Arc
X-ORIGINAL-URL:https://elarcdecalifornia.org
X-WR-CALDESC:Eventos para El Arc
REFRESH-INTERVAL;VALUE=DURATION:PT1H
X-Robots-Tag:noindex
X-PUBLISHED-TTL:PT1H
BEGIN:VTIMEZONE
TZID:America/Los_Angeles
BEGIN:DAYLIGHT
TZOFFSETFROM:-0800
TZOFFSETTO:-0700
TZNAME:PDT
DTSTART:20230312T100000
END:DAYLIGHT
BEGIN:STANDARD
TZOFFSETFROM:-0700
TZOFFSETTO:-0800
TZNAME:PST
DTSTART:20231105T090000
END:STANDARD
BEGIN:DAYLIGHT
TZOFFSETFROM:-0800
TZOFFSETTO:-0700
TZNAME:PDT
DTSTART:20240310T100000
END:DAYLIGHT
BEGIN:STANDARD
TZOFFSETFROM:-0700
TZOFFSETTO:-0800
TZNAME:PST
DTSTART:20241103T090000
END:STANDARD
BEGIN:DAYLIGHT
TZOFFSETFROM:-0800
TZOFFSETTO:-0700
TZNAME:PDT
DTSTART:20250309T100000
END:DAYLIGHT
BEGIN:STANDARD
TZOFFSETFROM:-0700
TZOFFSETTO:-0800
TZNAME:PST
DTSTART:20251102T090000
END:STANDARD
END:VTIMEZONE
BEGIN:VEVENT
DTSTART;TZID=America/Los_Angeles:20240604T120000
DTEND;TZID=America/Los_Angeles:20240604T130000
DTSTAMP:20260420T014552
CREATED:20240112T212226Z
LAST-MODIFIED:20240605T182129Z
UID:10001588-1717502400-1717506000@elarcdecalifornia.org
SUMMARY:Café Escolar grupo de apoyo Educación Especial
DESCRIPTION:Un grupo de padres para compartir sus dudas\, inquietudes y encontrar soluciones en temas escolares. Nos reunimos todos los MARTES al MEDIODÍA. Por favor\, regístrese antes de cada sesión\, ya sea si desea acompañarnos EN PERSONA O EN LÍNEA. El botón de registro se encuentra al final de esta página. Recibirá un enlace de Zoom en su correo electrónico para unirse al grupo o si desea acompañarnos en persona\, por favor regístrese y envíe un correo a patty@php.com\, lo esperamos en Parents Helping Parents\, Sobrato Center for Nonprofits\, 1400 Parkmoor Av. Suite 100\, San Jose\, CA 95126. \nNuestra especialista en recursos de PHP presentará un tema en Educación Especial durante los primeros 10-15 minutos de cada sesión y después platicaremos sobre las preguntas o comentarios que deseen compartir. \nNo importa la experiencia que tenga en este tema\, haremos un grupo amigable y de confianza para todos. Ojalá pueda acompañarnos de manera frecuente para crear unión en el grupo. \nPor ejemplo\, si usted está preocupado porque su hijo(a) va muy atrasado en la escuela\, sospecha de algún diagnóstico o está buscando una evaluación para su hijo. Así como también lo invitamos si usted ya lleva años en el camino de la Educación Especial y desea aprender más sobre sus derechos\, opciones\, si tiene dudas sobre el Programa de Educación Individualizado (IEP) o simplemente si desea compartir sus experiencias con otros padres.
URL:https://elarcdecalifornia.org/evento/cafe-escolar-grupo-de-apoyo-educacion-especial-2/2024-06-04/
CATEGORIES:Entrenamientos por zoom,Grupo de apoyos
ATTACH;FMTTYPE=image/jpeg:https://elarcdecalifornia.org/wp-content/uploads/2024/01/Unknown-1-1-1.jpeg
END:VEVENT
BEGIN:VEVENT
DTSTART;TZID=America/Los_Angeles:20240604T173000
DTEND;TZID=America/Los_Angeles:20240604T190000
DTSTAMP:20260420T014552
CREATED:20240601T194751Z
LAST-MODIFIED:20240601T194751Z
UID:10002946-1717522200-1717527600@elarcdecalifornia.org
SUMMARY:Conceptos básicos de educación especial
DESCRIPTION:¡Obtenga información sobre la elegibilidad para educación especial\, los lEP\, sus derechos como padre\, cómo se determinan los servicios y la ubicación\, y más! \nÚnete a nuestro taller “Conceptos básicos de la educación especial” para obtener una comprensión integral de los fundamentos de la educación especial. En esta sesión informativa\, explorarás temas esenciales como la elegibilidad para la educación especial\, los Programas de Educación Individualizados (IEP)\, tus derechos como padre/madre\, y el proceso intrincado detrás de la determinación de servicios y ubicación para estudiantes con necesidades de aprendizaje únicas. Ya sea que seas un padre preocupado\, un educador o cualquier persona interesada en apoyar la educación inclusiva\, este taller te proporcionará conocimientos valiosos para navegar el mundo de la educación especial con confianza. No te pierdas esta oportunidad de empoderarte y abogar de manera efectiva por los estudiantes con necesidades especiales.
URL:https://elarcdecalifornia.org/evento/conceptos-basicos-de-educacion-especial/
CATEGORIES:Entrenamientos por zoom
ATTACH;FMTTYPE=image/jpeg:https://elarcdecalifornia.org/wp-content/uploads/2024/06/447023454_426177776844782_1957953658351682048_n.jpg
END:VEVENT
BEGIN:VEVENT
DTSTART;TZID=America/Los_Angeles:20240604T190000
DTEND;TZID=America/Los_Angeles:20240604T203000
DTSTAMP:20260420T014552
CREATED:20240529T215510Z
LAST-MODIFIED:20240529T215510Z
UID:10002944-1717527600-1717533000@elarcdecalifornia.org
SUMMARY:Destinos Brillantes para Familias Latinas: Servicios del Centro Regional
DESCRIPTION:¿Le preocupa el futuro de su hijo/a con necesidades especiales? ¿Se pregunta qué ayuda existe además de la escuela? Este grupo de apoyo e información es para usted. ¡Le esperamos! Unase al grupo Destinos Brillantes para Familias Latinas. \nEl futuro será mejor para nuestras familias si nos preparamos temprano\, aprendemos sobre nuestros derechos y abogamos para asegurar que nuestros hijos/as tengan la educación\, servicios\, y la atención que requieren. \nVenga y platique en confianza con otros padres y madres. A través de la conversación\, y en un ambiente de confianza\, usted aprenderá:\n¿Qué viene a futuro para mi hijo/a con necesidades especiales?\n¿Cómo supero mis emociones que posiblemente me detienen como padre/madre?\n¿Qué servicios existen ahora y a futuro: Centro-Regional\, Beneficios-Públicos\, etc.?\n¿Qué otros recursos existen en la comunidad que pueden ayudarme?\n¿Cómo abogar efectivamente y comunicarse con profesionales? \nGrupo Completamente en Español\nFecha: cada 1er Martes del mes\nHora: 7:00 pm a 8:30 pm\nLugar: por Zoom y en persona en:\nPHP@Greenhouse\nCoworking\n7500 Monterey Road\,\nGilroy\, CA 95020 \nGrupo coordinado por una especialista en recursos de PHP. Recuerde que el 90% de las especialistas de PHP son también madres o padres de niños especiales\, y entienden de primera mano su experiencia. \nSi usted es un profesional y desea aprender sobre el grupo\, por favor comuníquese con kenia@php.com. El grupo es exclusivamente para padres de niños con discapacidades. \n\nUBICACIÓN:\nEn línea y En Persona\n7500 Monterey Road\, Gilroy\, CA 95020\n\nPatrocinado en parte por DDS Access & Equity Program\n#gilroy
URL:https://elarcdecalifornia.org/evento/destinos-brillantes-para-familias-latinas-servicios-del-centro-regional/
CATEGORIES:Entrenamientos por zoom,Eventos y entrenamientos en persona
ATTACH;FMTTYPE=image/jpeg:https://elarcdecalifornia.org/wp-content/uploads/2024/05/Unknown-1.jpeg
END:VEVENT
BEGIN:VEVENT
DTSTART;TZID=America/Los_Angeles:20240604T190000
DTEND;TZID=America/Los_Angeles:20240604T210000
DTSTAMP:20260420T014552
CREATED:20240529T215227Z
LAST-MODIFIED:20240529T215257Z
UID:10002943-1717527600-1717534800@elarcdecalifornia.org
SUMMARY:Cuidemos Nuestra Salud Emocional
DESCRIPTION:***SOLO para residentes del Condado de Santa Clara**** \nEstas 8-semanas le brindaran la oportunidad de explorar y aumentar el entendimiento sobre cómo mi bienestar físico\, mental y emocional es esencial para mí y mi familia. Estas semanas le ofrece oportunidades de autorreflexión y el cómo el impacto emocional\, niveles de estrés\, y pensamientos erróneos afectan nuestra conducta en el día-a-día. Cada sesión le ofrece estrategias para aumentar la calma en el cuerpo impactando el estilo de vida. El grupo está diseñado para ofrecer un espacio sano y seguro que aumenta la conexión social y el sentido comunitario. Este modelo ayuda a los padres a reconocer que el bienestar emocional tiene una gran importancia en el mejoramiento de la calidad de vida. \nSexta Semana: Enfocando Nuestra Energía Positiva Hacia Una Vida Saludable\n-Al encontrar recursos internos\, entonces buscamos recursos externos\n-Enfrentando el miedo de buscar la ayuda necesaria\n-Luchar contra mis pensamientos negativos sobre el recibir ayuda \nEstablecer las estrategias que me convienen y practicarlas \n¡Juntos Formando Comunidades y Familias Fuertes y Resistentes!\nPresentadora: Teresa Paromino-Navarro\, LMFT \nHecho posible gracias a fondos de El camino Health y el Condado de Santa Clara.
URL:https://elarcdecalifornia.org/evento/cuidemos-nuestra-salud-emocional/
CATEGORIES:Entrenamientos por zoom
ATTACH;FMTTYPE=image/jpeg:https://elarcdecalifornia.org/wp-content/uploads/2024/05/Unknown-1.jpeg
END:VEVENT
END:VCALENDAR