BEGIN:VCALENDAR
VERSION:2.0
PRODID:-//El Arc - ECPv6.15.20//NONSGML v1.0//EN
CALSCALE:GREGORIAN
METHOD:PUBLISH
X-WR-CALNAME:El Arc
X-ORIGINAL-URL:https://elarcdecalifornia.org
X-WR-CALDESC:Eventos para El Arc
REFRESH-INTERVAL;VALUE=DURATION:PT1H
X-Robots-Tag:noindex
X-PUBLISHED-TTL:PT1H
BEGIN:VTIMEZONE
TZID:America/Los_Angeles
BEGIN:DAYLIGHT
TZOFFSETFROM:-0800
TZOFFSETTO:-0700
TZNAME:PDT
DTSTART:20230312T100000
END:DAYLIGHT
BEGIN:STANDARD
TZOFFSETFROM:-0700
TZOFFSETTO:-0800
TZNAME:PST
DTSTART:20231105T090000
END:STANDARD
BEGIN:DAYLIGHT
TZOFFSETFROM:-0800
TZOFFSETTO:-0700
TZNAME:PDT
DTSTART:20240310T100000
END:DAYLIGHT
BEGIN:STANDARD
TZOFFSETFROM:-0700
TZOFFSETTO:-0800
TZNAME:PST
DTSTART:20241103T090000
END:STANDARD
BEGIN:DAYLIGHT
TZOFFSETFROM:-0800
TZOFFSETTO:-0700
TZNAME:PDT
DTSTART:20250309T100000
END:DAYLIGHT
BEGIN:STANDARD
TZOFFSETFROM:-0700
TZOFFSETTO:-0800
TZNAME:PST
DTSTART:20251102T090000
END:STANDARD
END:VTIMEZONE
BEGIN:VEVENT
DTSTART;TZID=America/Los_Angeles:20240522T100000
DTEND;TZID=America/Los_Angeles:20240522T113000
DTSTAMP:20260420T001327
CREATED:20240413T175533Z
LAST-MODIFIED:20240413T175533Z
UID:10002434-1716372000-1716377400@elarcdecalifornia.org
SUMMARY:Pregúntale a Mariana
DESCRIPTION:¿Tienes alguna duda sobre el diagnóstico de tu hijo/a? \n¿Necesitas estrategias sociales\, de lenguaje o de aprendizaje? \nInfórmate también sobre el programa de TIGER \nAcompáñanos esta tarde a platicar con el grupo de Pregúntale a \nMariana \nMariana Leñero Solar es la instructora de la serie. La Sra. Leñero Solar es consultora psicoeducativa e instructora del programa de autodefensa \nTIGER de LRLC diseñado y enseñado por Learning Rights para fomentar las herramientas de las familias que necesitan abogar con éxito dentro de la educación especial.
URL:https://elarcdecalifornia.org/evento/preguntale-a-mariana-2/2024-05-22/
CATEGORIES:Entrenamientos por zoom
ATTACH;FMTTYPE=image/jpeg:https://elarcdecalifornia.org/wp-content/uploads/2024/04/437082046_869446008556412_2822583209303054156_n.jpg
END:VEVENT
BEGIN:VEVENT
DTSTART;TZID=America/Los_Angeles:20240522T100000
DTEND;TZID=America/Los_Angeles:20240522T120000
DTSTAMP:20260420T001327
CREATED:20240322T203733Z
LAST-MODIFIED:20240605T183432Z
UID:10002140-1716372000-1716379200@elarcdecalifornia.org
SUMMARY:TIGRE HABLA con SCDD. “¡Cómo ser un Influencer!”
DESCRIPTION:Todas las clases son virtuales de \n10:00 AM a 12:00 PM \n22 de mayo \nProcesos legislativos y presupuestarios de California: comprender cómo los \nproyectos de ley se convierten en leyes\, cómo se desarrolla el presupuesto \nestatal y las oportunidades de abogacía para hacer un impacto \n12 de junio \nDar testimonio público: cómo dar opinión pública a los diseñadores de \npolíticas\, juntas y comités e influir en las políticas públicas \n26 de junio \nCómo ser un Miembro Eficaz de una Junta Directiva \n 
URL:https://elarcdecalifornia.org/evento/tigre-habla-con-scdd-como-ser-un-influencer/2024-05-22/
CATEGORIES:Entrenamientos por zoom
ATTACH;FMTTYPE=image/jpeg:https://elarcdecalifornia.org/wp-content/uploads/2024/03/Screenshot-2024-03-22-at-1.10.28-PM.jpg
END:VEVENT
BEGIN:VEVENT
DTSTART;TZID=America/Los_Angeles:20240522T170000
DTEND;TZID=America/Los_Angeles:20240522T180000
DTSTAMP:20260420T001327
CREATED:20240322T202801Z
LAST-MODIFIED:20240605T181502Z
UID:10002061-1716397200-1716400800@elarcdecalifornia.org
SUMMARY:CREO ofrece platicas en español cada miércoles y abiertas para toda la comunidad.
DESCRIPTION:Saludos a todos\, \nÚnase a nuestras pláticas cada miércoles a las 5:00 pm. En español y abiertas para toda la comunidad. Abordamos temas relevantes cada semana. \n¡No se pierda la oportunidad\, los esperamos! \n  \nReuniones recurrentes– Las Pláticas se llevan a cabo cada miércoles (el 1o miércoles del mes será en persona y las demás son virtuales). \n  \nEl miércoles 27 de marzo\, a las 5:00 pm\, se llevará a cabo la plática educativa/informativa de CREO en español\, por zoom \nBienestar mental de los adolescentes. Excelente oportunidad para conocer a una consejera experta y platicar con ella. \n  \n  \n  Identificación de la reunión: 872 6117 5961 \n Contraseña:   creo
URL:https://elarcdecalifornia.org/evento/creo-ofrece-platicas-en-espanol-cada-miercoles-y-abiertas-para-toda-la-comunidad/2024-05-22/
CATEGORIES:Entrenamientos por zoom
ATTACH;FMTTYPE=image/jpeg:https://elarcdecalifornia.org/wp-content/uploads/2024/03/Screenshot-2024-03-22-at-1.05.09-PM.jpg
END:VEVENT
BEGIN:VEVENT
DTSTART;TZID=America/Los_Angeles:20240522T170000
DTEND;TZID=America/Los_Angeles:20240522T183000
DTSTAMP:20260420T001327
CREATED:20231201T004729Z
LAST-MODIFIED:20231201T004729Z
UID:10001486-1716397200-1716402600@elarcdecalifornia.org
SUMMARY:La importancia de cerrar el año cuidando nuestra
DESCRIPTION:Tendrá la oportunidad de hablar con un Médico y hacerle preguntas sobre “Cuidando su Salud”\nTendrá la oportunidad de hablar con un Médico y hacerle preguntas sobre “Atención médica”\n\nGrupo virtual recurrente- Todos los miércoles a las 5:00 pm.
URL:https://elarcdecalifornia.org/evento/la-importancia-de-cerrar-el-ano-cuidando-nuestra/2024-05-22/
CATEGORIES:Entrenamientos por zoom
ATTACH;FMTTYPE=image/png:https://elarcdecalifornia.org/wp-content/uploads/2023/11/Screenshot-2023-11-30-at-4.33.45 PM.png
END:VEVENT
BEGIN:VEVENT
DTSTART;TZID=America/Los_Angeles:20240522T170000
DTEND;TZID=America/Los_Angeles:20240522T183000
DTSTAMP:20260420T001327
CREATED:20240412T202824Z
LAST-MODIFIED:20240605T181809Z
UID:10002163-1716397200-1716402600@elarcdecalifornia.org
SUMMARY:IMPORTANCIA DE LAS RELACIONES SOCIALES
DESCRIPTION:Únase a nuestra plática CREO el miércoles 17 de abril a las 5:00 pm. \nTema: La importancia de las relaciones sociales y cómo estás fortalecen la resiliencia personal\, contribuyendo así al bienestar familiar. \n  \nReuniones recurrentes— Las Pláticas se llevan a cabo cada miércoles (el 1.º miércoles del mes será en persona y las demás son virtuales). \nMeeting ID:  872 6117 5961 \nPassword:   creo
URL:https://elarcdecalifornia.org/evento/importancia-de-las-relaciones-sociales/2024-05-22/
CATEGORIES:Entrenamientos por zoom
ATTACH;FMTTYPE=image/jpeg:https://elarcdecalifornia.org/wp-content/uploads/2024/04/Screenshot-2024-04-12-at-1.24.25-PM.jpg
END:VEVENT
BEGIN:VEVENT
DTSTART;TZID=America/Los_Angeles:20240522T173000
DTEND;TZID=America/Los_Angeles:20240522T190000
DTSTAMP:20260420T001327
CREATED:20240412T201637Z
LAST-MODIFIED:20240412T201738Z
UID:10002157-1716399000-1716404400@elarcdecalifornia.org
SUMMARY:Commission de Contado de Yolo sobre EDUCATION INDUSTRY- Envejecimiento & Servicios Adultos County of Yolo Founded 1850 DD/ID Envejecimiento Cuidadores Grupo de Trabajo
DESCRIPTION:Reserva la fecha – 2024 Reuniones del Ayuntamiento \nPor favor\, únete Supervisor Jim Provenza\, Alta California Centro Regional y personal de Contado de Yolo para una conversación sobre las necesidades de los cuidadores de adultos con discapacidades intelectuales y del desarrollo en el \nContado de Yolo \nTodos reuniones 5:30 pm – 7:00 pm \n3 reuinones en persona – 1 reunión virtual \nNo hay opciones híbridas para las próximas reuniones. \nLas reuniones en persona y el Zoom virtual tendrán Lenguaje de Señas Americano y interpretación en español. \n\nmarzo 27\, 2024 – Centro de Comunidad de West Sacramento\n1075 W Capitol Ave\, West Sacramento\, CA 95691\nabril 3\, 2024 – Centro de Salud y Comunidad de Esparto-Capay Valley\n\n17340 Yolo Ave\, Esparto\, CA\, 95627 \n• mayo 2\, 2024 – Biblioteca de Winters \n708 Railroad Ave\, inters\, CA 95694 \n• mayo 22\, 2024 – Reunión virtual para compartir recomendaciones y aporte
URL:https://elarcdecalifornia.org/evento/commission-de-contado-de-yolo-sobre-education-industry-envejecimiento-servicios-adultos-county-of-yolo-founded-1850-dd-id-envejecimiento-cuidadores-grupo-de-trabajo/2024-05-22/
CATEGORIES:Entrenamientos por zoom,Eventos y entrenamientos en persona
ATTACH;FMTTYPE=image/png:https://elarcdecalifornia.org/wp-content/uploads/2024/04/Yolo-County-2024-Town-Hall-Announcements-Final-SPANISH.pdf-2.png
END:VEVENT
BEGIN:VEVENT
DTSTART;TZID=America/Los_Angeles:20240522T180000
DTEND;TZID=America/Los_Angeles:20240522T190000
DTSTAMP:20260420T001327
CREATED:20240424T225449Z
LAST-MODIFIED:20240424T225449Z
UID:10002464-1716400800-1716404400@elarcdecalifornia.org
SUMMARY:Programa para Niños Adultos Discapacitados (DAC): Un Beneficio del Seguro Social- Criterios y Calificación
DESCRIPTION:¿Alguna vez se ha preguntado acerca de los requisitos del programa para Niños Adultos Discapacitados (DAC)\, un beneficio del Seguro Social? En este seminario\, se explicarán detalladamente los criterios y requisitos necesarios para acceder al programa DAC. Obtendrá información valiosa sobre los beneficios que ofrece y conocerá a quiénes se les considera elegibles para calificar. ¡Acompáñenos para aprender más sobre cómo este programa puede ser de ayuda! \nEste seminario web será presentado por personal de Disability Rights California. \nLa presentadora no provee servicios de terapia ni consejos legales. \nEste es un evento de Connections California\, un proyecto de Parents Helping Parents – Silicon Valley. Connections California está patrocinado en parte por el Centro Regional de San Andreas y el Departamento de Servicios de Desarrollo de California.
URL:https://elarcdecalifornia.org/evento/programa-para-ninos-adultos-discapacitados-dac-un-beneficio-del-seguro-social-criterios-y-calificacion-2/
CATEGORIES:Entrenamientos por zoom
ATTACH;FMTTYPE=image/jpeg:https://elarcdecalifornia.org/wp-content/uploads/2024/04/Unknown.jpeg
END:VEVENT
END:VCALENDAR