BEGIN:VCALENDAR
VERSION:2.0
PRODID:-//El Arc - ECPv6.15.20//NONSGML v1.0//EN
CALSCALE:GREGORIAN
METHOD:PUBLISH
X-ORIGINAL-URL:https://elarcdecalifornia.org
X-WR-CALDESC:Eventos para El Arc
REFRESH-INTERVAL;VALUE=DURATION:PT1H
X-Robots-Tag:noindex
X-PUBLISHED-TTL:PT1H
BEGIN:VTIMEZONE
TZID:America/Los_Angeles
BEGIN:DAYLIGHT
TZOFFSETFROM:-0800
TZOFFSETTO:-0700
TZNAME:PDT
DTSTART:20230312T100000
END:DAYLIGHT
BEGIN:STANDARD
TZOFFSETFROM:-0700
TZOFFSETTO:-0800
TZNAME:PST
DTSTART:20231105T090000
END:STANDARD
BEGIN:DAYLIGHT
TZOFFSETFROM:-0800
TZOFFSETTO:-0700
TZNAME:PDT
DTSTART:20240310T100000
END:DAYLIGHT
BEGIN:STANDARD
TZOFFSETFROM:-0700
TZOFFSETTO:-0800
TZNAME:PST
DTSTART:20241103T090000
END:STANDARD
BEGIN:DAYLIGHT
TZOFFSETFROM:-0800
TZOFFSETTO:-0700
TZNAME:PDT
DTSTART:20250309T100000
END:DAYLIGHT
BEGIN:STANDARD
TZOFFSETFROM:-0700
TZOFFSETTO:-0800
TZNAME:PST
DTSTART:20251102T090000
END:STANDARD
END:VTIMEZONE
BEGIN:VEVENT
DTSTART;TZID=America/Los_Angeles:20240513T100000
DTEND;TZID=America/Los_Angeles:20240513T110000
DTSTAMP:20260420T001628
CREATED:20230907T214108Z
LAST-MODIFIED:20230907T214109Z
UID:10000280-1715594400-1715598000@elarcdecalifornia.org
SUMMARY:Entrenamientos Estatales de SCDD del año 2023
DESCRIPTION:¡Nos Vemos en ZOOM!! ¡Todos los entrenamientos usarán el mismo número de juntas y contraseña todo el año! Los entrenamientos se darán en series de temas y serán ofrecidos en español. Vea las fechas y temas correspondientes en el volante. Número de Junta: 829-8230-7774 Contraseña: 123456. Para participar por teléfono\, llame al (888) 475-4499 e ingrese el número de juntas y contraseña. Para más información: (818) 543-4636 o Sofia.Cervantes@scdd.ca.gov \nLos lunes\n10:00 AM (Hora del pacífico) \nDetalles\nRegistrarse
URL:https://elarcdecalifornia.org/evento/test-event-2/2024-05-13/
CATEGORIES:Entrenamientos por zoom
END:VEVENT
BEGIN:VEVENT
DTSTART;TZID=America/Los_Angeles:20240513T100000
DTEND;TZID=America/Los_Angeles:20240513T120000
DTSTAMP:20260420T001628
CREATED:20240508T160112Z
LAST-MODIFIED:20240605T181423Z
UID:10002467-1715594400-1715601600@elarcdecalifornia.org
SUMMARY:Serie de Talleres de Servicios Genéricos 2024 Presentado por Maria Iriarte\, Abogada Principal
DESCRIPTION:Únase a Disability Rights California mientras presentan su serie de capacitación 2024 sobre servicios genéricos. Presentado por la abogada principal María Iriarte y la defensora principal Mary Ríos. Todos los talleres se presentarán virtualmente de 10:00 am a 12:00 pm miércoles 20 de marzo: Alternativas a las tutelas miércoles 24 de abril: SSI MEDI-CAL (serie de 2 partes) lunes 6 de mayo: Información básica sobre Medi-Cal lunes 13 de mayo: Exención de Medi-Cal IHSS (serie de 4 partes) miércoles 5 de junio: Información básica sobre IHSS miércoles 12 de junio: Evaluación y reevaluación de IHSS viernes 21 de junio: Cómo calcular tus horas miércoles 26 de junio: Apelaciones de IHSS
URL:https://elarcdecalifornia.org/evento/serie-de-talleres-de-servicios-genericos-2024-presentado-por-maria-iriarte-abogada-principal/2024-05-13/
CATEGORIES:Entrenamientos por zoom
ATTACH;FMTTYPE=image/jpeg:https://elarcdecalifornia.org/wp-content/uploads/2024/05/Unknown.jpg
END:VEVENT
END:VCALENDAR