BEGIN:VCALENDAR
VERSION:2.0
PRODID:-//El Arc - ECPv6.15.20//NONSGML v1.0//EN
CALSCALE:GREGORIAN
METHOD:PUBLISH
X-ORIGINAL-URL:https://elarcdecalifornia.org
X-WR-CALDESC:Eventos para El Arc
REFRESH-INTERVAL;VALUE=DURATION:PT1H
X-Robots-Tag:noindex
X-PUBLISHED-TTL:PT1H
BEGIN:VTIMEZONE
TZID:America/Los_Angeles
BEGIN:DAYLIGHT
TZOFFSETFROM:-0800
TZOFFSETTO:-0700
TZNAME:PDT
DTSTART:20230312T100000
END:DAYLIGHT
BEGIN:STANDARD
TZOFFSETFROM:-0700
TZOFFSETTO:-0800
TZNAME:PST
DTSTART:20231105T090000
END:STANDARD
BEGIN:DAYLIGHT
TZOFFSETFROM:-0800
TZOFFSETTO:-0700
TZNAME:PDT
DTSTART:20240310T100000
END:DAYLIGHT
BEGIN:STANDARD
TZOFFSETFROM:-0700
TZOFFSETTO:-0800
TZNAME:PST
DTSTART:20241103T090000
END:STANDARD
BEGIN:DAYLIGHT
TZOFFSETFROM:-0800
TZOFFSETTO:-0700
TZNAME:PDT
DTSTART:20250309T100000
END:DAYLIGHT
BEGIN:STANDARD
TZOFFSETFROM:-0700
TZOFFSETTO:-0800
TZNAME:PST
DTSTART:20251102T090000
END:STANDARD
END:VTIMEZONE
BEGIN:VEVENT
DTSTART;TZID=America/Los_Angeles:20240508T080000
DTEND;TZID=America/Los_Angeles:20240508T170000
DTSTAMP:20260420T001514
CREATED:20240508T164416Z
LAST-MODIFIED:20240529T210825Z
UID:10002479-1715155200-1715187600@elarcdecalifornia.org
SUMMARY:¡Únase a un grupo de padres que promueven el cambio a nivel de sistema y política!
DESCRIPTION:¿Tiene un hijo/a con discapacidades y quiere que los sistemas cambien para servir mejor a familias como la suya?  \n¡Únase a un grupo de padres que promueven el cambio a nivel de sistema y política! \nPadres por el Cambio es una capacitación en línea GRATUITO que permite a los padres de hijos de cualquier edad con necesidades especiales\, para crear un cambio en sus escuelas y sistemas de servicio a través de los liderazgos comunitarios y promoción. \nLos padres adquieren habilidades y estrategias de defensa\, aprenden sobre el proceso legislativo y descubren cómo trabajar con las autoridades responsables de la toma de decisiones para tener influencia en políticas y sistemas. \n  \nEntrenamiento incluye 6 sesiones en persona a partir de septiembre de 2024 U 8 sesiones en línea a partir de julio de 2024. Los participantes reciben un estipendio de $125 y deben ser residentes de los condados de Santa Clara o San Mateo.  \n  \nEnvíe un formulario de solicitud antes del 9 de junio.\nEl espacio es limitado. ¡Applica hoy!
URL:https://elarcdecalifornia.org/evento/unase-a-un-grupo-de-padres-que-promueven-el-cambio-a-nivel-de-sistema-y-politica/
CATEGORIES:Entrenamientos por zoom
ATTACH;FMTTYPE=image/png:https://elarcdecalifornia.org/wp-content/uploads/2024/05/Jul-Dec-2024-Parents-for-Change-TW-_Spanish_.png
END:VEVENT
BEGIN:VEVENT
DTSTART;TZID=America/Los_Angeles:20240508T100000
DTEND;TZID=America/Los_Angeles:20240508T110000
DTSTAMP:20260420T001514
CREATED:20240424T222513Z
LAST-MODIFIED:20240424T222513Z
UID:10002460-1715162400-1715166000@elarcdecalifornia.org
SUMMARY:¿Cómo Acceder a los Servicios Sociales Recreativos del Centro Regional?
DESCRIPTION:Obtén información detallada sobre cómo acceder a servicios sociales recreativos\, conoce los requisitos que el centro regional establece para la aprobación de dichos servicios\, y descubre los pasos a seguir en caso de que tu solicitud sea denegada por el centro regional. \nEste seminario web será presentado por personal de Disability Rights California. La presentadora no provee servicios de terapia ni consejos legales.\n—————————————————————————————————————— \nEste es un evento de Connections California\, un proyecto de Parents Helping Parents – Silicon Valley. Connections California está patrocinado en parte por el Centro Regional de San Andreas y el Departamento de Servicios de Desarrollo de California.\n#CCA
URL:https://elarcdecalifornia.org/evento/como-acceder-a-los-servicios-sociales-recreativos-del-centro-regional/
CATEGORIES:Entrenamientos por zoom
ATTACH;FMTTYPE=image/jpeg:https://elarcdecalifornia.org/wp-content/uploads/2024/04/Unknown.jpeg
END:VEVENT
BEGIN:VEVENT
DTSTART;TZID=America/Los_Angeles:20240508T100000
DTEND;TZID=America/Los_Angeles:20240508T110000
DTSTAMP:20260420T001514
CREATED:20240508T154139Z
LAST-MODIFIED:20240508T154139Z
UID:10002465-1715162400-1715166000@elarcdecalifornia.org
SUMMARY:Connections California en Español WEBINAR (con PHP)
DESCRIPTION:Obtén información detallada sobre cómo acceder a servicios sociales recreativos\, conoce los requisitos que el centro regional establece para la aprobación de dichos servicios\, y descubre los pasos a seguir en caso de que tu solicitud sea denegada por el centro regional. \nEste seminario web será presentado por personal de Disability Rights California. La presentadora no provee servicios de terapia ni consejos legales.\n—————————————————————————————————————— \nEste es un evento de Connections California\, un proyecto de Parents Helping Parents – Silicon Valley. Connections California está patrocinado en parte por el Centro Regional de San Andreas y el Departamento de Servicios de Desarrollo de California.
URL:https://elarcdecalifornia.org/evento/connections-california-en-espanol-webinar-con-php/
CATEGORIES:Entrenamientos por zoom
ATTACH;FMTTYPE=image/jpeg:https://elarcdecalifornia.org/wp-content/uploads/2024/05/Unknown.jpeg
END:VEVENT
BEGIN:VEVENT
DTSTART;TZID=America/Los_Angeles:20240508T103000
DTEND;TZID=America/Los_Angeles:20240508T113000
DTSTAMP:20260420T001514
CREATED:20240508T160448Z
LAST-MODIFIED:20240508T160514Z
UID:10002472-1715164200-1715167800@elarcdecalifornia.org
SUMMARY:Grupo de Apoyo Sobre Autismo
DESCRIPTION:Únase a nosotros para conectarse con otras familias como la suya. \nEsta es una reunión de grupo de apoyo\, tú propones el tema. Es un buen momento para reunirse y aprender unos de otros mientras las familias navegan por nuestra vida diaria. ¿Necesita nuevas ideas de personas que entienden las complicaciones de su vida? De todos modos\, esta reunión será buena para compartir y cuidarse unos a otros. ¡Las nuevas familias y cuidadores siempre son bienvenidos! \nPor favor\, regístrese con anticipación haciendo clic en el botón de REGISTRARSE. \n¡La mayoría de los seminarios web\, grupos de apoyo y servicios de PHP son GRATUITOS! Estamos comprometidos a brindar contenido en línea innovador y de alta calidad a familias como la suya. \n“Este grupo es auspiciado en parte por el Departamento de Servicios del Desarrollo y su programs Access and Equity – Acceso y Equidad”
URL:https://elarcdecalifornia.org/evento/grupo-de-apoyo-sobre-autismo-4/
CATEGORIES:Entrenamientos por zoom
ATTACH;FMTTYPE=image/jpeg:https://elarcdecalifornia.org/wp-content/uploads/2024/05/Unknown-1.jpeg
END:VEVENT
BEGIN:VEVENT
DTSTART;TZID=America/Los_Angeles:20240508T140000
DTEND;TZID=America/Los_Angeles:20240508T150000
DTSTAMP:20260420T001514
CREATED:20240508T160738Z
LAST-MODIFIED:20240508T160823Z
UID:10002473-1715176800-1715180400@elarcdecalifornia.org
SUMMARY:CalABLE
DESCRIPTION:Protegiendo tu cuenta CalABLE\nEn este seminario web exploraremos:\n• Fundamentos Básicos de CalABLE\n• Medidas de seguridad de CalABLE\n• Consejos de prevención de fraude
URL:https://elarcdecalifornia.org/evento/calable/
CATEGORIES:Entrenamientos por zoom
ATTACH;FMTTYPE=image/png:https://elarcdecalifornia.org/wp-content/uploads/2024/05/Unknown-1.png
END:VEVENT
BEGIN:VEVENT
DTSTART;TZID=America/Los_Angeles:20240508T170000
DTEND;TZID=America/Los_Angeles:20240508T180000
DTSTAMP:20260420T001514
CREATED:20240305T174623Z
LAST-MODIFIED:20240305T175554Z
UID:10002029-1715187600-1715191200@elarcdecalifornia.org
SUMMARY:¿Cómo obtener ayuda financiera para continuar sus estudios superiores?
DESCRIPTION:Únase a nuestras pláticas cada miércoles a las 5:00 pm. En español y abiertas para toda la comunidad. El primer miércoles del mes se llevará a cabo en persona en Hansen Family Health Center\, y las demás de manera virtual. Abordamos temas relevantes para la comunidad cada semana. \n¡No se pierda la oportunidad\, los esperamos! \n\n¡No pierda la oportunidad de ampliar sus horizontes educativos!. Los invitamos a descubrir recursos financieros de manera inteligente por medio de un panel de expertos en el área. En persona y en español.\n\nTambién se puede reunir por Zoom
URL:https://elarcdecalifornia.org/evento/como-obtener-ayuda-financiera-para-continuar-sus-estudios-superiores/2024-05-08/
CATEGORIES:Entrenamientos por zoom,Eventos y entrenamientos en persona
ATTACH;FMTTYPE=application/pdf:https://elarcdecalifornia.org/wp-content/uploads/2024/03/CREO-Platica-03062024.pdf
END:VEVENT
BEGIN:VEVENT
DTSTART;TZID=America/Los_Angeles:20240508T170000
DTEND;TZID=America/Los_Angeles:20240508T180000
DTSTAMP:20260420T001514
CREATED:20240322T202801Z
LAST-MODIFIED:20240605T181502Z
UID:10002059-1715187600-1715191200@elarcdecalifornia.org
SUMMARY:CREO ofrece platicas en español cada miércoles y abiertas para toda la comunidad.
DESCRIPTION:Saludos a todos\, \nÚnase a nuestras pláticas cada miércoles a las 5:00 pm. En español y abiertas para toda la comunidad. Abordamos temas relevantes cada semana. \n¡No se pierda la oportunidad\, los esperamos! \n  \nReuniones recurrentes– Las Pláticas se llevan a cabo cada miércoles (el 1o miércoles del mes será en persona y las demás son virtuales). \n  \nEl miércoles 27 de marzo\, a las 5:00 pm\, se llevará a cabo la plática educativa/informativa de CREO en español\, por zoom \nBienestar mental de los adolescentes. Excelente oportunidad para conocer a una consejera experta y platicar con ella. \n  \n  \n  Identificación de la reunión: 872 6117 5961 \n Contraseña:   creo
URL:https://elarcdecalifornia.org/evento/creo-ofrece-platicas-en-espanol-cada-miercoles-y-abiertas-para-toda-la-comunidad/2024-05-08/
CATEGORIES:Entrenamientos por zoom
ATTACH;FMTTYPE=image/jpeg:https://elarcdecalifornia.org/wp-content/uploads/2024/03/Screenshot-2024-03-22-at-1.05.09-PM.jpg
END:VEVENT
BEGIN:VEVENT
DTSTART;TZID=America/Los_Angeles:20240508T170000
DTEND;TZID=America/Los_Angeles:20240508T180000
DTSTAMP:20260420T001514
CREATED:20240508T161857Z
LAST-MODIFIED:20240508T161857Z
UID:10002474-1715187600-1715191200@elarcdecalifornia.org
SUMMARY:Cuidado de Salud Mental para Mamás.
DESCRIPTION:Cuidado de Salud Mental para Mamás \npresentado por Julie Santiago y Margarita Bettencourt \nMeeting ID:  872 6117 5961 \nPassword:   creo
URL:https://elarcdecalifornia.org/evento/cuidado-de-salud-mental-para-mamas/
CATEGORIES:Entrenamientos por zoom
ATTACH;FMTTYPE=image/png:https://elarcdecalifornia.org/wp-content/uploads/2024/05/Unknown-2.png
END:VEVENT
BEGIN:VEVENT
DTSTART;TZID=America/Los_Angeles:20240508T170000
DTEND;TZID=America/Los_Angeles:20240508T183000
DTSTAMP:20260420T001514
CREATED:20231201T004729Z
LAST-MODIFIED:20231201T004729Z
UID:10001484-1715187600-1715193000@elarcdecalifornia.org
SUMMARY:La importancia de cerrar el año cuidando nuestra
DESCRIPTION:Tendrá la oportunidad de hablar con un Médico y hacerle preguntas sobre “Cuidando su Salud”\nTendrá la oportunidad de hablar con un Médico y hacerle preguntas sobre “Atención médica”\n\nGrupo virtual recurrente- Todos los miércoles a las 5:00 pm.
URL:https://elarcdecalifornia.org/evento/la-importancia-de-cerrar-el-ano-cuidando-nuestra/2024-05-08/
CATEGORIES:Entrenamientos por zoom
ATTACH;FMTTYPE=image/png:https://elarcdecalifornia.org/wp-content/uploads/2023/11/Screenshot-2023-11-30-at-4.33.45 PM.png
END:VEVENT
BEGIN:VEVENT
DTSTART;TZID=America/Los_Angeles:20240508T170000
DTEND;TZID=America/Los_Angeles:20240508T183000
DTSTAMP:20260420T001514
CREATED:20240412T202824Z
LAST-MODIFIED:20240605T181809Z
UID:10002161-1715187600-1715193000@elarcdecalifornia.org
SUMMARY:IMPORTANCIA DE LAS RELACIONES SOCIALES
DESCRIPTION:Únase a nuestra plática CREO el miércoles 17 de abril a las 5:00 pm. \nTema: La importancia de las relaciones sociales y cómo estás fortalecen la resiliencia personal\, contribuyendo así al bienestar familiar. \n  \nReuniones recurrentes— Las Pláticas se llevan a cabo cada miércoles (el 1.º miércoles del mes será en persona y las demás son virtuales). \nMeeting ID:  872 6117 5961 \nPassword:   creo
URL:https://elarcdecalifornia.org/evento/importancia-de-las-relaciones-sociales/2024-05-08/
CATEGORIES:Entrenamientos por zoom
ATTACH;FMTTYPE=image/jpeg:https://elarcdecalifornia.org/wp-content/uploads/2024/04/Screenshot-2024-04-12-at-1.24.25-PM.jpg
END:VEVENT
END:VCALENDAR