BEGIN:VCALENDAR
VERSION:2.0
PRODID:-//El Arc - ECPv6.15.20//NONSGML v1.0//EN
CALSCALE:GREGORIAN
METHOD:PUBLISH
X-ORIGINAL-URL:https://elarcdecalifornia.org
X-WR-CALDESC:Eventos para El Arc
REFRESH-INTERVAL;VALUE=DURATION:PT1H
X-Robots-Tag:noindex
X-PUBLISHED-TTL:PT1H
BEGIN:VTIMEZONE
TZID:America/Los_Angeles
BEGIN:DAYLIGHT
TZOFFSETFROM:-0800
TZOFFSETTO:-0700
TZNAME:PDT
DTSTART:20230312T100000
END:DAYLIGHT
BEGIN:STANDARD
TZOFFSETFROM:-0700
TZOFFSETTO:-0800
TZNAME:PST
DTSTART:20231105T090000
END:STANDARD
BEGIN:DAYLIGHT
TZOFFSETFROM:-0800
TZOFFSETTO:-0700
TZNAME:PDT
DTSTART:20240310T100000
END:DAYLIGHT
BEGIN:STANDARD
TZOFFSETFROM:-0700
TZOFFSETTO:-0800
TZNAME:PST
DTSTART:20241103T090000
END:STANDARD
BEGIN:DAYLIGHT
TZOFFSETFROM:-0800
TZOFFSETTO:-0700
TZNAME:PDT
DTSTART:20250309T100000
END:DAYLIGHT
BEGIN:STANDARD
TZOFFSETFROM:-0700
TZOFFSETTO:-0800
TZNAME:PST
DTSTART:20251102T090000
END:STANDARD
END:VTIMEZONE
BEGIN:VEVENT
DTSTART;TZID=America/Los_Angeles:20240507T100000
DTEND;TZID=America/Los_Angeles:20240507T110000
DTSTAMP:20260420T001512
CREATED:20240416T174422Z
LAST-MODIFIED:20240416T174422Z
UID:10002451-1715076000-1715079600@elarcdecalifornia.org
SUMMARY:Toma de Decisiones Con Apoyo\, Una Opción al Cumplir los 18 Años
DESCRIPTION:¿Te has preguntado alguna vez sobre la toma de decisiones con apoyo? Es un proceso que\, aunque comúnmente se realiza de manera informal por familias y el sistema de servicios\, resulta ser sencillo de entender y aplicar. Muchas veces\, cuando un joven con discapacidad se acerca a los 18 años\, se les indica incorrectamente a las familias que deben buscar tutela\, sugiriendo que de lo contrario perderán la capacidad de obtener información o brindar orientación y apoyo en áreas críticas como salud\, educación y otros servicios.\nPero\, ¿y si te dijéramos que hay herramientas comúnmente utilizadas que desafían esta creencia? En este seminario web\, exploraremos estas herramientas y recursos útiles diseñados para tener éxito en el proceso formal de la toma de decisiones con apoyo. \nMaribel Hernández\, Especialista en Alcance Comunitario en el Centro para la Excelencia en Discapacidades del Desarrollo (CEDD) del MIND Institute y madre de dos adultos jóvenes con autismo\, se dedica a brindar recursos y apoyo culturalmente apropiados a las familias. Como coordinadora del grupo de padres “Vamos a Platicar”\, lidera sesiones en español donde los padres comparten experiencias\, aprenden sobre diagnósticos y necesidades\, y trabajan hacia el máximo potencial de sus hijos. Maribel también es cofundadora de Colaboración Latina\, una red de agencias en California que promueve la participación proactiva y coordina la conferencia anual en español del MIND Institute\, “Aprendiendo Juntos”. Desde 2013\, contribuye de manera significativa al CEDD. \nEste es un evento de Connections California\, un proyecto de Parents Helping Parents – Silicon Valley. Connections California está patrocinado en parte por el Centro Regional de San Andreas y el Departamento de Servicios de Desarrollo de California.
URL:https://elarcdecalifornia.org/evento/toma-de-decisiones-con-apoyo-una-opcion-al-cumplir-los-18-anos/
CATEGORIES:Entrenamientos por zoom
ATTACH;FMTTYPE=image/jpeg:https://elarcdecalifornia.org/wp-content/uploads/2024/03/Unknown-5.jpeg
END:VEVENT
BEGIN:VEVENT
DTSTART;TZID=America/Los_Angeles:20240507T100000
DTEND;TZID=America/Los_Angeles:20240507T110000
DTSTAMP:20260420T001512
CREATED:20240424T221956Z
LAST-MODIFIED:20240424T222020Z
UID:10002458-1715076000-1715079600@elarcdecalifornia.org
SUMMARY:Toma de Decisiones Con Apoyo\, Una Opción al Cumplir los 18 Años
DESCRIPTION:¿Te has preguntado alguna vez sobre la toma de decisiones con apoyo? Es un proceso que\, aunque comúnmente se realiza de manera informal por familias y el sistema de servicios\, resulta ser sencillo de entender y aplicar. Muchas veces\, cuando un joven con discapacidad se acerca a los 18 años\, se les indica incorrectamente a las familias que deben buscar tutela\, sugiriendo que de lo contrario perderán la capacidad de obtener información o brindar orientación y apoyo en áreas críticas como salud\, educación y otros servicios.\nPero\, ¿y si te dijéramos que hay herramientas comúnmente utilizadas que desafían esta creencia? En este seminario web\, exploraremos estas herramientas y recursos útiles diseñados para tener éxito en el proceso formal de la toma de decisiones con apoyo. \nMaribel Hernandez\, Especialista en Alcance Comunitario en el Centro para la Excelencia en Discapacidades del Desarrollo (CEDD) del MIND Institute y madre de dos adultos jóvenes con autismo\, se dedica a brindar recursos y apoyo culturalmente apropiados a las familias. Como coordinadora del grupo de padres “Vamos a Platicar”\, lidera sesiones en español donde los padres comparten experiencias\, aprenden sobre diagnósticos y necesidades\, y trabajan hacia el máximo potencial de sus hijos. Maribel también es cofundadora de Colaboración Latina\, una red de agencias en California que promueve la participación proactiva y coordina la conferencia anual en español del MIND Institute\, “Aprendiendo Juntos”. Desde 2013\, contribuye de manera significativa al CEDD. \nEste es un evento de Connections California\, un proyecto de Parents Helping Parents – Silicon Valley. Connections California está patrocinado en parte por el Centro Regional de San Andreas y el Departamento de Servicios de Desarrollo de California.\n#CCA
URL:https://elarcdecalifornia.org/evento/toma-de-decisiones-con-apoyo-una-opcion-al-cumplir-los-18-anos-2/
CATEGORIES:Entrenamientos por zoom
ATTACH;FMTTYPE=image/jpeg:https://elarcdecalifornia.org/wp-content/uploads/2024/04/Unknown.jpeg
END:VEVENT
BEGIN:VEVENT
DTSTART;TZID=America/Los_Angeles:20240507T120000
DTEND;TZID=America/Los_Angeles:20240507T130000
DTSTAMP:20260420T001512
CREATED:20240112T212226Z
LAST-MODIFIED:20240605T182129Z
UID:10001584-1715083200-1715086800@elarcdecalifornia.org
SUMMARY:Café Escolar grupo de apoyo Educación Especial
DESCRIPTION:Un grupo de padres para compartir sus dudas\, inquietudes y encontrar soluciones en temas escolares. Nos reunimos todos los MARTES al MEDIODÍA. Por favor\, regístrese antes de cada sesión\, ya sea si desea acompañarnos EN PERSONA O EN LÍNEA. El botón de registro se encuentra al final de esta página. Recibirá un enlace de Zoom en su correo electrónico para unirse al grupo o si desea acompañarnos en persona\, por favor regístrese y envíe un correo a patty@php.com\, lo esperamos en Parents Helping Parents\, Sobrato Center for Nonprofits\, 1400 Parkmoor Av. Suite 100\, San Jose\, CA 95126. \nNuestra especialista en recursos de PHP presentará un tema en Educación Especial durante los primeros 10-15 minutos de cada sesión y después platicaremos sobre las preguntas o comentarios que deseen compartir. \nNo importa la experiencia que tenga en este tema\, haremos un grupo amigable y de confianza para todos. Ojalá pueda acompañarnos de manera frecuente para crear unión en el grupo. \nPor ejemplo\, si usted está preocupado porque su hijo(a) va muy atrasado en la escuela\, sospecha de algún diagnóstico o está buscando una evaluación para su hijo. Así como también lo invitamos si usted ya lleva años en el camino de la Educación Especial y desea aprender más sobre sus derechos\, opciones\, si tiene dudas sobre el Programa de Educación Individualizado (IEP) o simplemente si desea compartir sus experiencias con otros padres.
URL:https://elarcdecalifornia.org/evento/cafe-escolar-grupo-de-apoyo-educacion-especial-2/2024-05-07/
CATEGORIES:Entrenamientos por zoom,Grupo de apoyos
ATTACH;FMTTYPE=image/jpeg:https://elarcdecalifornia.org/wp-content/uploads/2024/01/Unknown-1-1-1.jpeg
END:VEVENT
BEGIN:VEVENT
DTSTART;TZID=America/Los_Angeles:20240507T180000
DTEND;TZID=America/Los_Angeles:20240507T193000
DTSTAMP:20260420T001512
CREATED:20240424T222309Z
LAST-MODIFIED:20240424T222309Z
UID:10002459-1715104800-1715110200@elarcdecalifornia.org
SUMMARY:Resiliencia\, Viaje en el Tiempo y Esperanza a Través del Enfoque de Social Think
DESCRIPTION:Presentado por Michelle Garcia Winner\, MA\, CCC-SLP\, la fundadora de Social Thinking y líder de pensamiento reconocida a nivel mundial\, autora\, conferencista y terapeuta socio-cognitiva. Está dedicada a ayudar a personas de todas las edades a desarrollar el aprendizaje socioemocional\, incluyendo aquellas con diferencias en el aprendizaje social. A lo largo de sus más de 35 años de carrera\, ha creado numerosas estrategias respaldadas por evidencia\, marcos de tratamiento y planes de estudio para ayudar a los profesionales de intervención a fomentar las competencias sociales en aquellos a quienes apoyan. El trabajo de Michelle también enseña cómo estas competencias impactan la vida más amplia de una persona\, incluyendo su capacidad para mantener relaciones y su éxito en la escuela y la carrera.\nLa presentación se realiza en inglés y se traduce simultáneamente al español. \nEste es un evento de Connections California\, un proyecto de Parents Helping Parents – Silicon Valley. Connections California está patrocinado en parte por el Centro Regional de San Andreas y el Departamento de Servicios de Desarrollo de California. \nAlojamientos: Si necesita alojamientos para participar en la capacitación o ayuda para registrarse por teléfono\, contáctenos al 408.727.5775 #184 o nicole@php.com lo antes posible. Normalmente\, requerimos 10 días para organizar alojamientos y queremos asegurarnos de que esté incluido/a.
URL:https://elarcdecalifornia.org/evento/resiliencia-viaje-en-el-tiempo-y-esperanza-a-traves-del-enfoque-de-social-think/
CATEGORIES:Entrenamientos por zoom
ATTACH;FMTTYPE=image/jpeg:https://elarcdecalifornia.org/wp-content/uploads/2024/04/Unknown.jpeg
END:VEVENT
END:VCALENDAR