BEGIN:VCALENDAR
VERSION:2.0
PRODID:-//El Arc - ECPv6.15.20//NONSGML v1.0//EN
CALSCALE:GREGORIAN
METHOD:PUBLISH
X-WR-CALNAME:El Arc
X-ORIGINAL-URL:https://elarcdecalifornia.org
X-WR-CALDESC:Eventos para El Arc
REFRESH-INTERVAL;VALUE=DURATION:PT1H
X-Robots-Tag:noindex
X-PUBLISHED-TTL:PT1H
BEGIN:VTIMEZONE
TZID:America/Los_Angeles
BEGIN:DAYLIGHT
TZOFFSETFROM:-0800
TZOFFSETTO:-0700
TZNAME:PDT
DTSTART:20230312T100000
END:DAYLIGHT
BEGIN:STANDARD
TZOFFSETFROM:-0700
TZOFFSETTO:-0800
TZNAME:PST
DTSTART:20231105T090000
END:STANDARD
BEGIN:DAYLIGHT
TZOFFSETFROM:-0800
TZOFFSETTO:-0700
TZNAME:PDT
DTSTART:20240310T100000
END:DAYLIGHT
BEGIN:STANDARD
TZOFFSETFROM:-0700
TZOFFSETTO:-0800
TZNAME:PST
DTSTART:20241103T090000
END:STANDARD
BEGIN:DAYLIGHT
TZOFFSETFROM:-0800
TZOFFSETTO:-0700
TZNAME:PDT
DTSTART:20250309T100000
END:DAYLIGHT
BEGIN:STANDARD
TZOFFSETFROM:-0700
TZOFFSETTO:-0800
TZNAME:PST
DTSTART:20251102T090000
END:STANDARD
END:VTIMEZONE
BEGIN:VEVENT
DTSTART;TZID=America/Los_Angeles:20240501T100000
DTEND;TZID=America/Los_Angeles:20240501T110000
DTSTAMP:20260419T224055
CREATED:20240424T221812Z
LAST-MODIFIED:20240424T221812Z
UID:10002457-1714557600-1714561200@elarcdecalifornia.org
SUMMARY:¿Qué es la Oficina de Defensa de los Derechos de los Clientes (OCRA)\, un departamento de Disability Rights California\, y en qué pueden ayudar?
DESCRIPTION:¿Conoce OCRA? Descubra cómo este departamento de Disability Rights California puede ayudar a las personas con discapacidad.\nLa Oficina de Defensa de Derechos de los Clientes (OCRA) es parte de Disability Rights California. OCRA proporciona información legal gratuita\, asesoramiento y representación a los clientes de los centros regionales. OCRA ha servido a clientes de los 21 centros regionales en todo California desde 1999. Contamos con un Defensor de Derechos de los Clientes (CRA\, por sus siglas en inglés) para cada centro regional. El CRA ayuda a proteger los derechos de los clientes de los centros regionales. \nÚnase a Alondra Castillo\, Coordinadora de Alcance para el Sur de California de Disability Rights California\, mientras explica la función de la Oficina de Defensa de Derechos de los Clientes (OCRA) y cómo puede beneficiar a las personas con discapacidad. \nAlondra se graduó en psicología de CSUSB en 2018. Antes de unirse a DRC\, trabajó como terapeuta de ABA para niños con TEA y fue coordinadora de casos con un proveedor de respiro del centro regional\, donde ayudó a familias monolingües a aprovechar sus servicios\, lo que la motivó a compartir su experiencia en defensa con OCRA. \nLa presentadora no provee servicios de terapia ni consejos legales. \nEste es un evento de Connections California. Connections California\, un proyecto de Parents Helping Parents – Silicon Valley.
URL:https://elarcdecalifornia.org/evento/que-es-la-oficina-de-defensa-de-los-derechos-de-los-clientes-ocra-un-departamento-de-disability-rights-california-y-en-que-pueden-ayudar/
CATEGORIES:Entrenamientos por zoom
ATTACH;FMTTYPE=image/jpeg:https://elarcdecalifornia.org/wp-content/uploads/2024/04/Unknown.jpeg
END:VEVENT
BEGIN:VEVENT
DTSTART;TZID=America/Los_Angeles:20240501T170000
DTEND;TZID=America/Los_Angeles:20240501T180000
DTSTAMP:20260419T224055
CREATED:20240305T174623Z
LAST-MODIFIED:20240305T175554Z
UID:10002028-1714582800-1714586400@elarcdecalifornia.org
SUMMARY:¿Cómo obtener ayuda financiera para continuar sus estudios superiores?
DESCRIPTION:Únase a nuestras pláticas cada miércoles a las 5:00 pm. En español y abiertas para toda la comunidad. El primer miércoles del mes se llevará a cabo en persona en Hansen Family Health Center\, y las demás de manera virtual. Abordamos temas relevantes para la comunidad cada semana. \n¡No se pierda la oportunidad\, los esperamos! \n\n¡No pierda la oportunidad de ampliar sus horizontes educativos!. Los invitamos a descubrir recursos financieros de manera inteligente por medio de un panel de expertos en el área. En persona y en español.\n\nTambién se puede reunir por Zoom
URL:https://elarcdecalifornia.org/evento/como-obtener-ayuda-financiera-para-continuar-sus-estudios-superiores/2024-05-01/
CATEGORIES:Entrenamientos por zoom,Eventos y entrenamientos en persona
ATTACH;FMTTYPE=application/pdf:https://elarcdecalifornia.org/wp-content/uploads/2024/03/CREO-Platica-03062024.pdf
END:VEVENT
BEGIN:VEVENT
DTSTART;TZID=America/Los_Angeles:20240501T170000
DTEND;TZID=America/Los_Angeles:20240501T180000
DTSTAMP:20260419T224055
CREATED:20240322T202801Z
LAST-MODIFIED:20240605T181502Z
UID:10002058-1714582800-1714586400@elarcdecalifornia.org
SUMMARY:CREO ofrece platicas en español cada miércoles y abiertas para toda la comunidad.
DESCRIPTION:Saludos a todos\, \nÚnase a nuestras pláticas cada miércoles a las 5:00 pm. En español y abiertas para toda la comunidad. Abordamos temas relevantes cada semana. \n¡No se pierda la oportunidad\, los esperamos! \n  \nReuniones recurrentes– Las Pláticas se llevan a cabo cada miércoles (el 1o miércoles del mes será en persona y las demás son virtuales). \n  \nEl miércoles 27 de marzo\, a las 5:00 pm\, se llevará a cabo la plática educativa/informativa de CREO en español\, por zoom \nBienestar mental de los adolescentes. Excelente oportunidad para conocer a una consejera experta y platicar con ella. \n  \n  \n  Identificación de la reunión: 872 6117 5961 \n Contraseña:   creo
URL:https://elarcdecalifornia.org/evento/creo-ofrece-platicas-en-espanol-cada-miercoles-y-abiertas-para-toda-la-comunidad/2024-05-01/
CATEGORIES:Entrenamientos por zoom
ATTACH;FMTTYPE=image/jpeg:https://elarcdecalifornia.org/wp-content/uploads/2024/03/Screenshot-2024-03-22-at-1.05.09-PM.jpg
END:VEVENT
BEGIN:VEVENT
DTSTART;TZID=America/Los_Angeles:20240501T170000
DTEND;TZID=America/Los_Angeles:20240501T183000
DTSTAMP:20260419T224055
CREATED:20231201T004729Z
LAST-MODIFIED:20231201T004729Z
UID:10001483-1714582800-1714588200@elarcdecalifornia.org
SUMMARY:La importancia de cerrar el año cuidando nuestra
DESCRIPTION:Tendrá la oportunidad de hablar con un Médico y hacerle preguntas sobre “Cuidando su Salud”\nTendrá la oportunidad de hablar con un Médico y hacerle preguntas sobre “Atención médica”\n\nGrupo virtual recurrente- Todos los miércoles a las 5:00 pm.
URL:https://elarcdecalifornia.org/evento/la-importancia-de-cerrar-el-ano-cuidando-nuestra/2024-05-01/
CATEGORIES:Entrenamientos por zoom
ATTACH;FMTTYPE=image/png:https://elarcdecalifornia.org/wp-content/uploads/2023/11/Screenshot-2023-11-30-at-4.33.45 PM.png
END:VEVENT
BEGIN:VEVENT
DTSTART;TZID=America/Los_Angeles:20240501T170000
DTEND;TZID=America/Los_Angeles:20240501T183000
DTSTAMP:20260419T224055
CREATED:20240412T202824Z
LAST-MODIFIED:20240605T181809Z
UID:10002160-1714582800-1714588200@elarcdecalifornia.org
SUMMARY:IMPORTANCIA DE LAS RELACIONES SOCIALES
DESCRIPTION:Únase a nuestra plática CREO el miércoles 17 de abril a las 5:00 pm. \nTema: La importancia de las relaciones sociales y cómo estás fortalecen la resiliencia personal\, contribuyendo así al bienestar familiar. \n  \nReuniones recurrentes— Las Pláticas se llevan a cabo cada miércoles (el 1.º miércoles del mes será en persona y las demás son virtuales). \nMeeting ID:  872 6117 5961 \nPassword:   creo
URL:https://elarcdecalifornia.org/evento/importancia-de-las-relaciones-sociales/2024-05-01/
CATEGORIES:Entrenamientos por zoom
ATTACH;FMTTYPE=image/jpeg:https://elarcdecalifornia.org/wp-content/uploads/2024/04/Screenshot-2024-04-12-at-1.24.25-PM.jpg
END:VEVENT
BEGIN:VEVENT
DTSTART;TZID=America/Los_Angeles:20240501T180000
DTEND;TZID=America/Los_Angeles:20240501T200000
DTSTAMP:20260419T224055
CREATED:20240420T000158Z
LAST-MODIFIED:20240420T000204Z
UID:10002452-1714586400-1714593600@elarcdecalifornia.org
SUMMARY:El Centro Regional del Este de la Bahía Presenta:  Una Introducción a: Opciones de vivienda en la comunida
DESCRIPTION:Virtual \nSeminario Vía Zoom Web \nPanel de Proveedores  \nMiércoles 1 de mayo\, 2024  \n6 pm-8 pm    \nUn resumen de:  \n    – Cuidado Residencial con Licencia \n    – Servicios de Vivienda con Apoyo \n    – Servicios de Vida Independiente \n    – Agencias de Hogares Familiares \n                                                                \nPara unirse al enlace para este seminario vía Zoom: \nMeeting ID (Identificación de la Reunión): 814 1782 4069 \nPasscode (Codigo de acceso): 334068 \nPare este taller gratuito si usted necesita interpretación\,  \npor favor llamar a Paola Osorio @ 510-618-6322 o escribirle un email: posorio@rceb.org \n  \n     
URL:https://elarcdecalifornia.org/evento/el-centro-regional-del-este-de-la-bahia-presenta-una-introduccion-a-opciones-de-vivienda-en-la-comunida/
CATEGORIES:Entrenamientos por zoom
ATTACH;FMTTYPE=image/png:https://elarcdecalifornia.org/wp-content/uploads/2024/04/Screenshot-2024-04-19-at-4.56.56 PM.png
END:VEVENT
END:VCALENDAR