BEGIN:VCALENDAR
VERSION:2.0
PRODID:-//El Arc - ECPv6.15.20//NONSGML v1.0//EN
CALSCALE:GREGORIAN
METHOD:PUBLISH
X-WR-CALNAME:El Arc
X-ORIGINAL-URL:https://elarcdecalifornia.org
X-WR-CALDESC:Eventos para El Arc
REFRESH-INTERVAL;VALUE=DURATION:PT1H
X-Robots-Tag:noindex
X-PUBLISHED-TTL:PT1H
BEGIN:VTIMEZONE
TZID:America/Los_Angeles
BEGIN:DAYLIGHT
TZOFFSETFROM:-0800
TZOFFSETTO:-0700
TZNAME:PDT
DTSTART:20230312T100000
END:DAYLIGHT
BEGIN:STANDARD
TZOFFSETFROM:-0700
TZOFFSETTO:-0800
TZNAME:PST
DTSTART:20231105T090000
END:STANDARD
BEGIN:DAYLIGHT
TZOFFSETFROM:-0800
TZOFFSETTO:-0700
TZNAME:PDT
DTSTART:20240310T100000
END:DAYLIGHT
BEGIN:STANDARD
TZOFFSETFROM:-0700
TZOFFSETTO:-0800
TZNAME:PST
DTSTART:20241103T090000
END:STANDARD
BEGIN:DAYLIGHT
TZOFFSETFROM:-0800
TZOFFSETTO:-0700
TZNAME:PDT
DTSTART:20250309T100000
END:DAYLIGHT
BEGIN:STANDARD
TZOFFSETFROM:-0700
TZOFFSETTO:-0800
TZNAME:PST
DTSTART:20251102T090000
END:STANDARD
END:VTIMEZONE
BEGIN:VEVENT
DTSTART;TZID=America/Los_Angeles:20240425T100000
DTEND;TZID=America/Los_Angeles:20240425T110000
DTSTAMP:20260419T224009
CREATED:20240424T220310Z
LAST-MODIFIED:20240424T220310Z
UID:10002453-1714039200-1714042800@elarcdecalifornia.org
SUMMARY:Transición a la Vida Adulta (en Español)
DESCRIPTION:Esta capacitación prepara a las familias y cuidadores para explorar oportunidades para sus hijos jóvenes adultos con un IEP después de la escuela secundaria.
URL:https://elarcdecalifornia.org/evento/transicion-a-la-vida-adulta-en-espanol/
CATEGORIES:Entrenamientos por zoom
ATTACH;FMTTYPE=image/png:https://elarcdecalifornia.org/wp-content/uploads/2024/04/Unknown.png
END:VEVENT
BEGIN:VEVENT
DTSTART;TZID=America/Los_Angeles:20240425T133000
DTEND;TZID=America/Los_Angeles:20240425T150000
DTSTAMP:20260419T224009
CREATED:20240424T220532Z
LAST-MODIFIED:20240424T221056Z
UID:10002454-1714051800-1714057200@elarcdecalifornia.org
SUMMARY:Reunión del plan de programa individual/plan de servicios centrados en la persona
DESCRIPTION:Está invitado a asistir a una reunión para revisar y proporcionar comentarios sobre la plantilla propuesta de Plan de programa individual/Plan de servicios centrados en la persona estandarizada y estatal que todos los centros regionales implementarán y utilizarán a partir del 1 de enero de 2025. Esta plantilla se ha desarrollado en consulta con los miembros del Grupo de Trabajo de Medidas de Desempeño del Centro Regional\, el Comité Asesor del Consumidor del DDS\, los Centros Regionales\, organizaciones comunitarias y otros grupos focales de Equidad y Acceso a Servicios. \nEsta reunión está abierta al público y se asignará tiempo para comentarios públicos.
URL:https://elarcdecalifornia.org/evento/reunion-del-plan-de-programa-individual-plan-de-servicios-centrados-en-la-persona/
CATEGORIES:Entrenamientos por zoom
ATTACH;FMTTYPE=image/jpeg:https://elarcdecalifornia.org/wp-content/uploads/2024/04/download.jpg
END:VEVENT
BEGIN:VEVENT
DTSTART;TZID=America/Los_Angeles:20240425T180000
DTEND;TZID=America/Los_Angeles:20240425T190000
DTSTAMP:20260419T224009
CREATED:20240424T221612Z
LAST-MODIFIED:20240424T221612Z
UID:10002456-1714068000-1714071600@elarcdecalifornia.org
SUMMARY:¿Le preocupa perder los beneficios del Seguro Social mientras trabaja?
DESCRIPTION:¿Quiere usted o un miembro de su familia trabajar\, volverse financieramente independiente y conservar sus beneficios de salud pública (Medi-Cal y/o Medicare a largo plazo? Los Planificadores de Incentivos Laborales (WIP) del Departamento de Rehabilitación (DOR) pueden apoyar el viaje. hacia la independencia financiera. \nÚnase a los WIP del DOR\, Marylin Asemota y Scott Winslow\, mientras discuten:\nElegibilidad para servicios de planificación de incentivos laborales a través del DOR\nHerramientas de gestión de beneficios\nRecursos para informes salariales\nEl programa Boleto para Trabajar de la Administración del Seguro Social\nCómo continuar recibiendo apoyo de otros proveedores de servicios una vez que se cierre su caso DOR \nConozca los hechos y disipe los mitos sobre trabajar y recibir beneficios públicos\, incluidos los Ingresos del Seguro Social (SSI)\, el Seguro de Incapacidad del Seguro Social (SSDI)\, Medi-Cal y Medicare. \nEste evento se presenta en inglés con interpretación en español en vivo. \nEste es un evento de Connections California\, un proyecto de Parents Helping Parents – Silicon Valley. Connections California está patrocinado en parte por el Centro Regional de San Andreas y el Departamento de Servicios de Desarrollo de California.
URL:https://elarcdecalifornia.org/evento/le-preocupa-perder-los-beneficios-del-seguro-social-mientras-trabaja/
CATEGORIES:Entrenamientos por zoom
ATTACH;FMTTYPE=image/jpeg:https://elarcdecalifornia.org/wp-content/uploads/2024/04/Unknown.jpeg
END:VEVENT
END:VCALENDAR