BEGIN:VCALENDAR
VERSION:2.0
PRODID:-//El Arc - ECPv6.15.20//NONSGML v1.0//EN
CALSCALE:GREGORIAN
METHOD:PUBLISH
X-WR-CALNAME:El Arc
X-ORIGINAL-URL:https://elarcdecalifornia.org
X-WR-CALDESC:Eventos para El Arc
REFRESH-INTERVAL;VALUE=DURATION:PT1H
X-Robots-Tag:noindex
X-PUBLISHED-TTL:PT1H
BEGIN:VTIMEZONE
TZID:America/Los_Angeles
BEGIN:DAYLIGHT
TZOFFSETFROM:-0800
TZOFFSETTO:-0700
TZNAME:PDT
DTSTART:20230312T100000
END:DAYLIGHT
BEGIN:STANDARD
TZOFFSETFROM:-0700
TZOFFSETTO:-0800
TZNAME:PST
DTSTART:20231105T090000
END:STANDARD
BEGIN:DAYLIGHT
TZOFFSETFROM:-0800
TZOFFSETTO:-0700
TZNAME:PDT
DTSTART:20240310T100000
END:DAYLIGHT
BEGIN:STANDARD
TZOFFSETFROM:-0700
TZOFFSETTO:-0800
TZNAME:PST
DTSTART:20241103T090000
END:STANDARD
BEGIN:DAYLIGHT
TZOFFSETFROM:-0800
TZOFFSETTO:-0700
TZNAME:PDT
DTSTART:20250309T100000
END:DAYLIGHT
BEGIN:STANDARD
TZOFFSETFROM:-0700
TZOFFSETTO:-0800
TZNAME:PST
DTSTART:20251102T090000
END:STANDARD
END:VTIMEZONE
BEGIN:VEVENT
DTSTART;TZID=America/Los_Angeles:20240424T100000
DTEND;TZID=America/Los_Angeles:20240424T113000
DTSTAMP:20260419T224013
CREATED:20240413T175533Z
LAST-MODIFIED:20240413T175533Z
UID:10002433-1713952800-1713958200@elarcdecalifornia.org
SUMMARY:Pregúntale a Mariana
DESCRIPTION:¿Tienes alguna duda sobre el diagnóstico de tu hijo/a? \n¿Necesitas estrategias sociales\, de lenguaje o de aprendizaje? \nInfórmate también sobre el programa de TIGER \nAcompáñanos esta tarde a platicar con el grupo de Pregúntale a \nMariana \nMariana Leñero Solar es la instructora de la serie. La Sra. Leñero Solar es consultora psicoeducativa e instructora del programa de autodefensa \nTIGER de LRLC diseñado y enseñado por Learning Rights para fomentar las herramientas de las familias que necesitan abogar con éxito dentro de la educación especial.
URL:https://elarcdecalifornia.org/evento/preguntale-a-mariana-2/2024-04-24/
CATEGORIES:Entrenamientos por zoom
ATTACH;FMTTYPE=image/jpeg:https://elarcdecalifornia.org/wp-content/uploads/2024/04/437082046_869446008556412_2822583209303054156_n.jpg
END:VEVENT
BEGIN:VEVENT
DTSTART;TZID=America/Los_Angeles:20240424T170000
DTEND;TZID=America/Los_Angeles:20240424T180000
DTSTAMP:20260419T224013
CREATED:20240305T174623Z
LAST-MODIFIED:20240305T175554Z
UID:10002027-1713978000-1713981600@elarcdecalifornia.org
SUMMARY:¿Cómo obtener ayuda financiera para continuar sus estudios superiores?
DESCRIPTION:Únase a nuestras pláticas cada miércoles a las 5:00 pm. En español y abiertas para toda la comunidad. El primer miércoles del mes se llevará a cabo en persona en Hansen Family Health Center\, y las demás de manera virtual. Abordamos temas relevantes para la comunidad cada semana. \n¡No se pierda la oportunidad\, los esperamos! \n\n¡No pierda la oportunidad de ampliar sus horizontes educativos!. Los invitamos a descubrir recursos financieros de manera inteligente por medio de un panel de expertos en el área. En persona y en español.\n\nTambién se puede reunir por Zoom
URL:https://elarcdecalifornia.org/evento/como-obtener-ayuda-financiera-para-continuar-sus-estudios-superiores/2024-04-24/
CATEGORIES:Entrenamientos por zoom,Eventos y entrenamientos en persona
ATTACH;FMTTYPE=application/pdf:https://elarcdecalifornia.org/wp-content/uploads/2024/03/CREO-Platica-03062024.pdf
END:VEVENT
BEGIN:VEVENT
DTSTART;TZID=America/Los_Angeles:20240424T170000
DTEND;TZID=America/Los_Angeles:20240424T180000
DTSTAMP:20260419T224013
CREATED:20240322T202801Z
LAST-MODIFIED:20240605T181502Z
UID:10002057-1713978000-1713981600@elarcdecalifornia.org
SUMMARY:CREO ofrece platicas en español cada miércoles y abiertas para toda la comunidad.
DESCRIPTION:Saludos a todos\, \nÚnase a nuestras pláticas cada miércoles a las 5:00 pm. En español y abiertas para toda la comunidad. Abordamos temas relevantes cada semana. \n¡No se pierda la oportunidad\, los esperamos! \n  \nReuniones recurrentes– Las Pláticas se llevan a cabo cada miércoles (el 1o miércoles del mes será en persona y las demás son virtuales). \n  \nEl miércoles 27 de marzo\, a las 5:00 pm\, se llevará a cabo la plática educativa/informativa de CREO en español\, por zoom \nBienestar mental de los adolescentes. Excelente oportunidad para conocer a una consejera experta y platicar con ella. \n  \n  \n  Identificación de la reunión: 872 6117 5961 \n Contraseña:   creo
URL:https://elarcdecalifornia.org/evento/creo-ofrece-platicas-en-espanol-cada-miercoles-y-abiertas-para-toda-la-comunidad/2024-04-24/
CATEGORIES:Entrenamientos por zoom
ATTACH;FMTTYPE=image/jpeg:https://elarcdecalifornia.org/wp-content/uploads/2024/03/Screenshot-2024-03-22-at-1.05.09-PM.jpg
END:VEVENT
BEGIN:VEVENT
DTSTART;TZID=America/Los_Angeles:20240424T170000
DTEND;TZID=America/Los_Angeles:20240424T183000
DTSTAMP:20260419T224013
CREATED:20231201T004729Z
LAST-MODIFIED:20231201T004729Z
UID:10001482-1713978000-1713983400@elarcdecalifornia.org
SUMMARY:La importancia de cerrar el año cuidando nuestra
DESCRIPTION:Tendrá la oportunidad de hablar con un Médico y hacerle preguntas sobre “Cuidando su Salud”\nTendrá la oportunidad de hablar con un Médico y hacerle preguntas sobre “Atención médica”\n\nGrupo virtual recurrente- Todos los miércoles a las 5:00 pm.
URL:https://elarcdecalifornia.org/evento/la-importancia-de-cerrar-el-ano-cuidando-nuestra/2024-04-24/
CATEGORIES:Entrenamientos por zoom
ATTACH;FMTTYPE=image/png:https://elarcdecalifornia.org/wp-content/uploads/2023/11/Screenshot-2023-11-30-at-4.33.45 PM.png
END:VEVENT
BEGIN:VEVENT
DTSTART;TZID=America/Los_Angeles:20240424T170000
DTEND;TZID=America/Los_Angeles:20240424T183000
DTSTAMP:20260419T224013
CREATED:20240412T202824Z
LAST-MODIFIED:20240605T181809Z
UID:10002159-1713978000-1713983400@elarcdecalifornia.org
SUMMARY:IMPORTANCIA DE LAS RELACIONES SOCIALES
DESCRIPTION:Únase a nuestra plática CREO el miércoles 17 de abril a las 5:00 pm. \nTema: La importancia de las relaciones sociales y cómo estás fortalecen la resiliencia personal\, contribuyendo así al bienestar familiar. \n  \nReuniones recurrentes— Las Pláticas se llevan a cabo cada miércoles (el 1.º miércoles del mes será en persona y las demás son virtuales). \nMeeting ID:  872 6117 5961 \nPassword:   creo
URL:https://elarcdecalifornia.org/evento/importancia-de-las-relaciones-sociales/2024-04-24/
CATEGORIES:Entrenamientos por zoom
ATTACH;FMTTYPE=image/jpeg:https://elarcdecalifornia.org/wp-content/uploads/2024/04/Screenshot-2024-04-12-at-1.24.25-PM.jpg
END:VEVENT
END:VCALENDAR