BEGIN:VCALENDAR
VERSION:2.0
PRODID:-//El Arc - ECPv6.15.20//NONSGML v1.0//EN
CALSCALE:GREGORIAN
METHOD:PUBLISH
X-WR-CALNAME:El Arc
X-ORIGINAL-URL:https://elarcdecalifornia.org
X-WR-CALDESC:Eventos para El Arc
REFRESH-INTERVAL;VALUE=DURATION:PT1H
X-Robots-Tag:noindex
X-PUBLISHED-TTL:PT1H
BEGIN:VTIMEZONE
TZID:America/Los_Angeles
BEGIN:DAYLIGHT
TZOFFSETFROM:-0800
TZOFFSETTO:-0700
TZNAME:PDT
DTSTART:20230312T100000
END:DAYLIGHT
BEGIN:STANDARD
TZOFFSETFROM:-0700
TZOFFSETTO:-0800
TZNAME:PST
DTSTART:20231105T090000
END:STANDARD
BEGIN:DAYLIGHT
TZOFFSETFROM:-0800
TZOFFSETTO:-0700
TZNAME:PDT
DTSTART:20240310T100000
END:DAYLIGHT
BEGIN:STANDARD
TZOFFSETFROM:-0700
TZOFFSETTO:-0800
TZNAME:PST
DTSTART:20241103T090000
END:STANDARD
BEGIN:DAYLIGHT
TZOFFSETFROM:-0800
TZOFFSETTO:-0700
TZNAME:PDT
DTSTART:20250309T100000
END:DAYLIGHT
BEGIN:STANDARD
TZOFFSETFROM:-0700
TZOFFSETTO:-0800
TZNAME:PST
DTSTART:20251102T090000
END:STANDARD
END:VTIMEZONE
BEGIN:VEVENT
DTSTART;TZID=America/Los_Angeles:20240423T100000
DTEND;TZID=America/Los_Angeles:20240423T110000
DTSTAMP:20260419T224011
CREATED:20240416T174018Z
LAST-MODIFIED:20240416T174018Z
UID:10002449-1713866400-1713870000@elarcdecalifornia.org
SUMMARY:Toma de Decisiones Con Apoyo (SDM): ¿Que es y Cómo funciona?
DESCRIPTION:La toma de decisiones con apoyo\, un proceso que frecuentemente se practica informalmente por las familias y nuestro sistema de servicio\, no es un procedimiento difícil. A menudo\, cuando un joven con discapacidad se acerca a la edad de 18 años\, se les dice erróneamente a las familias que deben buscar la tutela\, sugiriendo que de lo contrario perderán la capacidad de obtener información o brindar orientación y apoyo en áreas críticas como salud\, educación y otros servicios. \nContrario a esta creencia\, existen diversas herramientas comúnmente utilizadas que permiten a las familias continuar proporcionando apoyo a sus seres queridos. El Proyecto de Ley 1663 de la Asamblea\, en vigor desde el 1 de enero de 2023\, modificó el Código de Instituciones y Bienestar de California\, agregando nuevas secciones que promulgan la ley de Toma de Decisiones Apoyadas. Esta ley formaliza la toma de decisiones con apoyo para reducir la cantidad de personas a quienes\, de otra manera\, una tutela les quitaría sus derechos. \nEn este contexto\, ¿qué implica exactamente la toma de decisiones con apoyo y cómo funciona este proceso? Únase a este seminario web donde se explicara más detalladamente sobre este importante tema. \nMaribel Hernández\, Especialista en Alcance Comunitario en el Centro para la Excelencia en Discapacidades del Desarrollo (CEDD) del MIND Institute y madre de dos adultos jóvenes con autismo\, se dedica a brindar recursos y apoyo culturalmente apropiados a las familias. Como coordinadora del grupo de padres “Vamos a Platicar”\, lidera sesiones en español donde los padres comparten experiencias\, aprenden sobre diagnósticos y necesidades\, y trabajan hacia el máximo potencial de sus hijos. Maribel también es cofundadora de Colaboración Latina\, una red de agencias en California que promueve la participación proactiva y coordina la conferencia anual en español del MIND Institute\, “Aprendiendo Juntos”. Desde 2013\, contribuye de manera significativa al CEDD. \nEste es un evento de Connections California\, un proyecto de Parents Helping Parents – Silicon Valley. Connections California está patrocinado en parte por el Centro Regional de San Andreas y el Departamento de Servicios de Desarrollo de California.
URL:https://elarcdecalifornia.org/evento/toma-de-decisiones-con-apoyo-sdm-que-es-y-como-funciona/
CATEGORIES:Entrenamientos por zoom
ATTACH;FMTTYPE=image/jpeg:https://elarcdecalifornia.org/wp-content/uploads/2024/03/Unknown-5.jpeg
END:VEVENT
BEGIN:VEVENT
DTSTART;TZID=America/Los_Angeles:20240423T120000
DTEND;TZID=America/Los_Angeles:20240423T130000
DTSTAMP:20260419T224011
CREATED:20240112T212226Z
LAST-MODIFIED:20240605T182129Z
UID:10001582-1713873600-1713877200@elarcdecalifornia.org
SUMMARY:Café Escolar grupo de apoyo Educación Especial
DESCRIPTION:Un grupo de padres para compartir sus dudas\, inquietudes y encontrar soluciones en temas escolares. Nos reunimos todos los MARTES al MEDIODÍA. Por favor\, regístrese antes de cada sesión\, ya sea si desea acompañarnos EN PERSONA O EN LÍNEA. El botón de registro se encuentra al final de esta página. Recibirá un enlace de Zoom en su correo electrónico para unirse al grupo o si desea acompañarnos en persona\, por favor regístrese y envíe un correo a patty@php.com\, lo esperamos en Parents Helping Parents\, Sobrato Center for Nonprofits\, 1400 Parkmoor Av. Suite 100\, San Jose\, CA 95126. \nNuestra especialista en recursos de PHP presentará un tema en Educación Especial durante los primeros 10-15 minutos de cada sesión y después platicaremos sobre las preguntas o comentarios que deseen compartir. \nNo importa la experiencia que tenga en este tema\, haremos un grupo amigable y de confianza para todos. Ojalá pueda acompañarnos de manera frecuente para crear unión en el grupo. \nPor ejemplo\, si usted está preocupado porque su hijo(a) va muy atrasado en la escuela\, sospecha de algún diagnóstico o está buscando una evaluación para su hijo. Así como también lo invitamos si usted ya lleva años en el camino de la Educación Especial y desea aprender más sobre sus derechos\, opciones\, si tiene dudas sobre el Programa de Educación Individualizado (IEP) o simplemente si desea compartir sus experiencias con otros padres.
URL:https://elarcdecalifornia.org/evento/cafe-escolar-grupo-de-apoyo-educacion-especial-2/2024-04-23/
CATEGORIES:Entrenamientos por zoom,Grupo de apoyos
ATTACH;FMTTYPE=image/jpeg:https://elarcdecalifornia.org/wp-content/uploads/2024/01/Unknown-1-1-1.jpeg
END:VEVENT
BEGIN:VEVENT
DTSTART;TZID=America/Los_Angeles:20240423T160000
DTEND;TZID=America/Los_Angeles:20240423T180000
DTSTAMP:20260419T224011
CREATED:20240413T174826Z
LAST-MODIFIED:20240413T174826Z
UID:10002432-1713888000-1713895200@elarcdecalifornia.org
SUMMARY:Seguridad de Ingreso Suplementario (SSI) Por los Padres Navegadores de CHLA
DESCRIPTION:Te invitamos a unirse a nuestro taller de Seguridad de Ingreso \nSuplementario (SSI). SSI es un programa que proporciona pagos mensuales a adultos y niños con discapacidad que tienen bajos ingresos y pocos recursos. Proporcionaremos una descripción general del programa SSI\, elegibilidad\, cómo solicitar SSI\, los beneficios ofrecidos y qué información debe informarse al Seguro Social.
URL:https://elarcdecalifornia.org/evento/seguridad-de-ingreso-suplementario-ssi-por-los-padres-navegadores-de-chla/
CATEGORIES:Entrenamientos por zoom
ATTACH;FMTTYPE=image/jpeg:https://elarcdecalifornia.org/wp-content/uploads/2024/04/423715666_921705463291460_5195433398968021066_n.jpg
END:VEVENT
END:VCALENDAR