BEGIN:VCALENDAR
VERSION:2.0
PRODID:-//El Arc - ECPv6.15.20//NONSGML v1.0//EN
CALSCALE:GREGORIAN
METHOD:PUBLISH
X-WR-CALNAME:El Arc
X-ORIGINAL-URL:https://elarcdecalifornia.org
X-WR-CALDESC:Eventos para El Arc
REFRESH-INTERVAL;VALUE=DURATION:PT1H
X-Robots-Tag:noindex
X-PUBLISHED-TTL:PT1H
BEGIN:VTIMEZONE
TZID:America/Los_Angeles
BEGIN:DAYLIGHT
TZOFFSETFROM:-0800
TZOFFSETTO:-0700
TZNAME:PDT
DTSTART:20230312T100000
END:DAYLIGHT
BEGIN:STANDARD
TZOFFSETFROM:-0700
TZOFFSETTO:-0800
TZNAME:PST
DTSTART:20231105T090000
END:STANDARD
BEGIN:DAYLIGHT
TZOFFSETFROM:-0800
TZOFFSETTO:-0700
TZNAME:PDT
DTSTART:20240310T100000
END:DAYLIGHT
BEGIN:STANDARD
TZOFFSETFROM:-0700
TZOFFSETTO:-0800
TZNAME:PST
DTSTART:20241103T090000
END:STANDARD
BEGIN:DAYLIGHT
TZOFFSETFROM:-0800
TZOFFSETTO:-0700
TZNAME:PDT
DTSTART:20250309T100000
END:DAYLIGHT
BEGIN:STANDARD
TZOFFSETFROM:-0700
TZOFFSETTO:-0800
TZNAME:PST
DTSTART:20251102T090000
END:STANDARD
END:VTIMEZONE
BEGIN:VEVENT
DTSTART;TZID=America/Los_Angeles:20240418T100000
DTEND;TZID=America/Los_Angeles:20240418T110000
DTSTAMP:20260419T224010
CREATED:20240413T173310Z
LAST-MODIFIED:20240413T173359Z
UID:10002430-1713434400-1713438000@elarcdecalifornia.org
SUMMARY:Comprendiendo la educación especial y su IEP (En Español)
DESCRIPTION:Únase a nosotros para obtener una descripción general de la educación especial y el proceso del IEP. Conozca el contenido del IEP junto con consejos para prepararse para la reunión de educación especial de su hijo. Obtenga respuestas a sus preguntas e interactúe con su equipo del IEP con confianza.
URL:https://elarcdecalifornia.org/evento/comprendiendo-la-educacion-especial-y-su-iep-en-espanol/
CATEGORIES:Entrenamientos por zoom
ATTACH;FMTTYPE=image/png:https://elarcdecalifornia.org/wp-content/uploads/2023/03/image011.png
END:VEVENT
BEGIN:VEVENT
DTSTART;TZID=America/Los_Angeles:20240418T130000
DTEND;TZID=America/Los_Angeles:20240418T140000
DTSTAMP:20260419T224010
CREATED:20240413T181917Z
LAST-MODIFIED:20240413T181917Z
UID:10002442-1713445200-1713448800@elarcdecalifornia.org
SUMMARY:Derechos del persona en virtud de La Ley Lanterman
DESCRIPTION:  \nTema: Recreación social \nINFÓRMESE SOBRE SUS DERECHOS OBTENGA RESPUESTAS A SUS PREGUNTAS.
URL:https://elarcdecalifornia.org/evento/derechos-del-persona-en-virtud-de-la-ley-lanterman/
CATEGORIES:Entrenamientos por zoom
ATTACH;FMTTYPE=image/jpeg:https://elarcdecalifornia.org/wp-content/uploads/2024/04/437875346_869015371932809_3976381927302556853_n.jpg
END:VEVENT
END:VCALENDAR