BEGIN:VCALENDAR
VERSION:2.0
PRODID:-//El Arc - ECPv6.15.20//NONSGML v1.0//EN
CALSCALE:GREGORIAN
METHOD:PUBLISH
X-ORIGINAL-URL:https://elarcdecalifornia.org
X-WR-CALDESC:Eventos para El Arc
REFRESH-INTERVAL;VALUE=DURATION:PT1H
X-Robots-Tag:noindex
X-PUBLISHED-TTL:PT1H
BEGIN:VTIMEZONE
TZID:America/Los_Angeles
BEGIN:DAYLIGHT
TZOFFSETFROM:-0800
TZOFFSETTO:-0700
TZNAME:PDT
DTSTART:20230312T100000
END:DAYLIGHT
BEGIN:STANDARD
TZOFFSETFROM:-0700
TZOFFSETTO:-0800
TZNAME:PST
DTSTART:20231105T090000
END:STANDARD
BEGIN:DAYLIGHT
TZOFFSETFROM:-0800
TZOFFSETTO:-0700
TZNAME:PDT
DTSTART:20240310T100000
END:DAYLIGHT
BEGIN:STANDARD
TZOFFSETFROM:-0700
TZOFFSETTO:-0800
TZNAME:PST
DTSTART:20241103T090000
END:STANDARD
BEGIN:DAYLIGHT
TZOFFSETFROM:-0800
TZOFFSETTO:-0700
TZNAME:PDT
DTSTART:20250309T100000
END:DAYLIGHT
BEGIN:STANDARD
TZOFFSETFROM:-0700
TZOFFSETTO:-0800
TZNAME:PST
DTSTART:20251102T090000
END:STANDARD
END:VTIMEZONE
BEGIN:VEVENT
DTSTART;TZID=America/Los_Angeles:20240413T080000
DTEND;TZID=America/Los_Angeles:20240413T170000
DTSTAMP:20260419T224240
CREATED:20240413T182615Z
LAST-MODIFIED:20240413T182615Z
UID:10002444-1712995200-1713027600@elarcdecalifornia.org
SUMMARY:Entrenamiento de Planificación Centrada en la Persona - patrocinada por el Comité RCOC SDP LVAC /
DESCRIPTION:Entrenamiento de planificación centrada en la persona patrocinada por el comité de COC SDP LVAC \nVía Zoom el 20 de abril de 2024 a las 11:00 a.m. — 12:30 p.m. \nEl 18 de mayo de 2024 a las 11:00 a.m. — 12:30 p.m. \nEl 15 de junio de 2024 a las 11:00 a.m. — 12:30 p.m. \nBienvenidos a nuestro entrenamiento de tres partes sobre la planificación centrada en la persona\, la pieza más esencial del programa de autodeterminación. Esta serie de tres partes les enseñarán sobre los planes centrados en la persona y cómo utilizarlos en el programa de autodeterminación.
URL:https://elarcdecalifornia.org/evento/entrenamiento-de-planificacion-centrada-en-la-persona-patrocinada-por-el-comite-rcoc-sdp-lvac/2024-04-13/
CATEGORIES:Entrenamientos por zoom
ATTACH;FMTTYPE=image/jpeg:https://elarcdecalifornia.org/wp-content/uploads/2024/04/435301757_811563944337517_4544372876575964018_n.jpg
END:VEVENT
END:VCALENDAR