BEGIN:VCALENDAR
VERSION:2.0
PRODID:-//El Arc - ECPv6.15.20//NONSGML v1.0//EN
CALSCALE:GREGORIAN
METHOD:PUBLISH
X-WR-CALNAME:El Arc
X-ORIGINAL-URL:https://elarcdecalifornia.org
X-WR-CALDESC:Eventos para El Arc
REFRESH-INTERVAL;VALUE=DURATION:PT1H
X-Robots-Tag:noindex
X-PUBLISHED-TTL:PT1H
BEGIN:VTIMEZONE
TZID:America/Los_Angeles
BEGIN:DAYLIGHT
TZOFFSETFROM:-0800
TZOFFSETTO:-0700
TZNAME:PDT
DTSTART:20230312T100000
END:DAYLIGHT
BEGIN:STANDARD
TZOFFSETFROM:-0700
TZOFFSETTO:-0800
TZNAME:PST
DTSTART:20231105T090000
END:STANDARD
BEGIN:DAYLIGHT
TZOFFSETFROM:-0800
TZOFFSETTO:-0700
TZNAME:PDT
DTSTART:20240310T100000
END:DAYLIGHT
BEGIN:STANDARD
TZOFFSETFROM:-0700
TZOFFSETTO:-0800
TZNAME:PST
DTSTART:20241103T090000
END:STANDARD
BEGIN:DAYLIGHT
TZOFFSETFROM:-0800
TZOFFSETTO:-0700
TZNAME:PDT
DTSTART:20250309T100000
END:DAYLIGHT
BEGIN:STANDARD
TZOFFSETFROM:-0700
TZOFFSETTO:-0800
TZNAME:PST
DTSTART:20251102T090000
END:STANDARD
END:VTIMEZONE
BEGIN:VEVENT
DTSTART;VALUE=DATE:20240405
DTEND;VALUE=DATE:20240407
DTSTAMP:20260419T224011
CREATED:20240305T184332Z
LAST-MODIFIED:20240305T184332Z
UID:10002034-1712275200-1712447999@elarcdecalifornia.org
SUMMARY:Conferencia sobre discapacidad del desarrollo y Neurodiversidad
DESCRIPTION:Conferencia sobre discapacidades del desarrollo y neurodiversidad 2024 ¡Únase a nosotros para una emocionante conferencia centrada en las discapacidades del desarrollo y la neurodiversidad! Este evento presencial y virtual se llevará a cabo en el Centro Comunitario Joseph Nelson en Suisun City\, CA\, EE. UU. Conozca los últimos avances y mejores prácticas en el campo\, conéctese con expertos y obtenga información valiosa. Ya sea usted\, un profesional médico\, otro proveedor\, padre/cuidador o alguien con un interés personal\, esta conferencia ofrece una oportunidad única para aprender\, compartir y establecer contactos. Presentadores\, expertos y sesiones de preguntas y respuestas del panel del UC Davis MIND Institute\, Kaiser Permanente\, NorthBay Health\, North Bay Regional Center\, University of Nevada Reno y más. El día 2 se presentarán sesiones experienciales para niños y adultos con necesidades especiales y sesiones simultáneas para padres\, cuidadores y proveedores.\n\nEl desayuno y el almuerzo de ambos días están incluidos en el precio de inscripción; de Mankas Grill y The Napa Deli! El evento de 2 días también contará con una feria de recursos con mesas con información y recursos de proveedores de servicios\, organizaciones de apoyo y también proveedores de productos y servicios relacionados con discapacidades del desarrollo. Organizaciones o empresas interesadas en tener una mesa de recursos/proveedores\, contáctenos en DLabar@SpecialCareServices.org para registrarse o para obtener información. CÓDIGOS PROMOCIONALES DE LA CONFERENCIA: ***Para los clientes/familias del Centro Regional de North Bay que buscan financiación para las tarifas de la conferencia\, regístrese sin cargo con el código de promoción “NBRC” y comuníquese con su coordinador de servicios lo antes posible para obtener autorización de financiación. ***Para los padres y el personal de Child Start\, Inc. Head Start y Early Head Start que hayan sido invitados a participar\, regístrese sin cargo con el código de promoción “ChildStart”. (sin espacio entre palabras)\n\n\nConferencia sera en persona \nJoseph A Nelson Community Center \n611 Village Drive Suisun City\, CA 94585
URL:https://elarcdecalifornia.org/evento/conferencia-sobre-discapacidad-del-desarrollo-y-neurodiversidad/
CATEGORIES:Entrenamientos por zoom,Eventos y entrenamientos en persona
ATTACH;FMTTYPE=application/pdf:https://elarcdecalifornia.org/wp-content/uploads/2024/03/Spanish-Universal-Registration-Conference-2.17.2480.pdf
END:VEVENT
END:VCALENDAR