BEGIN:VCALENDAR
VERSION:2.0
PRODID:-//El Arc - ECPv6.15.20//NONSGML v1.0//EN
CALSCALE:GREGORIAN
METHOD:PUBLISH
X-ORIGINAL-URL:https://elarcdecalifornia.org
X-WR-CALDESC:Eventos para El Arc
REFRESH-INTERVAL;VALUE=DURATION:PT1H
X-Robots-Tag:noindex
X-PUBLISHED-TTL:PT1H
BEGIN:VTIMEZONE
TZID:America/Los_Angeles
BEGIN:DAYLIGHT
TZOFFSETFROM:-0800
TZOFFSETTO:-0700
TZNAME:PDT
DTSTART:20230312T100000
END:DAYLIGHT
BEGIN:STANDARD
TZOFFSETFROM:-0700
TZOFFSETTO:-0800
TZNAME:PST
DTSTART:20231105T090000
END:STANDARD
BEGIN:DAYLIGHT
TZOFFSETFROM:-0800
TZOFFSETTO:-0700
TZNAME:PDT
DTSTART:20240310T100000
END:DAYLIGHT
BEGIN:STANDARD
TZOFFSETFROM:-0700
TZOFFSETTO:-0800
TZNAME:PST
DTSTART:20241103T090000
END:STANDARD
BEGIN:DAYLIGHT
TZOFFSETFROM:-0800
TZOFFSETTO:-0700
TZNAME:PDT
DTSTART:20250309T100000
END:DAYLIGHT
BEGIN:STANDARD
TZOFFSETFROM:-0700
TZOFFSETTO:-0800
TZNAME:PST
DTSTART:20251102T090000
END:STANDARD
END:VTIMEZONE
BEGIN:VEVENT
DTSTART;TZID=America/Los_Angeles:20240404T173000
DTEND;TZID=America/Los_Angeles:20240404T190000
DTSTAMP:20260419T224235
CREATED:20240103T214035Z
LAST-MODIFIED:20240103T214417Z
UID:10001553-1712251800-1712257200@elarcdecalifornia.org
SUMMARY:CREANDO REDES DE APOYO
DESCRIPTION:Ives Torres Foundation los invita a Regístrese para la próxima serie de talleres que ofrecerá 12 capacitaciones que incluirán asesoría individual de los temas presentados. \nVenga a conocer cómo acceder a los recursos y servicios disponibles para desarrollar un plan de vida adulta para su ser querido con discapacidad.\nCREANDO REDES DE APOYO \n\n\nComparta con otros padres sobre sus experiencias.
URL:https://elarcdecalifornia.org/evento/creando-redes-de-apoyo/
CATEGORIES:Entrenamientos por zoom
ATTACH;FMTTYPE=application/pdf:https://elarcdecalifornia.org/wp-content/uploads/2024/01/SPANISH-SERIE-ACCESO-Y-EQUIDAD-11.pdf
END:VEVENT
END:VCALENDAR