BEGIN:VCALENDAR
VERSION:2.0
PRODID:-//El Arc - ECPv6.15.20//NONSGML v1.0//EN
CALSCALE:GREGORIAN
METHOD:PUBLISH
X-ORIGINAL-URL:https://elarcdecalifornia.org
X-WR-CALDESC:Eventos para El Arc
REFRESH-INTERVAL;VALUE=DURATION:PT1H
X-Robots-Tag:noindex
X-PUBLISHED-TTL:PT1H
BEGIN:VTIMEZONE
TZID:America/Los_Angeles
BEGIN:DAYLIGHT
TZOFFSETFROM:-0800
TZOFFSETTO:-0700
TZNAME:PDT
DTSTART:20230312T100000
END:DAYLIGHT
BEGIN:STANDARD
TZOFFSETFROM:-0700
TZOFFSETTO:-0800
TZNAME:PST
DTSTART:20231105T090000
END:STANDARD
BEGIN:DAYLIGHT
TZOFFSETFROM:-0800
TZOFFSETTO:-0700
TZNAME:PDT
DTSTART:20240310T100000
END:DAYLIGHT
BEGIN:STANDARD
TZOFFSETFROM:-0700
TZOFFSETTO:-0800
TZNAME:PST
DTSTART:20241103T090000
END:STANDARD
BEGIN:DAYLIGHT
TZOFFSETFROM:-0800
TZOFFSETTO:-0700
TZNAME:PDT
DTSTART:20250309T100000
END:DAYLIGHT
BEGIN:STANDARD
TZOFFSETFROM:-0700
TZOFFSETTO:-0800
TZNAME:PST
DTSTART:20251102T090000
END:STANDARD
END:VTIMEZONE
BEGIN:VEVENT
DTSTART;TZID=America/Los_Angeles:20240328T100000
DTEND;TZID=America/Los_Angeles:20240328T110000
DTSTAMP:20260419T193857
CREATED:20240322T234955Z
LAST-MODIFIED:20240322T235015Z
UID:10002153-1711620000-1711623600@elarcdecalifornia.org
SUMMARY:Tecnología de Asistencia para Dificultades Sensoriales WEBINAR
DESCRIPTION:Los estudiantes con dificultades sensoriales\, como aquellos con autismo\, TDAH y otros diagnósticos\, pueden tener problemas para filtrar el ruido de fondo\, sentarse bajo luces brillantes\, mostrar una actitud defensiva táctil y mucho más. Este taller incluirá información sobre recursos tales como inquietudes\, asientos alternativos\, herramientas de lectura\, dispositivos auditivos\, elementos para estimulación sensorial y aplicaciones sensoriales. ¡Acompáñenos una sesión divertida e informativa y salga con abundantes recursos! \nEste taller se llevará a cabo utilizando Zoom. Después de registrarse\, recibirá una invitación para unirse a la reunión de Zoom.
URL:https://elarcdecalifornia.org/evento/tecnologia-de-asistencia-para-dificultades-sensoriales-webinar/
CATEGORIES:Entrenamientos por zoom
ATTACH;FMTTYPE=image/jpeg:https://elarcdecalifornia.org/wp-content/uploads/2024/03/Unknown-2-2.jpeg
END:VEVENT
BEGIN:VEVENT
DTSTART;TZID=America/Los_Angeles:20240328T180000
DTEND;TZID=America/Los_Angeles:20240328T190000
DTSTAMP:20260419T193857
CREATED:20240103T213627Z
LAST-MODIFIED:20240103T213627Z
UID:10001552-1711648800-1711652400@elarcdecalifornia.org
SUMMARY:ASESORÍA INDIVIDUAL 4
DESCRIPTION:Ives Torres Foundation los invita a Regístrese para la próxima serie de talleres que ofrecerá 12 capacitaciones que incluirán asesoría individual de los temas presentados. \nVenga a conocer cómo acceder a los recursos y servicios disponibles para desarrollar un plan de vida adulta para su ser querido con discapacidad.\nASESORÍA INDIVIDUAL 4 \n\n\nEsta sesión está enfocada a preguntas y repuestas de los temas: Cómo desarrollar un plan de vida adulta para una persona con discapacidad y auto abogacía y herramientas eficaces de comunicación.
URL:https://elarcdecalifornia.org/evento/asesoria-individual-4/
CATEGORIES:Entrenamientos por zoom
ATTACH;FMTTYPE=application/pdf:https://elarcdecalifornia.org/wp-content/uploads/2024/01/SPANISH-SERIE-ACCESO-Y-EQUIDAD-10.pdf
END:VEVENT
END:VCALENDAR