BEGIN:VCALENDAR
VERSION:2.0
PRODID:-//El Arc - ECPv6.15.20//NONSGML v1.0//EN
CALSCALE:GREGORIAN
METHOD:PUBLISH
X-ORIGINAL-URL:https://elarcdecalifornia.org
X-WR-CALDESC:Eventos para El Arc
REFRESH-INTERVAL;VALUE=DURATION:PT1H
X-Robots-Tag:noindex
X-PUBLISHED-TTL:PT1H
BEGIN:VTIMEZONE
TZID:America/Los_Angeles
BEGIN:DAYLIGHT
TZOFFSETFROM:-0800
TZOFFSETTO:-0700
TZNAME:PDT
DTSTART:20230312T100000
END:DAYLIGHT
BEGIN:STANDARD
TZOFFSETFROM:-0700
TZOFFSETTO:-0800
TZNAME:PST
DTSTART:20231105T090000
END:STANDARD
BEGIN:DAYLIGHT
TZOFFSETFROM:-0800
TZOFFSETTO:-0700
TZNAME:PDT
DTSTART:20240310T100000
END:DAYLIGHT
BEGIN:STANDARD
TZOFFSETFROM:-0700
TZOFFSETTO:-0800
TZNAME:PST
DTSTART:20241103T090000
END:STANDARD
BEGIN:DAYLIGHT
TZOFFSETFROM:-0800
TZOFFSETTO:-0700
TZNAME:PDT
DTSTART:20250309T100000
END:DAYLIGHT
BEGIN:STANDARD
TZOFFSETFROM:-0700
TZOFFSETTO:-0800
TZNAME:PST
DTSTART:20251102T090000
END:STANDARD
END:VTIMEZONE
BEGIN:VEVENT
DTSTART;TZID=America/Los_Angeles:20240327T100000
DTEND;TZID=America/Los_Angeles:20240327T110000
DTSTAMP:20260419T194008
CREATED:20240318T202016Z
LAST-MODIFIED:20240318T210749Z
UID:10002044-1711533600-1711537200@elarcdecalifornia.org
SUMMARY:El Centro Regional del Valle Central le invita a asistir La Compra de Servicios (POS) de 2024 Reunión sobre Gastos para el Año Fiscal 2022-2023
DESCRIPTION:¡Queremos sus comentarios! \nAcompáñenos para una sesión informativa y una discusión sobre los esfuerzos de CVRC para servir a nuestras diversas comunidades\, y aprenda cómo esos esfuerzos se reflejan en los datos de la compra de servicios. \nHabrá refrigerios ligeros en las ubicaciones presenciales. \nSesión híbrida en español \n29 de marzo\, \n10:00 AM – 11:00 AM \nEn persona: \nThe Fresno Center \n4879 E. Kings Canyon Rd \nFresno\, CA 93727
URL:https://elarcdecalifornia.org/evento/el-centro-regional-del-valle-central-le-invita-a-asistir-la-compra-de-servicios-pos-de-2024-reunion-sobre-gastos-para-el-ano-fiscal-2022-2023/
CATEGORIES:Entrenamientos por zoom,Eventos y entrenamientos en persona
ATTACH;FMTTYPE=application/pdf:https://elarcdecalifornia.org/wp-content/uploads/2024/03/The-2024-Purchase-of-Services-POS-Spanish.pdf
END:VEVENT
BEGIN:VEVENT
DTSTART;TZID=America/Los_Angeles:20240327T170000
DTEND;TZID=America/Los_Angeles:20240327T180000
DTSTAMP:20260419T194008
CREATED:20240305T174623Z
LAST-MODIFIED:20240305T175554Z
UID:10002023-1711558800-1711562400@elarcdecalifornia.org
SUMMARY:¿Cómo obtener ayuda financiera para continuar sus estudios superiores?
DESCRIPTION:Únase a nuestras pláticas cada miércoles a las 5:00 pm. En español y abiertas para toda la comunidad. El primer miércoles del mes se llevará a cabo en persona en Hansen Family Health Center\, y las demás de manera virtual. Abordamos temas relevantes para la comunidad cada semana. \n¡No se pierda la oportunidad\, los esperamos! \n\n¡No pierda la oportunidad de ampliar sus horizontes educativos!. Los invitamos a descubrir recursos financieros de manera inteligente por medio de un panel de expertos en el área. En persona y en español.\n\nTambién se puede reunir por Zoom
URL:https://elarcdecalifornia.org/evento/como-obtener-ayuda-financiera-para-continuar-sus-estudios-superiores/2024-03-27/
CATEGORIES:Entrenamientos por zoom,Eventos y entrenamientos en persona
ATTACH;FMTTYPE=application/pdf:https://elarcdecalifornia.org/wp-content/uploads/2024/03/CREO-Platica-03062024.pdf
END:VEVENT
BEGIN:VEVENT
DTSTART;TZID=America/Los_Angeles:20240327T170000
DTEND;TZID=America/Los_Angeles:20240327T180000
DTSTAMP:20260419T194009
CREATED:20240322T202801Z
LAST-MODIFIED:20240605T181502Z
UID:10002053-1711558800-1711562400@elarcdecalifornia.org
SUMMARY:CREO ofrece platicas en español cada miércoles y abiertas para toda la comunidad.
DESCRIPTION:Saludos a todos\, \nÚnase a nuestras pláticas cada miércoles a las 5:00 pm. En español y abiertas para toda la comunidad. Abordamos temas relevantes cada semana. \n¡No se pierda la oportunidad\, los esperamos! \n  \nReuniones recurrentes– Las Pláticas se llevan a cabo cada miércoles (el 1o miércoles del mes será en persona y las demás son virtuales). \n  \nEl miércoles 27 de marzo\, a las 5:00 pm\, se llevará a cabo la plática educativa/informativa de CREO en español\, por zoom \nBienestar mental de los adolescentes. Excelente oportunidad para conocer a una consejera experta y platicar con ella. \n  \n  \n  Identificación de la reunión: 872 6117 5961 \n Contraseña:   creo
URL:https://elarcdecalifornia.org/evento/creo-ofrece-platicas-en-espanol-cada-miercoles-y-abiertas-para-toda-la-comunidad/2024-03-27/
CATEGORIES:Entrenamientos por zoom
ATTACH;FMTTYPE=image/jpeg:https://elarcdecalifornia.org/wp-content/uploads/2024/03/Screenshot-2024-03-22-at-1.05.09-PM.jpg
END:VEVENT
BEGIN:VEVENT
DTSTART;TZID=America/Los_Angeles:20240327T170000
DTEND;TZID=America/Los_Angeles:20240327T183000
DTSTAMP:20260419T194009
CREATED:20231201T004729Z
LAST-MODIFIED:20231201T004729Z
UID:10001478-1711558800-1711564200@elarcdecalifornia.org
SUMMARY:La importancia de cerrar el año cuidando nuestra
DESCRIPTION:Tendrá la oportunidad de hablar con un Médico y hacerle preguntas sobre “Cuidando su Salud”\nTendrá la oportunidad de hablar con un Médico y hacerle preguntas sobre “Atención médica”\n\nGrupo virtual recurrente- Todos los miércoles a las 5:00 pm.
URL:https://elarcdecalifornia.org/evento/la-importancia-de-cerrar-el-ano-cuidando-nuestra/2024-03-27/
CATEGORIES:Entrenamientos por zoom
ATTACH;FMTTYPE=image/png:https://elarcdecalifornia.org/wp-content/uploads/2023/11/Screenshot-2023-11-30-at-4.33.45 PM.png
END:VEVENT
BEGIN:VEVENT
DTSTART;TZID=America/Los_Angeles:20240327T183000
DTEND;TZID=America/Los_Angeles:20240327T193000
DTSTAMP:20260419T194009
CREATED:20240322T234616Z
LAST-MODIFIED:20240322T234616Z
UID:10002152-1711564200-1711567800@elarcdecalifornia.org
SUMMARY:Cómo las habilidades de funcionamiento ejecutivo afectan el éxito de los estudia
DESCRIPTION:¿Le han dicho los profesores (o usted mismo se ha dado cuenta) de que su joven tiene dificultades con una o más habilidades del funcionamiento ejecutivo\, como planificar\, organizar\, iniciar tareas y/o mantenerse concentrado? Los jóvenes también pueden tener dificultades con el control emocional\, el pensamiento flexible y la autoconciencia. \nÚnase a Sarah Firestein\, especialista sénior en aprendizaje del Bay Area Success Center de Landmark College en San Mateo\, mientras explica qué son las habilidades de funcionamiento ejecutivo y su efecto en el éxito de un estudiante en la escuela\, en el hogar y durante las transiciones a otros entornos académicos. \nSara proporcionará:\n– Una descripción general del funcionamiento ejecutivo y cómo estas habilidades en desarrollo ayudan y obstaculizan el progreso académico\n– Formas de apoyar la autoconciencia y la autoexploración relacionadas con las habilidades del funcionamiento ejecutivo\, incluidas estrategias para realizar tareas específicas\, en la escuela\ny en casa\n– Consejos prácticos que los padres pueden utilizar para apoyar el desarrollo de habilidades de funcionamiento ejecutivo de sus jóvenes antes\, durante y después de sus transiciones académicas. \nSarah tiene más de 22 años de experiencia en los campos de los servicios sociales y la educación\, y cree que el éxito significa que los estudiantes y las familias se sientan vistos y escuchados\, con un conjunto de apoyos seleccionados individualmente. Se considera una compañera de pensamiento impulsada por la curiosidad y utiliza principalmente un enfoque de coaching no directivo que está alineado con las prácticas basadas en evidencia de Landmark College. \nEsta es la primera de una serie de 2 partes. El 3/4/24\, Sarah discutirá cómo las habilidades del funcionamiento ejecutivo pueden afectar la vida social de un joven\, las interacciones con sus compañeros y las oportunidades sociales y comunitarias. Sarah facilita el Programa para la educación y el enriquecimiento de habilidades relacionales (PEERS) de UCLA que se ofrece en el Success Center de Landmark. \nEste evento se presenta en inglés con interpretación en español en vivo. \nEste es un evento de Connections California. Connections California es un proyecto de Parents Helping Parents\, Silicon Valley.\n#CCA
URL:https://elarcdecalifornia.org/evento/como-las-habilidades-de-funcionamiento-ejecutivo-afectan-el-exito-de-los-estudia/
CATEGORIES:Entrenamientos por zoom
ATTACH;FMTTYPE=image/jpeg:https://elarcdecalifornia.org/wp-content/uploads/2024/03/Unknown-5.jpeg
END:VEVENT
END:VCALENDAR