BEGIN:VCALENDAR
VERSION:2.0
PRODID:-//El Arc - ECPv6.15.20//NONSGML v1.0//EN
CALSCALE:GREGORIAN
METHOD:PUBLISH
X-WR-CALNAME:El Arc
X-ORIGINAL-URL:https://elarcdecalifornia.org
X-WR-CALDESC:Eventos para El Arc
REFRESH-INTERVAL;VALUE=DURATION:PT1H
X-Robots-Tag:noindex
X-PUBLISHED-TTL:PT1H
BEGIN:VTIMEZONE
TZID:America/Los_Angeles
BEGIN:DAYLIGHT
TZOFFSETFROM:-0800
TZOFFSETTO:-0700
TZNAME:PDT
DTSTART:20230312T100000
END:DAYLIGHT
BEGIN:STANDARD
TZOFFSETFROM:-0700
TZOFFSETTO:-0800
TZNAME:PST
DTSTART:20231105T090000
END:STANDARD
BEGIN:DAYLIGHT
TZOFFSETFROM:-0800
TZOFFSETTO:-0700
TZNAME:PDT
DTSTART:20240310T100000
END:DAYLIGHT
BEGIN:STANDARD
TZOFFSETFROM:-0700
TZOFFSETTO:-0800
TZNAME:PST
DTSTART:20241103T090000
END:STANDARD
BEGIN:DAYLIGHT
TZOFFSETFROM:-0800
TZOFFSETTO:-0700
TZNAME:PDT
DTSTART:20250309T100000
END:DAYLIGHT
BEGIN:STANDARD
TZOFFSETFROM:-0700
TZOFFSETTO:-0800
TZNAME:PST
DTSTART:20251102T090000
END:STANDARD
END:VTIMEZONE
BEGIN:VEVENT
DTSTART;TZID=America/Los_Angeles:20240320T100000
DTEND;TZID=America/Los_Angeles:20240320T110000
DTSTAMP:20260419T193611
CREATED:20240318T202916Z
LAST-MODIFIED:20240318T202916Z
UID:10002046-1710928800-1710932400@elarcdecalifornia.org
SUMMARY:Preguntale a Mariana
DESCRIPTION:¿Tienes alguna duda sobre el diagnóstico de tu hijo/a? \n¿Necesitas estrategias sociales\, de lenguaje o de aprendizaje? \nInfórmate también sobre el programa de TIGER \nAcompáñanos esta tarde a platicar con el grupo de Pregúntale a Mariana \n 
URL:https://elarcdecalifornia.org/evento/preguntale-a-mariana/
CATEGORIES:Entrenamientos por zoom
ATTACH;FMTTYPE=image/jpeg:https://elarcdecalifornia.org/wp-content/uploads/2024/03/433702892_851738116993868_7561520053845372197_n.jpg
END:VEVENT
BEGIN:VEVENT
DTSTART;TZID=America/Los_Angeles:20240320T100000
DTEND;TZID=America/Los_Angeles:20240320T120000
DTSTAMP:20260419T193611
CREATED:20240129T174945Z
LAST-MODIFIED:20240129T174945Z
UID:10002016-1710928800-1710936000@elarcdecalifornia.org
SUMMARY:Discusión Pública sobre cómo se usan los fondos del Centro Regional (RCEB)
DESCRIPTION:Familias de Alameda y Contra Costa:\n¿Sabía usted que muchos clientes del Centro Regional y/o sus familias no usan todos los servicios disponibles?\n\nEn esta conversación usted conocerá más sobre esta realidad y lo que significa esta disparidad.\n\nAdemás\, podrá hacer preguntas al personal del Centro Regional y dar su opinión sobre cómo eliminar barreras que impiden que los clientes y sus familias usen todos los servicios disponibles para ellos.\n\n{Si su hijo/a es un cliente del Centro Regional del Este la Bahía (RCEB) tenga listo el número de UCI de su hijo/a para poderse registrarse. Si no se sabe el número\, comuníquese con su coordinador de servicios del centro regional y se lo darán.}\n\nAcompáñenos por Zoom:\nID de la reunión: 829 0485 6371\nContraseña: 946691\n\nPor teléfono: +1-669-900-6833
URL:https://elarcdecalifornia.org/evento/discusion-publica-sobre-como-se-usan-los-fondos-del-centro-regional-rceb/
CATEGORIES:Entrenamientos por zoom
ATTACH;FMTTYPE=image/png:https://elarcdecalifornia.org/wp-content/uploads/2024/01/Screenshot-2024-01-29-at-9.45.47 AM-1.png
END:VEVENT
BEGIN:VEVENT
DTSTART;TZID=America/Los_Angeles:20240320T110000
DTEND;TZID=America/Los_Angeles:20240320T130000
DTSTAMP:20260419T193611
CREATED:20240318T203811Z
LAST-MODIFIED:20240318T203811Z
UID:10002049-1710932400-1710939600@elarcdecalifornia.org
SUMMARY:Navegando Educación Especial WEBINAR
DESCRIPTION:¿Le parece abrumador y confuso el proceso del IEP? Únase a nosotros para aprender sobre la Educación Especial\, la terminología que se usa durante las reuniones y en los documentos del IEP\, y consejos para ayudarlo a navegar con éxito por el sistema de educación especial. \nEste taller se llevará a cabo utilizando Zoom. Después de registrarse\, recibirá una invitación para unirse a la reunión de Zoom.
URL:https://elarcdecalifornia.org/evento/navegando-educacion-especial-webinar/
CATEGORIES:Entrenamientos por zoom
ATTACH;FMTTYPE=image/png:https://elarcdecalifornia.org/wp-content/uploads/2024/03/Unknown-6.png
END:VEVENT
BEGIN:VEVENT
DTSTART;TZID=America/Los_Angeles:20240320T140000
DTEND;TZID=America/Los_Angeles:20240320T150000
DTSTAMP:20260419T193611
CREATED:20240318T203527Z
LAST-MODIFIED:20240318T203527Z
UID:10002048-1710943200-1710946800@elarcdecalifornia.org
SUMMARY:CalABLE 101 español.
DESCRIPTION:CalABLE es un programa de ahorro e inversión ofrecido por el estado de California a personas que desarrollaron una discapacidad antes \ncumplir los 26 años de edad. \nEn este seminario web exploraremos: \n\n¿Qué es CalABLE?\nNuestras preguntas más frecuentes\nRecursos\n\nSi es nuevo en CalABLE y desea explorar los conceptos básicos del programa\, visite nuestro canal de YouTube para ver repeticiones de algunos de nuestros seminarios web anteriores que analizan los fundamentos de CalABLE.
URL:https://elarcdecalifornia.org/evento/calable-101-espanol/
CATEGORIES:Entrenamientos por zoom
ATTACH;FMTTYPE=image/png:https://elarcdecalifornia.org/wp-content/uploads/2024/03/Unknown-7.png
END:VEVENT
BEGIN:VEVENT
DTSTART;TZID=America/Los_Angeles:20240320T170000
DTEND;TZID=America/Los_Angeles:20240320T180000
DTSTAMP:20260419T193611
CREATED:20240305T174623Z
LAST-MODIFIED:20240305T175554Z
UID:10002022-1710954000-1710957600@elarcdecalifornia.org
SUMMARY:¿Cómo obtener ayuda financiera para continuar sus estudios superiores?
DESCRIPTION:Únase a nuestras pláticas cada miércoles a las 5:00 pm. En español y abiertas para toda la comunidad. El primer miércoles del mes se llevará a cabo en persona en Hansen Family Health Center\, y las demás de manera virtual. Abordamos temas relevantes para la comunidad cada semana. \n¡No se pierda la oportunidad\, los esperamos! \n\n¡No pierda la oportunidad de ampliar sus horizontes educativos!. Los invitamos a descubrir recursos financieros de manera inteligente por medio de un panel de expertos en el área. En persona y en español.\n\nTambién se puede reunir por Zoom
URL:https://elarcdecalifornia.org/evento/como-obtener-ayuda-financiera-para-continuar-sus-estudios-superiores/2024-03-20/
CATEGORIES:Entrenamientos por zoom,Eventos y entrenamientos en persona
ATTACH;FMTTYPE=application/pdf:https://elarcdecalifornia.org/wp-content/uploads/2024/03/CREO-Platica-03062024.pdf
END:VEVENT
BEGIN:VEVENT
DTSTART;TZID=America/Los_Angeles:20240320T170000
DTEND;TZID=America/Los_Angeles:20240320T183000
DTSTAMP:20260419T193611
CREATED:20231201T004729Z
LAST-MODIFIED:20231201T004729Z
UID:10001477-1710954000-1710959400@elarcdecalifornia.org
SUMMARY:La importancia de cerrar el año cuidando nuestra
DESCRIPTION:Tendrá la oportunidad de hablar con un Médico y hacerle preguntas sobre “Cuidando su Salud”\nTendrá la oportunidad de hablar con un Médico y hacerle preguntas sobre “Atención médica”\n\nGrupo virtual recurrente- Todos los miércoles a las 5:00 pm.
URL:https://elarcdecalifornia.org/evento/la-importancia-de-cerrar-el-ano-cuidando-nuestra/2024-03-20/
CATEGORIES:Entrenamientos por zoom
ATTACH;FMTTYPE=image/png:https://elarcdecalifornia.org/wp-content/uploads/2023/11/Screenshot-2023-11-30-at-4.33.45 PM.png
END:VEVENT
END:VCALENDAR