BEGIN:VCALENDAR
VERSION:2.0
PRODID:-//El Arc - ECPv6.15.20//NONSGML v1.0//EN
CALSCALE:GREGORIAN
METHOD:PUBLISH
X-WR-CALNAME:El Arc
X-ORIGINAL-URL:https://elarcdecalifornia.org
X-WR-CALDESC:Eventos para El Arc
REFRESH-INTERVAL;VALUE=DURATION:PT1H
X-Robots-Tag:noindex
X-PUBLISHED-TTL:PT1H
BEGIN:VTIMEZONE
TZID:America/Los_Angeles
BEGIN:DAYLIGHT
TZOFFSETFROM:-0800
TZOFFSETTO:-0700
TZNAME:PDT
DTSTART:20230312T100000
END:DAYLIGHT
BEGIN:STANDARD
TZOFFSETFROM:-0700
TZOFFSETTO:-0800
TZNAME:PST
DTSTART:20231105T090000
END:STANDARD
BEGIN:DAYLIGHT
TZOFFSETFROM:-0800
TZOFFSETTO:-0700
TZNAME:PDT
DTSTART:20240310T100000
END:DAYLIGHT
BEGIN:STANDARD
TZOFFSETFROM:-0700
TZOFFSETTO:-0800
TZNAME:PST
DTSTART:20241103T090000
END:STANDARD
BEGIN:DAYLIGHT
TZOFFSETFROM:-0800
TZOFFSETTO:-0700
TZNAME:PDT
DTSTART:20250309T100000
END:DAYLIGHT
BEGIN:STANDARD
TZOFFSETFROM:-0700
TZOFFSETTO:-0800
TZNAME:PST
DTSTART:20251102T090000
END:STANDARD
END:VTIMEZONE
BEGIN:VEVENT
DTSTART;TZID=America/Los_Angeles:20240319T090000
DTEND;TZID=America/Los_Angeles:20240319T100000
DTSTAMP:20260419T193644
CREATED:20240318T202524Z
LAST-MODIFIED:20240318T202524Z
UID:10002045-1710838800-1710842400@elarcdecalifornia.org
SUMMARY:Carolyn Kordich Family Resource Center Padres Lideres De Niños Con Necesidades Especiales
DESCRIPTION:Por favor\, acompáñanos para una reunión con La Dra. Rosie \nZapata para explorar los próximos pasos en cómo continuar de ser un Padre líder eficaz. Estaremos compartiendo ideas en qué temas tocar para reuniones \n  \nPara más información por favor contáctenos \n(310) 325-7288
URL:https://elarcdecalifornia.org/evento/carolyn-kordich-family-resource-center-padres-lideres-de-ninos-con-necesidades-especiales/
CATEGORIES:Entrenamientos por zoom
ATTACH;FMTTYPE=image/jpeg:https://elarcdecalifornia.org/wp-content/uploads/2024/03/433187900_904725734989433_2510302940871644796_n.jpg
END:VEVENT
BEGIN:VEVENT
DTSTART;TZID=America/Los_Angeles:20240319T110000
DTEND;TZID=America/Los_Angeles:20240319T123000
DTSTAMP:20260419T193644
CREATED:20240318T205859Z
LAST-MODIFIED:20240318T210234Z
UID:10002052-1710846000-1710851400@elarcdecalifornia.org
SUMMARY:WarmLine FAMILY RESOURCE CENTER Grupo de Apovo Fâmiliar en español
DESCRIPTION:Este es un grupo mensual donde compartiremos nuestras \ninquietudes\, experiencias y un nuevo tema cada mes. \nNo hay compromiso de asistir a cada sesión\, pero aquí encontrará una comunidad cálida y segura de familias que están en el mismo viaje.
URL:https://elarcdecalifornia.org/evento/warmline-family-resource-center-grupo-de-apovo-familiar-en-espanol/
CATEGORIES:Entrenamientos por zoom
ATTACH;FMTTYPE=image/png:https://elarcdecalifornia.org/wp-content/uploads/2024/03/Unknown-2.png
END:VEVENT
BEGIN:VEVENT
DTSTART;TZID=America/Los_Angeles:20240319T120000
DTEND;TZID=America/Los_Angeles:20240319T130000
DTSTAMP:20260419T193644
CREATED:20240112T212226Z
LAST-MODIFIED:20240605T182129Z
UID:10001577-1710849600-1710853200@elarcdecalifornia.org
SUMMARY:Café Escolar grupo de apoyo Educación Especial
DESCRIPTION:Un grupo de padres para compartir sus dudas\, inquietudes y encontrar soluciones en temas escolares. Nos reunimos todos los MARTES al MEDIODÍA. Por favor\, regístrese antes de cada sesión\, ya sea si desea acompañarnos EN PERSONA O EN LÍNEA. El botón de registro se encuentra al final de esta página. Recibirá un enlace de Zoom en su correo electrónico para unirse al grupo o si desea acompañarnos en persona\, por favor regístrese y envíe un correo a patty@php.com\, lo esperamos en Parents Helping Parents\, Sobrato Center for Nonprofits\, 1400 Parkmoor Av. Suite 100\, San Jose\, CA 95126. \nNuestra especialista en recursos de PHP presentará un tema en Educación Especial durante los primeros 10-15 minutos de cada sesión y después platicaremos sobre las preguntas o comentarios que deseen compartir. \nNo importa la experiencia que tenga en este tema\, haremos un grupo amigable y de confianza para todos. Ojalá pueda acompañarnos de manera frecuente para crear unión en el grupo. \nPor ejemplo\, si usted está preocupado porque su hijo(a) va muy atrasado en la escuela\, sospecha de algún diagnóstico o está buscando una evaluación para su hijo. Así como también lo invitamos si usted ya lleva años en el camino de la Educación Especial y desea aprender más sobre sus derechos\, opciones\, si tiene dudas sobre el Programa de Educación Individualizado (IEP) o simplemente si desea compartir sus experiencias con otros padres.
URL:https://elarcdecalifornia.org/evento/cafe-escolar-grupo-de-apoyo-educacion-especial-2/2024-03-19/
CATEGORIES:Entrenamientos por zoom,Grupo de apoyos
ATTACH;FMTTYPE=image/jpeg:https://elarcdecalifornia.org/wp-content/uploads/2024/01/Unknown-1-1-1.jpeg
END:VEVENT
BEGIN:VEVENT
DTSTART;TZID=America/Los_Angeles:20240319T143000
DTEND;TZID=America/Los_Angeles:20240319T153000
DTSTAMP:20260419T193645
CREATED:20240318T174943Z
LAST-MODIFIED:20240318T174943Z
UID:10002042-1710858600-1710862200@elarcdecalifornia.org
SUMMARY:Consentimiento Informado: Sus Derechos
DESCRIPTION:Únase a nosotros para un seminario en vivo\nCuando visita a su médico\, puede ser difícil hacer preguntas sobre su tratamiento. No es extraño estar nervioso – pero es importante saber sus derechos en estas situaciones. \nHabrá Subtítulos en Vivo \n\nSobre el seminario web:\nSu médico puede recetar medicamentos psiquiátricos sin explicar las razones para tomarlos o sus posibles beneficios\, efectos secundarios\, o otras opciones de tratamiento disponibles. Usted tiene derecho a saber esta información para poder tomar una decisión informada antes de aceptar o rechazar el tratamiento. Únase a este seminario web y conozca su derecho al consentimiento informado y cómo trabajar con su médico para obtener el tratamiento adecuado. \nAcerca de la Presentadora:\nDaniela Harvey es una entrenadora con el equipo de Auto Abogacía Entre Compañeros con Disability Rights California. Es una persona con experiencia vivida con enfermedades. Es su pasión poder apoyar a sus compañeros.  
URL:https://elarcdecalifornia.org/evento/consentimiento-informado-sus-derechos/
CATEGORIES:Entrenamientos por zoom
ATTACH;FMTTYPE=image/png:https://elarcdecalifornia.org/wp-content/uploads/2024/03/Unknown-3.png
END:VEVENT
BEGIN:VEVENT
DTSTART;TZID=America/Los_Angeles:20240319T160000
DTEND;TZID=America/Los_Angeles:20240319T170000
DTSTAMP:20260419T193645
CREATED:20240318T205506Z
LAST-MODIFIED:20240318T205506Z
UID:10002051-1710864000-1710867600@elarcdecalifornia.org
SUMMARY:RCRC ACADEMIA DE PADRES
DESCRIPTION:Padres \n“Bienestar acogedor: ¡utilizando la psicología positiva para mejorar la calidad de vida de todos! \nPorfavor únase a la Dra. Wendy White\, especialista clínica en autismo en el Centro Regional de Redwood \nCoast para una discusión sobre cómo la psicología positiva puede ayudar a aumentar el bienestar físico y mental de nuestros niños\, familias y de nosotros mismos utilizando lecciones y herramientas simples creadas por Proof Positive Autism Wellbeing Alliance. \n¿Preguntas? \nContacta a Wendy White al email: \nwwhite@redwoodcoastrc.org \n  \n 
URL:https://elarcdecalifornia.org/evento/rcrc-academia-de-padres/
CATEGORIES:Entrenamientos por zoom
ATTACH;FMTTYPE=image/png:https://elarcdecalifornia.org/wp-content/uploads/2024/03/Unknown-4.png
END:VEVENT
BEGIN:VEVENT
DTSTART;TZID=America/Los_Angeles:20240319T170000
DTEND;TZID=America/Los_Angeles:20240319T180000
DTSTAMP:20260419T193645
CREATED:20240318T204555Z
LAST-MODIFIED:20240318T204555Z
UID:10002050-1710867600-1710871200@elarcdecalifornia.org
SUMMARY:Reunión Anual de Datos de Compra de Servicio (POS)
DESCRIPTION:El Centro Regional de Alta California ( ACRC ) presentará datos de compra de servicios\, acceso a servicios y proyectos de subvenciones de equidad y discutirá nuestros casos especializados de coordinación de servicios mejorados. Solicitamos su opinión como parte de nuestro plan para promover el acceso y la equidad a los servicios. Para obtener una vista previa de los datos del POS \, haga clic en este enlace . Si tiene sugerencias sobre cómo ACRC puede mejorar el acceso a los servicios y la equidad\, envíe un correo electrónico a posequity@altaregional.org.
URL:https://elarcdecalifornia.org/evento/reunion-anual-de-datos-de-compra-de-servicio-pos/
CATEGORIES:Entrenamientos por zoom
ATTACH;FMTTYPE=image/png:https://elarcdecalifornia.org/wp-content/uploads/2024/03/Unknown-5.png
END:VEVENT
END:VCALENDAR