BEGIN:VCALENDAR
VERSION:2.0
PRODID:-//El Arc - ECPv6.15.20//NONSGML v1.0//EN
CALSCALE:GREGORIAN
METHOD:PUBLISH
X-ORIGINAL-URL:https://elarcdecalifornia.org
X-WR-CALDESC:Eventos para El Arc
REFRESH-INTERVAL;VALUE=DURATION:PT1H
X-Robots-Tag:noindex
X-PUBLISHED-TTL:PT1H
BEGIN:VTIMEZONE
TZID:America/Los_Angeles
BEGIN:DAYLIGHT
TZOFFSETFROM:-0800
TZOFFSETTO:-0700
TZNAME:PDT
DTSTART:20230312T100000
END:DAYLIGHT
BEGIN:STANDARD
TZOFFSETFROM:-0700
TZOFFSETTO:-0800
TZNAME:PST
DTSTART:20231105T090000
END:STANDARD
BEGIN:DAYLIGHT
TZOFFSETFROM:-0800
TZOFFSETTO:-0700
TZNAME:PDT
DTSTART:20240310T100000
END:DAYLIGHT
BEGIN:STANDARD
TZOFFSETFROM:-0700
TZOFFSETTO:-0800
TZNAME:PST
DTSTART:20241103T090000
END:STANDARD
BEGIN:DAYLIGHT
TZOFFSETFROM:-0800
TZOFFSETTO:-0700
TZNAME:PDT
DTSTART:20250309T100000
END:DAYLIGHT
BEGIN:STANDARD
TZOFFSETFROM:-0700
TZOFFSETTO:-0800
TZNAME:PST
DTSTART:20251102T090000
END:STANDARD
END:VTIMEZONE
BEGIN:VEVENT
DTSTART;TZID=America/Los_Angeles:20240314T090000
DTEND;TZID=America/Los_Angeles:20240314T100000
DTSTAMP:20260419T193854
CREATED:20240314T005148Z
LAST-MODIFIED:20240314T005148Z
UID:10002038-1710406800-1710410400@elarcdecalifornia.org
SUMMARY:Navegando Educación Especial - TASK & SDRC
DESCRIPTION:¿Le parece abrumador y confuso el proceso del IEP? Únase a nosotros para aprender sobre la Educación Especial\, la terminología que se usa durante las reuniones y en los documentos del IEP\, y consejos para ayudarlo a navegar con éxito por el sistema de educación especial.
URL:https://elarcdecalifornia.org/evento/navegando-educacion-especial-task-sdrc/
CATEGORIES:Entrenamientos por zoom
ATTACH;FMTTYPE=image/jpeg:https://elarcdecalifornia.org/wp-content/uploads/2024/03/Unknown-4.jpeg
END:VEVENT
BEGIN:VEVENT
DTSTART;TZID=America/Los_Angeles:20240314T090000
DTEND;TZID=America/Los_Angeles:20240314T103000
DTSTAMP:20260419T193854
CREATED:20231218T212708Z
LAST-MODIFIED:20240605T183552Z
UID:10001537-1710406800-1710412200@elarcdecalifornia.org
SUMMARY:ECHO AUTISMO
DESCRIPTION:ECHO Autismo \n11 de enero – 13 de junio\, 2024 \nLas sesiones se llevarán a cabo el segundo jueves de cada mes de \n9 – 10:30 a.m. (hora del pacífico) \nNuevo formato híbrido que conecta familias\, profesionales al cuidado del autismo con un grupo de expertos localizado en nuestro centro académico de excelencia del cuidado del autismo. \n¡Todos colaboran\, todos aprenden y mejoran el cuidado de personas con autismo! \n¡ECHO Autismo mueve el conocimiento\, no a los pacientes! \n\nSin ningún costo\nAccesible en línea desde cualquier parte\nRecibe apoyo para el manejo de casos de autismo\nAprendizaje basado en discusión de casos en tiempo real\nRecomendaciones de expertos en autismo\nProporciona las mejores prácticas para el cuidado en autismo\n\nDirigido a: \n\nMédicos y otros empleados de la salud\nOtros profesionales al cuidado de personas con autismo\nAdultos con autismo\nFamilias/cuidadores de personas con autismo\nMejorando El Manejo del Autismo\n¿Estás listo para unirte al movimiento?\n\nECHO Autismo utiliza instrucciones didácticas \nbasadas en casos para fomentar un aprendizaje interactivo y promover una comunidad de aprendizaje. La participación activa y las presentaciones de casos son fundamentales \nProyecto ECHO \nTodos Enseñan\, Todos Aprenden
URL:https://elarcdecalifornia.org/evento/echo-autismo/2024-03-14/
CATEGORIES:Entrenamientos por zoom
ATTACH;FMTTYPE=image/jpeg:https://elarcdecalifornia.org/wp-content/uploads/2023/12/Unknown-6.jpg
END:VEVENT
BEGIN:VEVENT
DTSTART;TZID=America/Los_Angeles:20240314T090000
DTEND;TZID=America/Los_Angeles:20240314T110000
DTSTAMP:20260419T193854
CREATED:20230830T215338Z
LAST-MODIFIED:20230907T212116Z
UID:10000192-1710406800-1710414000@elarcdecalifornia.org
SUMMARY:Tele ECHO Autismo
DESCRIPTION:¡Nuevo formato híbrido que conecta familias\, ! profesionales al cuidado del autismo con un grupo de expertos localizados en nuestro centro académico de excelencia del cuidado del autismo Todos colaboran\, todos aprenden y mejoran el cuidado de personas con autismo! ¡ECHO Autismo mueve el conocimiento\, no a los pacientes! Sin ningún costo. \nSegundo Jueves de cada mes\n9:00 AM- 11:00 AM (Hora del pacifico) \nDetalles\nRegistrarse
URL:https://elarcdecalifornia.org/evento/tele-echo-autismo/2024-03-14/
CATEGORIES:Entrenamientos por zoom
END:VEVENT
BEGIN:VEVENT
DTSTART;TZID=America/Los_Angeles:20240314T110000
DTEND;TZID=America/Los_Angeles:20240314T120000
DTSTAMP:20260419T193854
CREATED:20240314T005516Z
LAST-MODIFIED:20240314T005529Z
UID:10002039-1710414000-1710417600@elarcdecalifornia.org
SUMMARY:La Ley Para Personas con Discapacidades y las Comunidades de Habla Hispana
DESCRIPTION:Únete con nosotros en un seminario web para hablar más acerca de la relación entre la Ley Para Personas con Discapacidades y las comunidades de habla hispana. En esta presentación\, hablaremos sobre los retos que enfrentan las personas de habla hispana para obtener información sobre discapacidad y sus derechos civiles. Este seminario web también estará disponible en inglés. \nParticipación comunitaria: Descubre el enfoque colaborativo en este seminario web\, donde los miembros de la comunidad han contribuido con sus conocimientos y comentarios. Conoce los retos que enfrentan las personas de habla hispana para acceder a información relacionada con discapacidades y la ADA. Desde barreras lingüísticas y consideraciones culturales\, discutiremos estrategias para enfrentar estos obstáculos. \nEmpoderamiento de individuos y proveedores: Este seminario web tiene como objetivo empoderar a personas con discapacidad\, miembros de la comunidad y proveedores de servicios al proporcionar valiosos conocimientos sobre la ADA y cómo puede utilizarse de manera efectiva para proteger los derechos de las personas con discapacidad dentro de las comunidades de habla hispana. \nOportunidades de aprendizaje: Los participantes tendrán la oportunidad de obtener una comprensión más profunda de la ADA y cómo beneficia aprender sobre la ley a las comunidades de habla hispana. Platicando sobre las necesidades y preocupaciones expresadas por estas comunidades\, nuestro objetivo es abordar por una mejor inclusividad y accesibilidad para todos.
URL:https://elarcdecalifornia.org/evento/la-ley-para-personas-con-discapacidades-y-las-comunidades-de-habla-hispana/
CATEGORIES:Entrenamientos por zoom
ATTACH;FMTTYPE=image/jpeg:https://elarcdecalifornia.org/wp-content/uploads/2024/03/Unknown-1-1.jpeg
END:VEVENT
BEGIN:VEVENT
DTSTART;TZID=America/Los_Angeles:20240314T140000
DTEND;TZID=America/Los_Angeles:20240314T160000
DTSTAMP:20260419T193854
CREATED:20240314T005829Z
LAST-MODIFIED:20240314T005842Z
UID:10002040-1710424800-1710432000@elarcdecalifornia.org
SUMMARY:La transición a los 18 años/ Grupos de apoyo de Alameda
DESCRIPTION:Los grupos de apoyo del Condado de Alameda: Padres Unidos\, Conexión Mamás y Alianza Latina\, en colaboración con Disability Rigths Californa (DRC) te invitan a participar a una presentación donde se hablara lo que es el plan de transición para jóvenes que están por terminar la secundaria\, que debe contener el plan de transición\, y cuáles agencias están disponibles para proveer servicios.
URL:https://elarcdecalifornia.org/evento/la-transicion-a-los-18-anos-grupos-de-apoyo-de-alameda/
CATEGORIES:Entrenamientos por zoom
ATTACH;FMTTYPE=image/jpeg:https://elarcdecalifornia.org/wp-content/uploads/2024/03/Unknown-2-1.jpeg
END:VEVENT
BEGIN:VEVENT
DTSTART;TZID=America/Los_Angeles:20240314T173000
DTEND;TZID=America/Los_Angeles:20240314T190000
DTSTAMP:20260419T193854
CREATED:20240103T212916Z
LAST-MODIFIED:20240103T212916Z
UID:10001550-1710437400-1710442800@elarcdecalifornia.org
SUMMARY:AUTO ABOGACÍA Y HERRAMIENTAS EFICACES DE COMUNICACIÓN
DESCRIPTION:Ives Torres Foundation los invita a Regístrese para la próxima serie de talleres que ofrecerá 12 capacitaciones que incluirán asesoría individual de los temas presentados. \nVenga a conocer cómo acceder a los recursos y servicios disponibles para desarrollar un plan de vida adulta para su ser querido con discapacidad.\nAUTO ABOGACÍA Y HERRAMIENTAS EFICACES DE COMUNICACIÓN \n\nConstruya confianza basada en conocimientos para comunicarse efectivamente con sus proveedores.\n\n 
URL:https://elarcdecalifornia.org/evento/auto-abogacia-y-herramientas-eficaces-de-comunicacion/
CATEGORIES:Entrenamientos por zoom
ATTACH;FMTTYPE=application/pdf:https://elarcdecalifornia.org/wp-content/uploads/2024/01/SPANISH-SERIE-ACCESO-Y-EQUIDAD-8.pdf
END:VEVENT
END:VCALENDAR