BEGIN:VCALENDAR
VERSION:2.0
PRODID:-//El Arc - ECPv6.15.20//NONSGML v1.0//EN
CALSCALE:GREGORIAN
METHOD:PUBLISH
X-ORIGINAL-URL:https://elarcdecalifornia.org
X-WR-CALDESC:Eventos para El Arc
REFRESH-INTERVAL;VALUE=DURATION:PT1H
X-Robots-Tag:noindex
X-PUBLISHED-TTL:PT1H
BEGIN:VTIMEZONE
TZID:America/Los_Angeles
BEGIN:DAYLIGHT
TZOFFSETFROM:-0800
TZOFFSETTO:-0700
TZNAME:PDT
DTSTART:20230312T100000
END:DAYLIGHT
BEGIN:STANDARD
TZOFFSETFROM:-0700
TZOFFSETTO:-0800
TZNAME:PST
DTSTART:20231105T090000
END:STANDARD
BEGIN:DAYLIGHT
TZOFFSETFROM:-0800
TZOFFSETTO:-0700
TZNAME:PDT
DTSTART:20240310T100000
END:DAYLIGHT
BEGIN:STANDARD
TZOFFSETFROM:-0700
TZOFFSETTO:-0800
TZNAME:PST
DTSTART:20241103T090000
END:STANDARD
BEGIN:DAYLIGHT
TZOFFSETFROM:-0800
TZOFFSETTO:-0700
TZNAME:PDT
DTSTART:20250309T100000
END:DAYLIGHT
BEGIN:STANDARD
TZOFFSETFROM:-0700
TZOFFSETTO:-0800
TZNAME:PST
DTSTART:20251102T090000
END:STANDARD
END:VTIMEZONE
BEGIN:VEVENT
DTSTART;TZID=America/Los_Angeles:20240307T103000
DTEND;TZID=America/Los_Angeles:20240307T113000
DTSTAMP:20260419T193850
CREATED:20240305T181731Z
LAST-MODIFIED:20240305T181808Z
UID:10002032-1709807400-1709811000@elarcdecalifornia.org
SUMMARY:EL AutoCuidado Importa
DESCRIPTION:Bienestar para el cuidador Familiar \n\n\n\n\nUna Serie de Clases en Vivo Online de Dos Semanas \n\n\nGrupos pequeños para una experiencia acogedora. \n\n\nEquipate con consejos\, recursos y estrategias para el bienestar de los cuidadores. \n\n\nBasado en la experiencia de la Dra. Christina N. Marsack-Topolewski.\nFacilitado por instructores capacitados. \n\n\nCursos disponibles en inglés y español.
URL:https://elarcdecalifornia.org/evento/el-autocuidado-importa/
CATEGORIES:Entrenamientos por zoom
ATTACH;FMTTYPE=image/jpeg:https://elarcdecalifornia.org/wp-content/uploads/2024/03/Unknown-3.jpeg
END:VEVENT
BEGIN:VEVENT
DTSTART;TZID=America/Los_Angeles:20240307T173000
DTEND;TZID=America/Los_Angeles:20240307T190000
DTSTAMP:20260419T193850
CREATED:20240103T212406Z
LAST-MODIFIED:20240103T212539Z
UID:10001549-1709832600-1709838000@elarcdecalifornia.org
SUMMARY:CÓMO DESARROLLAR UN PLAN DE VIDA ADULTA PARA UNA PERSONA CON DISCAPACIDAD
DESCRIPTION:Ives Torres Foundation los invita a Regístrese para la próxima serie de talleres que ofrecerá 12 capacitaciones que incluirán asesoría individual de los temas presentados. \nVenga a conocer cómo acceder a los recursos y servicios disponibles para desarrollar un plan de vida adulta para su ser querido con discapacidad.\nCÓMO DESARROLLAR UN PLAN DE VIDA ADULTA PARA UNA PERSONA CON DISCAPACIDAD \n\n\nSe le presentará al padre o guardián una guía para desarrollar un plan de vida adulta utilizando herramientas y recursos disponibles.
URL:https://elarcdecalifornia.org/evento/como-desarrollar-un-plan-de-vida-adulta-para-una-persona-con-discapacidad/
CATEGORIES:Entrenamientos por zoom
ATTACH;FMTTYPE=application/pdf:https://elarcdecalifornia.org/wp-content/uploads/2024/01/SPANISH-SERIE-ACCESO-Y-EQUIDAD-7.pdf
END:VEVENT
END:VCALENDAR