BEGIN:VCALENDAR
VERSION:2.0
PRODID:-//El Arc - ECPv6.15.20//NONSGML v1.0//EN
CALSCALE:GREGORIAN
METHOD:PUBLISH
X-ORIGINAL-URL:https://elarcdecalifornia.org
X-WR-CALDESC:Eventos para El Arc
REFRESH-INTERVAL;VALUE=DURATION:PT1H
X-Robots-Tag:noindex
X-PUBLISHED-TTL:PT1H
BEGIN:VTIMEZONE
TZID:America/Los_Angeles
BEGIN:DAYLIGHT
TZOFFSETFROM:-0800
TZOFFSETTO:-0700
TZNAME:PDT
DTSTART:20230312T100000
END:DAYLIGHT
BEGIN:STANDARD
TZOFFSETFROM:-0700
TZOFFSETTO:-0800
TZNAME:PST
DTSTART:20231105T090000
END:STANDARD
BEGIN:DAYLIGHT
TZOFFSETFROM:-0800
TZOFFSETTO:-0700
TZNAME:PDT
DTSTART:20240310T100000
END:DAYLIGHT
BEGIN:STANDARD
TZOFFSETFROM:-0700
TZOFFSETTO:-0800
TZNAME:PST
DTSTART:20241103T090000
END:STANDARD
BEGIN:DAYLIGHT
TZOFFSETFROM:-0800
TZOFFSETTO:-0700
TZNAME:PDT
DTSTART:20250309T100000
END:DAYLIGHT
BEGIN:STANDARD
TZOFFSETFROM:-0700
TZOFFSETTO:-0800
TZNAME:PST
DTSTART:20251102T090000
END:STANDARD
END:VTIMEZONE
BEGIN:VEVENT
DTSTART;TZID=America/Los_Angeles:20240306T100000
DTEND;TZID=America/Los_Angeles:20240306T113000
DTSTAMP:20260419T193852
CREATED:20240305T181246Z
LAST-MODIFIED:20240305T181331Z
UID:10002030-1709719200-1709724600@elarcdecalifornia.org
SUMMARY:Entendiendo las evaluaciones Parte 1: El Proceso
DESCRIPTION:ESTE ES UN ENTRENAMIENTO POR ZOOM * \n¿Se pregunta cómo conseguir una evaluación para su hijo? \n\n¿Necesita saber cómo se relacionan las evaluaciones con la elegibilidad para Educación Especial y la preparación de un IEP\, y qué elementos debe incluir una buena evaluación? \n\n\nEste entrenamiento le brindará una sólida comprensión del proceso de evaluación de educación especial\, cómo puede participar en el proceso y qué hacer si no está de acuerdo. \n\n\nMatrix también presentará Entendiendo las Evaluaciones: Parte 2: Interpretación de los Informes de Evaluación\, donde profundizaremos en la comprensión de los datos de las evaluaciones psicoeducativas. \n\nPuede inscribirse en cualquiera de los cursos o en ambos.
URL:https://elarcdecalifornia.org/evento/entendiendo-las-evaluaciones-parte-1-el-proceso/
CATEGORIES:Entrenamientos por zoom
ATTACH;FMTTYPE=image/jpeg:https://elarcdecalifornia.org/wp-content/uploads/2024/03/Unknown.jpeg
END:VEVENT
BEGIN:VEVENT
DTSTART;TZID=America/Los_Angeles:20240306T170000
DTEND;TZID=America/Los_Angeles:20240306T180000
DTSTAMP:20260419T193852
CREATED:20240305T174623Z
LAST-MODIFIED:20240305T175554Z
UID:10002020-1709744400-1709748000@elarcdecalifornia.org
SUMMARY:¿Cómo obtener ayuda financiera para continuar sus estudios superiores?
DESCRIPTION:Únase a nuestras pláticas cada miércoles a las 5:00 pm. En español y abiertas para toda la comunidad. El primer miércoles del mes se llevará a cabo en persona en Hansen Family Health Center\, y las demás de manera virtual. Abordamos temas relevantes para la comunidad cada semana. \n¡No se pierda la oportunidad\, los esperamos! \n\n¡No pierda la oportunidad de ampliar sus horizontes educativos!. Los invitamos a descubrir recursos financieros de manera inteligente por medio de un panel de expertos en el área. En persona y en español.\n\nTambién se puede reunir por Zoom
URL:https://elarcdecalifornia.org/evento/como-obtener-ayuda-financiera-para-continuar-sus-estudios-superiores/2024-03-06/
CATEGORIES:Entrenamientos por zoom,Eventos y entrenamientos en persona
ATTACH;FMTTYPE=application/pdf:https://elarcdecalifornia.org/wp-content/uploads/2024/03/CREO-Platica-03062024.pdf
END:VEVENT
BEGIN:VEVENT
DTSTART;TZID=America/Los_Angeles:20240306T170000
DTEND;TZID=America/Los_Angeles:20240306T183000
DTSTAMP:20260419T193852
CREATED:20231201T004729Z
LAST-MODIFIED:20231201T004729Z
UID:10001475-1709744400-1709749800@elarcdecalifornia.org
SUMMARY:La importancia de cerrar el año cuidando nuestra
DESCRIPTION:Tendrá la oportunidad de hablar con un Médico y hacerle preguntas sobre “Cuidando su Salud”\nTendrá la oportunidad de hablar con un Médico y hacerle preguntas sobre “Atención médica”\n\nGrupo virtual recurrente- Todos los miércoles a las 5:00 pm.
URL:https://elarcdecalifornia.org/evento/la-importancia-de-cerrar-el-ano-cuidando-nuestra/2024-03-06/
CATEGORIES:Entrenamientos por zoom
ATTACH;FMTTYPE=image/png:https://elarcdecalifornia.org/wp-content/uploads/2023/11/Screenshot-2023-11-30-at-4.33.45 PM.png
END:VEVENT
BEGIN:VEVENT
DTSTART;TZID=America/Los_Angeles:20240306T173000
DTEND;TZID=America/Los_Angeles:20240306T183000
DTSTAMP:20260419T193853
CREATED:20240305T181537Z
LAST-MODIFIED:20240305T181537Z
UID:10002031-1709746200-1709749800@elarcdecalifornia.org
SUMMARY:¿Amistades y Romance? Cómo Apoyar Relaciones Saludables en Mis HIjos Pre Adolescentes con Discapacidad
DESCRIPTION:En esta sesión los padres identificarán las necesidades sociales de sus hijos e hijas; se revisarán las relaciones\, que las conforman\, y cómo apoyar a sus hijos. Finalmente\, se revisará el tema del romance\, citas y la importancia de hablar sobre temas de sexualidad con sus hijos/as.
URL:https://elarcdecalifornia.org/evento/amistades-y-romance-como-apoyar-relaciones-saludables-en-mis-hijos-pre-adolescentes-con-discapacidad/
CATEGORIES:Entrenamientos por zoom
ATTACH;FMTTYPE=image/jpeg:https://elarcdecalifornia.org/wp-content/uploads/2024/03/Unknown-1.jpeg
END:VEVENT
BEGIN:VEVENT
DTSTART;TZID=America/Los_Angeles:20240306T180000
DTEND;TZID=America/Los_Angeles:20240306T203000
DTSTAMP:20260419T193853
CREATED:20240105T194337Z
LAST-MODIFIED:20240105T194524Z
UID:10001559-1709748000-1709757000@elarcdecalifornia.org
SUMMARY:Entrenamientos Gratis En asociación con el cW Comité Asesor Comunitario de Pasadena USD
DESCRIPTION:Estrategias de IEP – Parte 1\n\nComprender cómo funcionan las reuniones de IEP\, cómo participar\, y cómo obtener los servicios necesarios \n21 de febrero 6 – 8:30p – español \n  \n\nEstrategias de IEP – Parte 2\n\nAprender estrategias para aumentar el éxito de las reuniones de IEP y cómo responder a cosas que frecuentemente se dicen en las juntas. \n28 de febrero 6 – 8:30p – español \n  \n\nQuejas Estatales por Incumplimiento\n\nRepaso general de qué son las quejas estatales por incumplimiento y cómo utilizarlas estratégicamente \n6 de marzo 6 – 8:30p – español \n  \n\nEntendiendo Evaluaciones\n\nAprenda los requisitos legales de las evaluaciones\, lo que dicen sobre el estudiante\, y cómo usarlas estratégicamente para obtener los servicios necesarios. \n13 de marzo @ 6 – 8:30p – español \n  \nPara más información por favor contacte a \nMarlene Benites: mbenitescac@gmail.com \n¡Nos Vemos en ZOOM! \n¡Estos entrenamientos usarán el mismo número de juntas y contraseña! \nContraseña- 123456
URL:https://elarcdecalifornia.org/evento/entrenamientos-gratis-en-asociacion-con-el-cw-comite-asesor-comunitario-de-pasadena-usd/2024-03-06/
CATEGORIES:Entrenamientos estatales,Entrenamientos por zoom
ATTACH;FMTTYPE=image/png:https://elarcdecalifornia.org/wp-content/uploads/2024/01/Screenshot-2024-01-05-at-10.07.06 AM.png
END:VEVENT
END:VCALENDAR