BEGIN:VCALENDAR
VERSION:2.0
PRODID:-//El Arc - ECPv6.15.20//NONSGML v1.0//EN
CALSCALE:GREGORIAN
METHOD:PUBLISH
X-WR-CALNAME:El Arc
X-ORIGINAL-URL:https://elarcdecalifornia.org
X-WR-CALDESC:Eventos para El Arc
REFRESH-INTERVAL;VALUE=DURATION:PT1H
X-Robots-Tag:noindex
X-PUBLISHED-TTL:PT1H
BEGIN:VTIMEZONE
TZID:America/Los_Angeles
BEGIN:DAYLIGHT
TZOFFSETFROM:-0800
TZOFFSETTO:-0700
TZNAME:PDT
DTSTART:20230312T100000
END:DAYLIGHT
BEGIN:STANDARD
TZOFFSETFROM:-0700
TZOFFSETTO:-0800
TZNAME:PST
DTSTART:20231105T090000
END:STANDARD
BEGIN:DAYLIGHT
TZOFFSETFROM:-0800
TZOFFSETTO:-0700
TZNAME:PDT
DTSTART:20240310T100000
END:DAYLIGHT
BEGIN:STANDARD
TZOFFSETFROM:-0700
TZOFFSETTO:-0800
TZNAME:PST
DTSTART:20241103T090000
END:STANDARD
BEGIN:DAYLIGHT
TZOFFSETFROM:-0800
TZOFFSETTO:-0700
TZNAME:PDT
DTSTART:20250309T100000
END:DAYLIGHT
BEGIN:STANDARD
TZOFFSETFROM:-0700
TZOFFSETTO:-0800
TZNAME:PST
DTSTART:20251102T090000
END:STANDARD
END:VTIMEZONE
BEGIN:VEVENT
DTSTART;TZID=America/Los_Angeles:20240215T180000
DTEND;TZID=America/Los_Angeles:20240215T190000
DTSTAMP:20260419T180510
CREATED:20240103T210330Z
LAST-MODIFIED:20240103T210600Z
UID:10001546-1708020000-1708023600@elarcdecalifornia.org
SUMMARY:ASESORÍA INDIVIDUAL 1
DESCRIPTION:Ives Torres Foundation los invita a Regístrese para la próxima serie de talleres que ofrecerá 12 capacitaciones que incluirán asesoría individual de los temas presentados. \nVenga a conocer cómo acceder a los recursos y servicios disponibles para desarrollar un plan de vida adulta para su ser querido con discapacidad.\n\nASESORÍA INDIVIDUAL 1\n\n\nEsta sesión está enfocada a preguntas y respuestas de los temas: Desarrollo de redes de apoyo y la importancia de la independencia en las personas con discapacidad y sus familias.
URL:https://elarcdecalifornia.org/evento/asesoria-individual-1/
CATEGORIES:Entrenamientos por zoom
ATTACH;FMTTYPE=application/pdf:https://elarcdecalifornia.org/wp-content/uploads/2024/01/SPANISH-SERIE-ACCESO-Y-EQUIDAD-4.pdf
END:VEVENT
END:VCALENDAR