BEGIN:VCALENDAR
VERSION:2.0
PRODID:-//El Arc - ECPv6.15.20//NONSGML v1.0//EN
CALSCALE:GREGORIAN
METHOD:PUBLISH
X-WR-CALNAME:El Arc
X-ORIGINAL-URL:https://elarcdecalifornia.org
X-WR-CALDESC:Eventos para El Arc
REFRESH-INTERVAL;VALUE=DURATION:PT1H
X-Robots-Tag:noindex
X-PUBLISHED-TTL:PT1H
BEGIN:VTIMEZONE
TZID:America/Los_Angeles
BEGIN:DAYLIGHT
TZOFFSETFROM:-0800
TZOFFSETTO:-0700
TZNAME:PDT
DTSTART:20230312T100000
END:DAYLIGHT
BEGIN:STANDARD
TZOFFSETFROM:-0700
TZOFFSETTO:-0800
TZNAME:PST
DTSTART:20231105T090000
END:STANDARD
BEGIN:DAYLIGHT
TZOFFSETFROM:-0800
TZOFFSETTO:-0700
TZNAME:PDT
DTSTART:20240310T100000
END:DAYLIGHT
BEGIN:STANDARD
TZOFFSETFROM:-0700
TZOFFSETTO:-0800
TZNAME:PST
DTSTART:20241103T090000
END:STANDARD
BEGIN:DAYLIGHT
TZOFFSETFROM:-0800
TZOFFSETTO:-0700
TZNAME:PDT
DTSTART:20250309T100000
END:DAYLIGHT
BEGIN:STANDARD
TZOFFSETFROM:-0700
TZOFFSETTO:-0800
TZNAME:PST
DTSTART:20251102T090000
END:STANDARD
END:VTIMEZONE
BEGIN:VEVENT
DTSTART;TZID=America/Los_Angeles:20240208T090000
DTEND;TZID=America/Los_Angeles:20240208T103000
DTSTAMP:20260419T175314
CREATED:20231218T212708Z
LAST-MODIFIED:20240605T183552Z
UID:10001536-1707382800-1707388200@elarcdecalifornia.org
SUMMARY:ECHO AUTISMO
DESCRIPTION:ECHO Autismo \n11 de enero – 13 de junio\, 2024 \nLas sesiones se llevarán a cabo el segundo jueves de cada mes de \n9 – 10:30 a.m. (hora del pacífico) \nNuevo formato híbrido que conecta familias\, profesionales al cuidado del autismo con un grupo de expertos localizado en nuestro centro académico de excelencia del cuidado del autismo. \n¡Todos colaboran\, todos aprenden y mejoran el cuidado de personas con autismo! \n¡ECHO Autismo mueve el conocimiento\, no a los pacientes! \n\nSin ningún costo\nAccesible en línea desde cualquier parte\nRecibe apoyo para el manejo de casos de autismo\nAprendizaje basado en discusión de casos en tiempo real\nRecomendaciones de expertos en autismo\nProporciona las mejores prácticas para el cuidado en autismo\n\nDirigido a: \n\nMédicos y otros empleados de la salud\nOtros profesionales al cuidado de personas con autismo\nAdultos con autismo\nFamilias/cuidadores de personas con autismo\nMejorando El Manejo del Autismo\n¿Estás listo para unirte al movimiento?\n\nECHO Autismo utiliza instrucciones didácticas \nbasadas en casos para fomentar un aprendizaje interactivo y promover una comunidad de aprendizaje. La participación activa y las presentaciones de casos son fundamentales \nProyecto ECHO \nTodos Enseñan\, Todos Aprenden
URL:https://elarcdecalifornia.org/evento/echo-autismo/2024-02-08/
CATEGORIES:Entrenamientos por zoom
ATTACH;FMTTYPE=image/jpeg:https://elarcdecalifornia.org/wp-content/uploads/2023/12/Unknown-6.jpg
END:VEVENT
BEGIN:VEVENT
DTSTART;TZID=America/Los_Angeles:20240208T090000
DTEND;TZID=America/Los_Angeles:20240208T110000
DTSTAMP:20260419T175314
CREATED:20230830T215338Z
LAST-MODIFIED:20230907T212116Z
UID:10000191-1707382800-1707390000@elarcdecalifornia.org
SUMMARY:Tele ECHO Autismo
DESCRIPTION:¡Nuevo formato híbrido que conecta familias\, ! profesionales al cuidado del autismo con un grupo de expertos localizados en nuestro centro académico de excelencia del cuidado del autismo Todos colaboran\, todos aprenden y mejoran el cuidado de personas con autismo! ¡ECHO Autismo mueve el conocimiento\, no a los pacientes! Sin ningún costo. \nSegundo Jueves de cada mes\n9:00 AM- 11:00 AM (Hora del pacifico) \nDetalles\nRegistrarse
URL:https://elarcdecalifornia.org/evento/tele-echo-autismo/2024-02-08/
CATEGORIES:Entrenamientos por zoom
END:VEVENT
BEGIN:VEVENT
DTSTART;TZID=America/Los_Angeles:20240208T173000
DTEND;TZID=America/Los_Angeles:20240208T190000
DTSTAMP:20260419T175314
CREATED:20240103T205847Z
LAST-MODIFIED:20240103T205847Z
UID:10001545-1707413400-1707418800@elarcdecalifornia.org
SUMMARY:LA IMPORTANCIA DE LA INDEPENDENCIA EN LA VIDA DE LAS PERSONAS CON DISCAPACIDAD Y SUS FAMILIAS
DESCRIPTION:Ives Torres Foundation los invita a Regístrese para la próxima serie de talleres que ofrecerá 12 capacitaciones que incluirán asesoría individual de los temas presentados. \nVenga a conocer cómo acceder a los recursos y servicios disponibles para desarrollar un plan de vida adulta para su ser querido con discapacidad.\nLA IMPORTANCIA DE LA INDEPENDENCIA EN LA VIDA DE LAS PERSONAS CON DISCAPACIDAD Y SUS \nFAMILIAS. \n\n\nSe brindará información de cómo crear independencia en la persona con discapacidad.
URL:https://elarcdecalifornia.org/evento/la-importancia-de-la-independencia-en-la-vida-de-las-personas-con-discapacidad-y-sus-familias/
CATEGORIES:Entrenamientos por zoom
ATTACH;FMTTYPE=application/pdf:https://elarcdecalifornia.org/wp-content/uploads/2024/01/SPANISH-SERIE-ACCESO-Y-EQUIDAD-3.pdf
END:VEVENT
END:VCALENDAR