BEGIN:VCALENDAR
VERSION:2.0
PRODID:-//El Arc - ECPv6.15.20//NONSGML v1.0//EN
CALSCALE:GREGORIAN
METHOD:PUBLISH
X-ORIGINAL-URL:https://elarcdecalifornia.org
X-WR-CALDESC:Eventos para El Arc
REFRESH-INTERVAL;VALUE=DURATION:PT1H
X-Robots-Tag:noindex
X-PUBLISHED-TTL:PT1H
BEGIN:VTIMEZONE
TZID:America/Los_Angeles
BEGIN:DAYLIGHT
TZOFFSETFROM:-0800
TZOFFSETTO:-0700
TZNAME:PDT
DTSTART:20230312T100000
END:DAYLIGHT
BEGIN:STANDARD
TZOFFSETFROM:-0700
TZOFFSETTO:-0800
TZNAME:PST
DTSTART:20231105T090000
END:STANDARD
BEGIN:DAYLIGHT
TZOFFSETFROM:-0800
TZOFFSETTO:-0700
TZNAME:PDT
DTSTART:20240310T100000
END:DAYLIGHT
BEGIN:STANDARD
TZOFFSETFROM:-0700
TZOFFSETTO:-0800
TZNAME:PST
DTSTART:20241103T090000
END:STANDARD
BEGIN:DAYLIGHT
TZOFFSETFROM:-0800
TZOFFSETTO:-0700
TZNAME:PDT
DTSTART:20250309T100000
END:DAYLIGHT
BEGIN:STANDARD
TZOFFSETFROM:-0700
TZOFFSETTO:-0800
TZNAME:PST
DTSTART:20251102T090000
END:STANDARD
END:VTIMEZONE
BEGIN:VEVENT
DTSTART;TZID=America/Los_Angeles:20240131T100000
DTEND;TZID=America/Los_Angeles:20240131T113000
DTSTAMP:20260419T162252
CREATED:20240105T201306Z
LAST-MODIFIED:20240105T201312Z
UID:10001562-1706695200-1706700600@elarcdecalifornia.org
SUMMARY:Yendo MÁS ALLÁ de Servicio de Respiro en Centro Regional
DESCRIPTION:Ven a aprender cómo explicar las necesidades de su ser querido al Centro Regional. Lo ayudaremos a identificar detalles claves para agregar a su IPP y le enseñaremos una comunicación efectiva con el coordinador\, para que su ser querido reciba los servicios adecuados. \n\n\nMEJORAR CONOCIMIENTO DEL IPP \n\nCOMUNICACIÓN EFECTIVA\nAMPLIAR ACCESO A LOS SERVICIOS\n\nId Zoom: 838 3884 7340 \n¿Tiene preguntas? Puede llamar\, enviar mensaje\, o visité a: \n760.423.4767 \ninto@theganas.org \nwww.theganas.org
URL:https://elarcdecalifornia.org/evento/yendo-mas-alla-de-servicio-de-respiro-en-centro-regional/
CATEGORIES:Entrenamientos por zoom
ATTACH;FMTTYPE=image/jpeg:https://elarcdecalifornia.org/wp-content/uploads/2024/01/SPAN_Going-Beyond-Respite-Services-at-Regional-Center.jpg
END:VEVENT
BEGIN:VEVENT
DTSTART;TZID=America/Los_Angeles:20240131T100000
DTEND;TZID=America/Los_Angeles:20240131T113000
DTSTAMP:20260419T162252
CREATED:20240127T010218Z
LAST-MODIFIED:20240127T010218Z
UID:10002006-1706695200-1706700600@elarcdecalifornia.org
SUMMARY:Yendo mas alla de los servicios de respiro en Centro Regional
DESCRIPTION:Ven a aprender cómo explicar las necesidades de su ser querido al Centro Regional. Lo ayudaremos a identificar detalles \nclaves \nagregar a su IPP y le enseñaremos una comunicación efectiva con el coordinador\, para que su ser querido reciba los servicios adecuados.
URL:https://elarcdecalifornia.org/evento/yendo-mas-alla-de-los-servicios-de-respiro-en-centro-regional/
CATEGORIES:Entrenamientos por zoom
ATTACH;FMTTYPE=image/jpeg:https://elarcdecalifornia.org/wp-content/uploads/2024/01/Unknown-2-1.jpeg
END:VEVENT
BEGIN:VEVENT
DTSTART;TZID=America/Los_Angeles:20240131T100000
DTEND;TZID=America/Los_Angeles:20240131T120000
DTSTAMP:20260419T162252
CREATED:20240127T005838Z
LAST-MODIFIED:20240127T005913Z
UID:10002005-1706695200-1706702400@elarcdecalifornia.org
SUMMARY:Beneficios públicos para cuidadores familiares
DESCRIPTION:Cómo maximizar los ingresos del Seguro de Discapacidad del Seguro Social (SSDI) e incentivos laborales. La educadora de padres Angela Gattis y el invitado especial Héctor Guerrero\, Planificador de Incentivos Laborales del Departamento de Rehabilitación de California\, los invitan a unirse a esta importante conversación a través de Zoom. Obtenga respuestas a sus preguntas sobre elegibilidad y beneficios de SSI
URL:https://elarcdecalifornia.org/evento/beneficios-publicos-para-cuidadores-familiares/
CATEGORIES:Entrenamientos por zoom
ATTACH;FMTTYPE=image/jpeg:https://elarcdecalifornia.org/wp-content/uploads/2024/01/Unknown-3-1.jpeg
END:VEVENT
BEGIN:VEVENT
DTSTART;TZID=America/Los_Angeles:20240131T170000
DTEND;TZID=America/Los_Angeles:20240131T183000
DTSTAMP:20260419T162252
CREATED:20231201T004729Z
LAST-MODIFIED:20231201T004729Z
UID:10001470-1706720400-1706725800@elarcdecalifornia.org
SUMMARY:La importancia de cerrar el año cuidando nuestra
DESCRIPTION:Tendrá la oportunidad de hablar con un Médico y hacerle preguntas sobre “Cuidando su Salud”\nTendrá la oportunidad de hablar con un Médico y hacerle preguntas sobre “Atención médica”\n\nGrupo virtual recurrente- Todos los miércoles a las 5:00 pm.
URL:https://elarcdecalifornia.org/evento/la-importancia-de-cerrar-el-ano-cuidando-nuestra/2024-01-31/
CATEGORIES:Entrenamientos por zoom
ATTACH;FMTTYPE=image/png:https://elarcdecalifornia.org/wp-content/uploads/2023/11/Screenshot-2023-11-30-at-4.33.45 PM.png
END:VEVENT
END:VCALENDAR