BEGIN:VCALENDAR
VERSION:2.0
PRODID:-//El Arc - ECPv6.15.20//NONSGML v1.0//EN
CALSCALE:GREGORIAN
METHOD:PUBLISH
X-ORIGINAL-URL:https://elarcdecalifornia.org
X-WR-CALDESC:Eventos para El Arc
REFRESH-INTERVAL;VALUE=DURATION:PT1H
X-Robots-Tag:noindex
X-PUBLISHED-TTL:PT1H
BEGIN:VTIMEZONE
TZID:America/Los_Angeles
BEGIN:DAYLIGHT
TZOFFSETFROM:-0800
TZOFFSETTO:-0700
TZNAME:PDT
DTSTART:20230312T100000
END:DAYLIGHT
BEGIN:STANDARD
TZOFFSETFROM:-0700
TZOFFSETTO:-0800
TZNAME:PST
DTSTART:20231105T090000
END:STANDARD
BEGIN:DAYLIGHT
TZOFFSETFROM:-0800
TZOFFSETTO:-0700
TZNAME:PDT
DTSTART:20240310T100000
END:DAYLIGHT
BEGIN:STANDARD
TZOFFSETFROM:-0700
TZOFFSETTO:-0800
TZNAME:PST
DTSTART:20241103T090000
END:STANDARD
BEGIN:DAYLIGHT
TZOFFSETFROM:-0800
TZOFFSETTO:-0700
TZNAME:PDT
DTSTART:20250309T100000
END:DAYLIGHT
BEGIN:STANDARD
TZOFFSETFROM:-0700
TZOFFSETTO:-0800
TZNAME:PST
DTSTART:20251102T090000
END:STANDARD
END:VTIMEZONE
BEGIN:VEVENT
DTSTART;TZID=America/Los_Angeles:20240118T160000
DTEND;TZID=America/Los_Angeles:20240118T170000
DTSTAMP:20260419T162345
CREATED:20240116T165534Z
LAST-MODIFIED:20240116T165701Z
UID:10001591-1705593600-1705597200@elarcdecalifornia.org
SUMMARY:La intervención temprana de mi hijo termina a los 3 años – ¿Qué sigue?
DESCRIPTION:El Centro de Recursos Familiares (FRC) del Condado de San Mateo lo invita a participar en esta capacitación en línea para aprender sobre la Transición del Programa de Intervención Temprana del Centro Regional Golden Gate (GGRC) y las opciones de servicio para considerar a los tres años. \nLos servicios a considerar podrían incluir servicios continuos a través de GGRC\, educación especial a través de su distrito escolar local\, servicios cubiertos a través de su seguro médico privado\, Medi-Cal o servicios comunitarios. La capacitación se centrará en los pasos\, el cronograma\, los términos de educación especial y los consejos para navegar el sistema de educación especial. Esta capacitación está dirigida a los padres de niños que reciben servicios de Intervención Temprana a través de su Centro Regional local\, así como a los proveedores que los atienden. \n Presentadores: Personal del Centro de Recursos Familiares Registración por Zoom es requerida.
URL:https://elarcdecalifornia.org/evento/la-intervencion-temprana-de-mi-hijo-termina-a-los-3-anos-que-sigue/
CATEGORIES:Entrenamientos por zoom
ATTACH;FMTTYPE=image/png:https://elarcdecalifornia.org/wp-content/uploads/2024/01/Unknown.png
END:VEVENT
BEGIN:VEVENT
DTSTART;TZID=America/Los_Angeles:20240118T160000
DTEND;TZID=America/Los_Angeles:20240118T180000
DTSTAMP:20260419T162345
CREATED:20240116T165934Z
LAST-MODIFIED:20240116T170005Z
UID:10001592-1705593600-1705600800@elarcdecalifornia.org
SUMMARY:Programa de Educacion Individualizado (IEP) español
DESCRIPTION:Taller virtual \nJueves\, 18 de enero\, 2024; 4-6:00 pm \n\nEste taller brindará a las familias y profesionales una descripción general de la\nLey de Educación para Individuos con Discapacidades (IDEA) y cómo participar en el desarrollo de un lEP.\nObtener una comprensión de los principios de IDEA y el proceso del lEP.\nReunir recursos e información relacionados con IDEA y el proceso del\n\nEsta sesión es en español y proporciona a las familias y profesionales una visión general de la Ley de Educación para Individuos con Discapacidades (IDEA\, por sus siglas en inglés) y del proceso del Programa de Educación Individualizado (IEP\, por sus siglas en inglés). Los participantes también recibirán recursos relacionados con IDEA y IEP
URL:https://elarcdecalifornia.org/evento/programa-de-educacion-individualizado-iep-espanol/
CATEGORIES:Entrenamientos por zoom
ATTACH;FMTTYPE=image/jpeg:https://elarcdecalifornia.org/wp-content/uploads/2024/01/Unknown-3.jpeg
END:VEVENT
BEGIN:VEVENT
DTSTART;TZID=America/Los_Angeles:20240118T173000
DTEND;TZID=America/Los_Angeles:20240118T190000
DTSTAMP:20260419T162345
CREATED:20240103T200804Z
LAST-MODIFIED:20240103T200804Z
UID:10001542-1705599000-1705604400@elarcdecalifornia.org
SUMMARY:INTRODUCCIÓN AL PLAN CENTRADO EN LA PERSONA
DESCRIPTION:Ives Torres Foundation los invita a Regístrese para la próxima serie de talleres que ofrecerá 12 capacitaciones que incluirán asesoría individual de los temas presentados. \nVenga a conocer cómo acceder a los recursos y servicios disponibles para desarrollar un plan de vida adulta para su ser querido con discapacidad.\nINTRODUCCIÓN AL PLAN CENTRADO EN LA PERSONA \n\nAprenderá los principios\, beneficios y lo que esta planificación incluye. Adquiera las herramientas para llevar a cabo este proceso.\n\n 
URL:https://elarcdecalifornia.org/evento/introduccion-al-plan-centrado-en-la-persona/
CATEGORIES:Entrenamientos por zoom
ATTACH;FMTTYPE=application/pdf:https://elarcdecalifornia.org/wp-content/uploads/2024/01/SPANISH-SERIE-ACCESO-Y-EQUIDAD.pdf
END:VEVENT
END:VCALENDAR