BEGIN:VCALENDAR
VERSION:2.0
PRODID:-//El Arc - ECPv6.15.20//NONSGML v1.0//EN
CALSCALE:GREGORIAN
METHOD:PUBLISH
X-ORIGINAL-URL:https://elarcdecalifornia.org
X-WR-CALDESC:Eventos para El Arc
REFRESH-INTERVAL;VALUE=DURATION:PT1H
X-Robots-Tag:noindex
X-PUBLISHED-TTL:PT1H
BEGIN:VTIMEZONE
TZID:America/Los_Angeles
BEGIN:DAYLIGHT
TZOFFSETFROM:-0800
TZOFFSETTO:-0700
TZNAME:PDT
DTSTART:20230312T100000
END:DAYLIGHT
BEGIN:STANDARD
TZOFFSETFROM:-0700
TZOFFSETTO:-0800
TZNAME:PST
DTSTART:20231105T090000
END:STANDARD
BEGIN:DAYLIGHT
TZOFFSETFROM:-0800
TZOFFSETTO:-0700
TZNAME:PDT
DTSTART:20240310T100000
END:DAYLIGHT
BEGIN:STANDARD
TZOFFSETFROM:-0700
TZOFFSETTO:-0800
TZNAME:PST
DTSTART:20241103T090000
END:STANDARD
BEGIN:DAYLIGHT
TZOFFSETFROM:-0800
TZOFFSETTO:-0700
TZNAME:PDT
DTSTART:20250309T100000
END:DAYLIGHT
BEGIN:STANDARD
TZOFFSETFROM:-0700
TZOFFSETTO:-0800
TZNAME:PST
DTSTART:20251102T090000
END:STANDARD
END:VTIMEZONE
BEGIN:VEVENT
DTSTART;TZID=America/Los_Angeles:20240109T180000
DTEND;TZID=America/Los_Angeles:20240109T190000
DTSTAMP:20260419T162324
CREATED:20231218T174843Z
LAST-MODIFIED:20231218T174843Z
UID:10001528-1704823200-1704826800@elarcdecalifornia.org
SUMMARY:¡QUEREMOS ESCUCHAR DE TI!
DESCRIPTION:Asiste a una sesión donde escucharemos sobre las necesidades de personas con: Discapacidad Intelectual y del Desarrollo con Necesidades \nConcurrentes de Salud mental o del Comportamiento \nTodos los centros regionales son bienvenidos \n\nQueremos conocer sus experiencias dentro de los sistemas para ayudarnos a comprender\nsus necesidades.\nEscucharemos sus experiencias\, podrán hacer preguntas y ofrecer recomendaciones sobre servicios y apoyos para |/DD – BH.\nLa información obtenida de esta sesión se utilizarán para crear una serie de entrenamientos de salud mental para informar a las personas y familias sobre las mejores\nprácticas y la navegación del\n\nElija una sesión y regístrese usando los enlaces: \n9 de enero de 2024\, de 6:00 a 7:00 \nhttps://us02web.zoom.us/meeting/register/tZMkcO6rrj0jHNSfJYMlEcmEaNMwu-R44CdJ#/registration \n  \n11 de enero de 2024\, de 18:30 a 19:30 horas \nhttps://us02web.zoom.us/meeting/register/tZMkcO6rrj0jHNSfJYMlEcmEaNMwu-R44CdJ#/registratio
URL:https://elarcdecalifornia.org/evento/queremos-escuchar-de-ti/2024-01-09/
CATEGORIES:Entrenamientos por zoom,grupo focal
ATTACH;FMTTYPE=image/png:https://elarcdecalifornia.org/wp-content/uploads/2023/12/Screenshot-2023-12-18-at-9.13.47 AM.png
END:VEVENT
END:VCALENDAR