BEGIN:VCALENDAR
VERSION:2.0
PRODID:-//El Arc - ECPv6.15.20//NONSGML v1.0//EN
CALSCALE:GREGORIAN
METHOD:PUBLISH
X-ORIGINAL-URL:https://elarcdecalifornia.org
X-WR-CALDESC:Eventos para El Arc
REFRESH-INTERVAL;VALUE=DURATION:PT1H
X-Robots-Tag:noindex
X-PUBLISHED-TTL:PT1H
BEGIN:VTIMEZONE
TZID:America/Los_Angeles
BEGIN:DAYLIGHT
TZOFFSETFROM:-0800
TZOFFSETTO:-0700
TZNAME:PDT
DTSTART:20230312T100000
END:DAYLIGHT
BEGIN:STANDARD
TZOFFSETFROM:-0700
TZOFFSETTO:-0800
TZNAME:PST
DTSTART:20231105T090000
END:STANDARD
BEGIN:DAYLIGHT
TZOFFSETFROM:-0800
TZOFFSETTO:-0700
TZNAME:PDT
DTSTART:20240310T100000
END:DAYLIGHT
BEGIN:STANDARD
TZOFFSETFROM:-0700
TZOFFSETTO:-0800
TZNAME:PST
DTSTART:20241103T090000
END:STANDARD
BEGIN:DAYLIGHT
TZOFFSETFROM:-0800
TZOFFSETTO:-0700
TZNAME:PDT
DTSTART:20250309T100000
END:DAYLIGHT
BEGIN:STANDARD
TZOFFSETFROM:-0700
TZOFFSETTO:-0800
TZNAME:PST
DTSTART:20251102T090000
END:STANDARD
END:VTIMEZONE
BEGIN:VEVENT
DTSTART;TZID=America/Los_Angeles:20240108T080000
DTEND;TZID=America/Los_Angeles:20240108T103000
DTSTAMP:20260419T162254
CREATED:20231218T211553Z
LAST-MODIFIED:20231218T211709Z
UID:10001534-1704700800-1704709800@elarcdecalifornia.org
SUMMARY:Entrenamientos Estatales de SCDD 2024
DESCRIPTION:¡Únase a nuestros entrenamientos semanales a nivel estatal todos los lunes a las 10 AM! Cubriremos una variedad de temas relacionados con la discapacidad. \nCada tema se proporcionará por separado en inglés y español en semanas alternas. \nSe lanzarán nuevos volantes cada mes\, revelando el tema específico de cada semana. Suscríbete al Boletín Informativo de \nSCDD LA para recibir volantes mensuales. \nLa información de Zoom se mantendrá igual todo el año. ¡No es necesario registrarse! \n¡Marque sus calendarios y no se pierda esta valiosa oportunidad de aprendizaje! \nPara más información: \n(818) 543-4631 o Sofia.Cervantes@scdd.ca.gov
URL:https://elarcdecalifornia.org/evento/entrenamientos-estatales-de-scdd-2024/
CATEGORIES:Entrenamientos estatales,Entrenamientos por zoom
ATTACH;FMTTYPE=image/png:https://elarcdecalifornia.org/wp-content/uploads/2023/12/Screenshot-2023-12-18-at-1.02.00 PM.png
END:VEVENT
BEGIN:VEVENT
DTSTART;TZID=America/Los_Angeles:20240108T100000
DTEND;TZID=America/Los_Angeles:20240108T110000
DTSTAMP:20260419T162254
CREATED:20230907T214108Z
LAST-MODIFIED:20230907T214109Z
UID:10000262-1704708000-1704711600@elarcdecalifornia.org
SUMMARY:Entrenamientos Estatales de SCDD del año 2023
DESCRIPTION:¡Nos Vemos en ZOOM!! ¡Todos los entrenamientos usarán el mismo número de juntas y contraseña todo el año! Los entrenamientos se darán en series de temas y serán ofrecidos en español. Vea las fechas y temas correspondientes en el volante. Número de Junta: 829-8230-7774 Contraseña: 123456. Para participar por teléfono\, llame al (888) 475-4499 e ingrese el número de juntas y contraseña. Para más información: (818) 543-4636 o Sofia.Cervantes@scdd.ca.gov \nLos lunes\n10:00 AM (Hora del pacífico) \nDetalles\nRegistrarse
URL:https://elarcdecalifornia.org/evento/test-event-2/2024-01-08/
CATEGORIES:Entrenamientos por zoom
END:VEVENT
BEGIN:VEVENT
DTSTART;TZID=America/Los_Angeles:20240108T113000
DTEND;TZID=America/Los_Angeles:20240108T123000
DTSTAMP:20260419T162254
CREATED:20231218T175345Z
LAST-MODIFIED:20231218T175345Z
UID:10001530-1704713400-1704717000@elarcdecalifornia.org
SUMMARY:APOYAR A LAS FAMILIAS PARA QUE SUS FAMILIARES ADULTOS CON DISCAPACIDAD INTELECTUAL Y DEL DESARROLLO SEAN CONECTADOS
DESCRIPTION:AL EMPLEO INTEGRADO COMPETITIVO: \nUNA INTERVENCIÓN DE MÉTODOS MIXTOS \nPROYECTO DE DESARROLLO \nObjetivos del aprendizaje \n\nExaminar los procesos implicados con aportes recopilados de familias en desarrollo en intervención para abordar los obstáculos que impiden obtener\nresultados de empleo exitosos.\nConversar sobre métodos innovadores para apoyar a las familias a través del proceso de conectar los miembros de su familia con IDD con empleo pagado
URL:https://elarcdecalifornia.org/evento/apoyar-a-las-familias-para-que-sus-familiares-adultos-con-discapacidad-intelectual-y-del-desarrollo-sean-conectados/
CATEGORIES:Entrenamientos por zoom
ATTACH;FMTTYPE=image/png:https://elarcdecalifornia.org/wp-content/uploads/2023/12/Unknown-4.png
END:VEVENT
END:VCALENDAR