BEGIN:VCALENDAR
VERSION:2.0
PRODID:-//El Arc - ECPv6.15.20//NONSGML v1.0//EN
CALSCALE:GREGORIAN
METHOD:PUBLISH
X-ORIGINAL-URL:https://elarcdecalifornia.org
X-WR-CALDESC:Eventos para El Arc
REFRESH-INTERVAL;VALUE=DURATION:PT1H
X-Robots-Tag:noindex
X-PUBLISHED-TTL:PT1H
BEGIN:VTIMEZONE
TZID:America/Los_Angeles
BEGIN:DAYLIGHT
TZOFFSETFROM:-0800
TZOFFSETTO:-0700
TZNAME:PDT
DTSTART:20220313T100000
END:DAYLIGHT
BEGIN:STANDARD
TZOFFSETFROM:-0700
TZOFFSETTO:-0800
TZNAME:PST
DTSTART:20221106T090000
END:STANDARD
BEGIN:DAYLIGHT
TZOFFSETFROM:-0800
TZOFFSETTO:-0700
TZNAME:PDT
DTSTART:20230312T100000
END:DAYLIGHT
BEGIN:STANDARD
TZOFFSETFROM:-0700
TZOFFSETTO:-0800
TZNAME:PST
DTSTART:20231105T090000
END:STANDARD
BEGIN:DAYLIGHT
TZOFFSETFROM:-0800
TZOFFSETTO:-0700
TZNAME:PDT
DTSTART:20240310T100000
END:DAYLIGHT
BEGIN:STANDARD
TZOFFSETFROM:-0700
TZOFFSETTO:-0800
TZNAME:PST
DTSTART:20241103T090000
END:STANDARD
END:VTIMEZONE
BEGIN:VEVENT
DTSTART;TZID=America/Los_Angeles:20231129T100000
DTEND;TZID=America/Los_Angeles:20231129T113000
DTSTAMP:20260419T162343
CREATED:20231127T192538Z
LAST-MODIFIED:20231127T221210Z
UID:10001459-1701252000-1701257400@elarcdecalifornia.org
SUMMARY:El Futuro es Ahora: Diseñando un Plan de Apoyo para su Hijo Adulto o Familiar
DESCRIPTION:Futuros y Esperanza: Serie de clases de seis semanas que comienza el miércoles 29 de noviembre \nFuturos y Esperanza: Preparación para el cuidado de su hijo adulto o familiar. Este curso presencial de seis semanas ofrece un proceso paso a paso para ayudarle a diseñar un plan para el cuidado futuro de su hijo adulto. Impartido por instructores capacitados\, asegurando una experiencia de aprendizaje de apoyo. Esta clase es en español. \nContacté si tiene preguntas \nSamantha Thalken \nCaring Futures presented by The Arc of California \n(916) 905-5664 \nsamantha@thearcca.org
URL:https://elarcdecalifornia.org/evento/el-futuro-es-ahora-disenando-un-plan-de-apoyo-para-su-hijo-adulto-o-familiar/
CATEGORIES:Entrenamientos por zoom
ATTACH;FMTTYPE=image/png:https://elarcdecalifornia.org/wp-content/uploads/2023/11/Unknown.png
END:VEVENT
BEGIN:VEVENT
DTSTART;TZID=America/Los_Angeles:20231129T170000
DTEND;TZID=America/Los_Angeles:20231129T183000
DTSTAMP:20260419T162343
CREATED:20231122T210553Z
LAST-MODIFIED:20231122T211351Z
UID:10001455-1701277200-1701282600@elarcdecalifornia.org
SUMMARY:Tips para cuidar su dinero y poder ahorrar durante las fiestas de fin de año
DESCRIPTION:DOMINA LOS GASTOS NAVIDEÑOS \n  \nMeeting ID:     872 6117 5961 \nPassword:       creo
URL:https://elarcdecalifornia.org/evento/tips-para-cuidar-su-dinero-y-poder-ahorrar-durante-las-fiestas-de-fin-de-ano/
CATEGORIES:Entrenamientos por zoom
ATTACH;FMTTYPE=application/pdf:https://elarcdecalifornia.org/wp-content/uploads/2023/11/CREO-Platica-11292023.pdf
END:VEVENT
BEGIN:VEVENT
DTSTART;TZID=America/Los_Angeles:20231129T170000
DTEND;TZID=America/Los_Angeles:20231129T190000
DTSTAMP:20260419T162343
CREATED:20231127T221539Z
LAST-MODIFIED:20231127T221641Z
UID:10001460-1701277200-1701284400@elarcdecalifornia.org
SUMMARY:Pubertad\,Sexualidad y Discapacidad:Conociendo y respetando nuestro cuerpo.
DESCRIPTION:En esta sesión revisaremos cómo las estrategias de ABA y otras estrategias pueden apoyar a los padres a manejar los comportamientos más comunes de la transición de la niñez a la adolescencia\, incluyendo la sexualidad. Esta sesión combina lo que revisamos en las anteriores sesiones con el propósito de equipar a los padres con algo de conocimiento sobre la sexualidad y la discapacidad. \nEste es un evento de Connections California\, un proyecto de Parents Helping Parents – Silicon Valley en colaboración de Congreso Familiar. Sus datos de registro serán recopilados por Parents Helping Parents y Congreso Familiar. Todas las agencias toman en serio la privacidad y la confidencialidad
URL:https://elarcdecalifornia.org/evento/pubertadsexualidad-y-discapacidadconociendo-y-respetando-nuestro-cuerpo/
CATEGORIES:Entrenamientos por zoom
ATTACH;FMTTYPE=image/png:https://elarcdecalifornia.org/wp-content/uploads/2023/10/Unknown-1-1.png
END:VEVENT
END:VCALENDAR