BEGIN:VCALENDAR
VERSION:2.0
PRODID:-//El Arc - ECPv6.15.20//NONSGML v1.0//EN
CALSCALE:GREGORIAN
METHOD:PUBLISH
X-ORIGINAL-URL:https://elarcdecalifornia.org
X-WR-CALDESC:Eventos para El Arc
REFRESH-INTERVAL;VALUE=DURATION:PT1H
X-Robots-Tag:noindex
X-PUBLISHED-TTL:PT1H
BEGIN:VTIMEZONE
TZID:America/Los_Angeles
BEGIN:DAYLIGHT
TZOFFSETFROM:-0800
TZOFFSETTO:-0700
TZNAME:PDT
DTSTART:20220313T100000
END:DAYLIGHT
BEGIN:STANDARD
TZOFFSETFROM:-0700
TZOFFSETTO:-0800
TZNAME:PST
DTSTART:20221106T090000
END:STANDARD
BEGIN:DAYLIGHT
TZOFFSETFROM:-0800
TZOFFSETTO:-0700
TZNAME:PDT
DTSTART:20230312T100000
END:DAYLIGHT
BEGIN:STANDARD
TZOFFSETFROM:-0700
TZOFFSETTO:-0800
TZNAME:PST
DTSTART:20231105T090000
END:STANDARD
BEGIN:DAYLIGHT
TZOFFSETFROM:-0800
TZOFFSETTO:-0700
TZNAME:PDT
DTSTART:20240310T100000
END:DAYLIGHT
BEGIN:STANDARD
TZOFFSETFROM:-0700
TZOFFSETTO:-0800
TZNAME:PST
DTSTART:20241103T090000
END:STANDARD
END:VTIMEZONE
BEGIN:VEVENT
DTSTART;TZID=America/Los_Angeles:20231109T090000
DTEND;TZID=America/Los_Angeles:20231109T110000
DTSTAMP:20260419T180932
CREATED:20230830T215338Z
LAST-MODIFIED:20230907T212116Z
UID:10000188-1699520400-1699527600@elarcdecalifornia.org
SUMMARY:Tele ECHO Autismo
DESCRIPTION:¡Nuevo formato híbrido que conecta familias\, ! profesionales al cuidado del autismo con un grupo de expertos localizados en nuestro centro académico de excelencia del cuidado del autismo Todos colaboran\, todos aprenden y mejoran el cuidado de personas con autismo! ¡ECHO Autismo mueve el conocimiento\, no a los pacientes! Sin ningún costo. \nSegundo Jueves de cada mes\n9:00 AM- 11:00 AM (Hora del pacifico) \nDetalles\nRegistrarse
URL:https://elarcdecalifornia.org/evento/tele-echo-autismo/2023-11-09/
CATEGORIES:Entrenamientos por zoom
END:VEVENT
BEGIN:VEVENT
DTSTART;TZID=America/Los_Angeles:20231109T180000
DTEND;TZID=America/Los_Angeles:20231109T203000
DTSTAMP:20260419T180932
CREATED:20231105T023731Z
LAST-MODIFIED:20231105T023731Z
UID:10001448-1699552800-1699561800@elarcdecalifornia.org
SUMMARY:Unase a ASLA y SCDD para conocer la Ley Lanterman.
DESCRIPTION:La ley Lanterman es una ley de California que garantiza que las personas con discapacidades del desarrollo y sus familias tengas los mismos derechos a los servicios y apoyos que los demás californianos. Los profesionales que ayudan con servicios y apoyos deben cumplir esta ley. Para ser un facilitador Independiente efectivo debe conocer la Ley Lanterman para asegurar que sus clientes reciban los servicios tradicionales apropiados a los que tienen derecho.
URL:https://elarcdecalifornia.org/evento/unase-a-asla-y-scdd-para-conocer-la-ley-lanterman/2023-11-09/
CATEGORIES:Entrenamientos por zoom
ATTACH;FMTTYPE=image/png:https://elarcdecalifornia.org/wp-content/uploads/2023/11/LANTERMAN-ACT-FINAL.png
END:VEVENT
END:VCALENDAR