BEGIN:VCALENDAR
VERSION:2.0
PRODID:-//El Arc - ECPv6.15.20//NONSGML v1.0//EN
CALSCALE:GREGORIAN
METHOD:PUBLISH
X-WR-CALNAME:El Arc
X-ORIGINAL-URL:https://elarcdecalifornia.org
X-WR-CALDESC:Eventos para El Arc
REFRESH-INTERVAL;VALUE=DURATION:PT1H
X-Robots-Tag:noindex
X-PUBLISHED-TTL:PT1H
BEGIN:VTIMEZONE
TZID:America/Los_Angeles
BEGIN:DAYLIGHT
TZOFFSETFROM:-0800
TZOFFSETTO:-0700
TZNAME:PDT
DTSTART:20220313T100000
END:DAYLIGHT
BEGIN:STANDARD
TZOFFSETFROM:-0700
TZOFFSETTO:-0800
TZNAME:PST
DTSTART:20221106T090000
END:STANDARD
BEGIN:DAYLIGHT
TZOFFSETFROM:-0800
TZOFFSETTO:-0700
TZNAME:PDT
DTSTART:20230312T100000
END:DAYLIGHT
BEGIN:STANDARD
TZOFFSETFROM:-0700
TZOFFSETTO:-0800
TZNAME:PST
DTSTART:20231105T090000
END:STANDARD
BEGIN:DAYLIGHT
TZOFFSETFROM:-0800
TZOFFSETTO:-0700
TZNAME:PDT
DTSTART:20240310T100000
END:DAYLIGHT
BEGIN:STANDARD
TZOFFSETFROM:-0700
TZOFFSETTO:-0800
TZNAME:PST
DTSTART:20241103T090000
END:STANDARD
END:VTIMEZONE
BEGIN:VEVENT
DTSTART;TZID=America/Los_Angeles:20231027T040000
DTEND;TZID=America/Los_Angeles:20231027T180000
DTSTAMP:20260419T195256
CREATED:20231026T224144Z
LAST-MODIFIED:20231026T224527Z
UID:10001071-1698379200-1698429600@elarcdecalifornia.org
SUMMARY:Tomar Decisiones con Apoyo en entornos educacionales
DESCRIPTION:El Programa de asistencia técnica para la toma de decisiones con apoyo (SDM-TAP) está organizando conversaciones comunitarias para aprender cómo apoyar la implementación de SDM en todo el estado. Puede registrarse para una o más de nuestras conversaciones comunitarias. Cada fecha tendrá un área de enfoque específica\, pero si no puede asistir al área de enfoque que más le interesa\, regístrese para otra fecha y comparta su opinión con nosotros cuando pueda participar. Estas son las áreas de enfoque para cada reunión: \nHorarios de Conversaciones \nMartes\, octubre 24\, de 4-6 pm\nTomar Decisiones con Apoyo en entorno de servicios para la discapacidad intelectual y de desarrollo \nMiércoles\, octubre 25\, de 4-6 pm\nTomar Decisiones con Apoyo en entornos Legales o Judiciales \nJueves\, octubre 26\, de 4-6 pm\nTomar Decisiones con Apoyo en entornos médicos o de salud \nViernes\, octubre 27\, de 4-6 pm\nTomar Decisiones con Apoyo en entornos financieros.
URL:https://elarcdecalifornia.org/evento/tomar-decisiones-con-apoyo-en-entornos-educacionales-2/
CATEGORIES:Entrenamientos por zoom
ATTACH;FMTTYPE=image/jpeg:https://elarcdecalifornia.org/wp-content/uploads/2023/10/Unknown.jpeg
END:VEVENT
END:VCALENDAR